Uber Exif Photo
Make : Canon
Camera Model Name : Canon EOS 5D Mark II
Software : Adobe Photoshop Lightroom 5.7 (Windows)
Modify Date : 2014:12:12 23:24:45
Exposure Time : 1/640
F Number : 1.4
Exposure Program : Manual
ISO : 100
Date/Time Original : 2014:09:20 17:09:12
Create Date : 2014:09:20 17:09:12
Shutter Speed Value : 1/640
Aperture Value : 1.4
Exposure Compensation : 0
Max Aperture Value : 1.4
Metering Mode : Multi-segment
Flash : Off, Did not fire
Focal Length : 85.0 mm
Color Space : sRGB
Custom Rendered : Normal
Exposure Mode : Manual
White Balance : Auto
Scene Capture Type : Standard
Serial Number : 3531722583
Lens Info : 85mm f/?
Lens Model : Zeiss Planar T* 1.4/85 ZE
Profile Description : sRGB IEC61966-2.1
Firmware : 2.1.2
Flash Compensation : 0
Image Number : 0
Lens : Zeiss Planar T* 1.4/85 ZE
Format : image/jpeg
Saturation : High
Sharpness : Hard
Date Created : 2014:09:20 17:09:12.07
Creator Tool : Adobe Photoshop Lightroom 5.7 (Windows)
Rating : 2
Already Applied : True
Blue Hue : 0
Blue Saturation : 0
Camera Profile : Adobe Standard
Color Noise Reduction : 25
Color Noise Reduction Detail : 50
Convert To Grayscale : False
Grain Amount : 0
Green Hue : 0
Green Saturation : 0
Has Crop : False
Has Settings : True
Hue Adjustment Aqua : 0
Hue Adjustment Blue : 0
Hue Adjustment Green : 0
Hue Adjustment Magenta : 0
Hue Adjustment Orange : 0
Hue Adjustment Purple : 0
Hue Adjustment Red : 0
Hue Adjustment Yellow : 0
Lens Manual Distortion Amount : 0
Lens Profile Chromatic Aberration Scale : 100
Lens Profile Distortion Scale : 100
Lens Profile Enable : 1
Lens Profile Filename : Canon (Zeiss Planar T 85 f14 ZE).lcp
Lens Profile Name : Adobe (Zeiss Planar T* 1,4/85 ZE)
Lens Profile Setup : LensDefaults
Lens Profile Vignetting Scale : 100
Luminance Adjustment Aqua : 0
Luminance Adjustment Blue : 0
Luminance Adjustment Green : 0
Luminance Adjustment Magenta : 0
Luminance Adjustment Orange : 0
Luminance Adjustment Purple : 0
Luminance Adjustment Red : 0
Luminance Adjustment Yellow : 0
Luminance Smoothing : 0
Parametric Darks : 0
Parametric Highlight Split : 75
Parametric Highlights : 0
Parametric Lights : 0
Parametric Midtone Split : 50
Parametric Shadow Split : 25
Parametric Shadows : 0
Perspective Horizontal : 0
Perspective Rotate : 0.0
Perspective Scale : 100
Perspective Vertical : 0
Post Crop Vignette Amount : -15
Post Crop Vignette Feather : 50
Post Crop Vignette Midpoint : 50
Post Crop Vignette Roundness : 0
Post Crop Vignette Style : Highlight Priority
Process Version : 6.7
Red Hue : 0
Red Saturation : 0
Saturation Adjustment Aqua : 0
Saturation Adjustment Blue : 0
Saturation Adjustment Green : 0
Saturation Adjustment Magenta : 0
Saturation Adjustment Orange : 0
Saturation Adjustment Purple : 0
Saturation Adjustment Red : 0
Saturation Adjustment Yellow : 0
Shadow Tint : 0
Sharpen Detail : 35
Sharpen Edge Masking : 50
Sharpen Radius : +0.6
Split Toning Balance : 0
Split Toning Highlight Hue : 0
Split Toning Highlight Saturation : 0
Split Toning Shadow Hue : 0
Split Toning Shadow Saturation : 0
Color Temperature : 4400
Tint : +11
Tone Curve : 0, 0, 255, 255
Tone Curve Name : Linear
Version : 8.7
Vibrance : +8
Vignette Amount : 0
Image Width : 300
Image Height : 210
Bits Per Sample : 8
Color Components : 3
Aperture : 1.4
Image Size : 300x210
Megapixels : 0.063
Scale Factor To 35 mm Equivalent : 18.0
Shutter Speed : 1/640
Create Date : 2014:09:20 17:09:12.07
Date/Time Original : 2014:09:20 17:09:12.07
Circle Of Confusion : 0.002 mm
Field Of View : 1.3 deg
Focal Length : 85.0 mm (35 mm equivalent: 1529.5 mm)
Hyperfocal Distance : 3090.61 m
Light Value : 10.3
Lens ID : Unknown (33) 85mm