Uber Exif Photo
Keywords : Road Trip, Wedding
Make : NIKON CORPORATION
Camera Model Name : NIKON D800
Software : Adobe Photoshop Lightroom 5.3 (Windows)
Modify Date : 2014:09:17 11:09:55
Exposure Time : 1/10
F Number : 22.0
Exposure Program : Aperture-priority AE
ISO : 100
Sensitivity Type : Recommended Exposure Index
Date/Time Original : 2014:09:06 13:11:27
Create Date : 2014:09:06 13:11:27
Shutter Speed Value : 1/10
Aperture Value : 22.0
Exposure Compensation : 0
Max Aperture Value : 2.0
Metering Mode : Multi-segment
Light Source : Unknown
Flash : Off, Did not fire
Focal Length : 28.0 mm
Sensing Method : One-chip color area
Scene Type : Directly photographed
CFA Pattern : [Red,Green][Green,Blue]
Custom Rendered : Normal
Exposure Mode : Auto
White Balance : Auto
Digital Zoom Ratio : 1
Focal Length In 35mm Format : 28 mm
Scene Capture Type : Standard
Gain Control : None
Contrast : Normal
Saturation : Normal
Sharpness : Hard
Subject Distance Range : Unknown
Serial Number : 3018647
Lens Info : 28mm f/2
Lens Model : Zeiss Distagon T* 2/28 ZF.2
Creator Tool : Adobe Photoshop Lightroom 5.3 (Windows)
Rating : 1
Lens : Zeiss Distagon T* 2/28 ZF.2
Image Number : 13927
Date Created : 2014:09:06 13:11:27.20
Format : image/jpeg
Version : 8.3
Process Version : 6.7
Auto White Version : 134348800
Color Temperature : 5000
Tint : +13
Luminance Smoothing : 24
Color Noise Reduction : 25
Vignette Amount : 0
Shadow Tint : 0
Red Hue : 0
Red Saturation : 0
Green Hue : 0
Green Saturation : 0
Blue Hue : 0
Blue Saturation : 0
Gray Mixer Red : -38
Gray Mixer Orange : -7
Gray Mixer Yellow : -53
Gray Mixer Green : -49
Gray Mixer Aqua : +42
Gray Mixer Blue : +2
Gray Mixer Purple : -96
Gray Mixer Magenta : -49
Split Toning Shadow Hue : 0
Split Toning Shadow Saturation : 0
Split Toning Highlight Hue : 0
Split Toning Highlight Saturation : 0
Split Toning Balance : 0
Parametric Shadows : -22
Parametric Darks : +20
Parametric Lights : +1
Parametric Highlights : +5
Parametric Shadow Split : 17
Parametric Midtone Split : 40
Parametric Highlight Split : 86
Sharpen Radius : +1.4
Sharpen Detail : 25
Sharpen Edge Masking : 11
Post Crop Vignette Amount : 0
Grain Amount : 0
Luminance Noise Reduction Detail : 50
Color Noise Reduction Detail : 50
Luminance Noise Reduction Contrast : 0
Color Noise Reduction Smoothness : 50
Lens Profile Enable : 1
Lens Manual Distortion Amount : 0
Perspective Vertical : 0
Perspective Horizontal : 0
Perspective Rotate : 0.0
Perspective Scale : 100
Perspective Aspect : 0
Perspective Upright : Off
Auto Lateral CA : 1
Exposure 2012 : -1.67
Contrast 2012 : 0
Highlights 2012 : 0
Shadows 2012 : 0
Whites 2012 : +33
Blacks 2012 : 0
Clarity 2012 : 0
Convert To Grayscale : True
Tone Curve Name 2012 : Linear
Camera Profile : Adobe Standard
Lens Profile Setup : LensDefaults
Lens Profile Name : Adobe (Zeiss Distagon T* 2/28 ZF.2)
Lens Profile Filename : NIKON CORPORATION (Zeiss Distagon T 2-28 ZF.2).lcp
Lens Profile Distortion Scale : 100
Lens Profile Chromatic Aberration Scale : 100
Lens Profile Vignetting Scale : 100
Has Settings : True
Has Crop : False
Already Applied : True
Subject : Road Trip, Wedding
Tone Curve PV2012 : 0, 0, 255, 255
Tone Curve PV2012 Red : 0, 0, 255, 255
Tone Curve PV2012 Green : 0, 0, 255, 255
Tone Curve PV2012 Blue : 0, 0, 255, 255
Paint Correction What : Correction
Paint Correction Amount : 1.000000
Paint Correction Active : true
Paint Correction Saturation : 0.000000
Paint Correction Sharpness : 0.642860
Paint Correction Brightness : 0.000000
Paint Correction Toning Hue : 9.000000
Paint Correction Toning Saturation : 0.000000
Paint Correction Exposure 2012 : -0.119000
Paint Correction Contrast 2012 : 0.404760
Paint Correction Highlights 2012 : -1.000000
Paint Correction Shadows 2012 : -0.214290
Paint Correction Clarity 2012 : 0.000000
Paint Correction Luminance Noise : 0.000000
Paint Correction Moire : 0.000000
Paint Correction Defringe : 0.000000
Paint Correction Temperature : 0.000000
Paint Correction Tint : 0.000000
Paint Correction Mask What : Mask/Paint
Paint Correction Mask Value : 1.000000
Paint Correction Mask Radius : 0.108245
Paint Correction Mask Flow : 0.459000
Paint Correction Mask Center Weight : 0.000000
Image Width : 300
Image Height : 200
Bits Per Sample : 8
Color Components : 1
Aperture : 22.0
Image Size : 300x200
Megapixels : 0.060
Scale Factor To 35 mm Equivalent : 1.0
Shutter Speed : 1/10
Create Date : 2014:09:06 13:11:27.20
Date/Time Original : 2014:09:06 13:11:27.20
Circle Of Confusion : 0.030 mm
Field Of View : 65.5 deg
Focal Length : 28.0 mm (35 mm equivalent: 28.0 mm)
Hyperfocal Distance : 1.19 m
Light Value : 12.2