Uber Exif Photo
By-line : Darron Spohn
By-line Title : Owner
Object Name : Stretch
Sub-location : Dewitt's house
Province-State : TX
Keywords : dewitt, super bowl
Copyright Notice : © 2013 Darron Spohn
Copyright Flag : True
Photometric Interpretation : RGB
Make : SONY
Camera Model Name : DSC-RX100
Orientation : Horizontal (normal)
Samples Per Pixel : 3
Planar Configuration : Chunky
Software : Adobe Photoshop CS6 (Macintosh)
Modify Date : 2013:02:23 19:14:25
Artist : Darron Spohn
Copyright : © 2013 Darron Spohn
Exposure Time : 1/320
F Number : 5.6
Exposure Program : Program AE
ISO : 400
Sensitivity Type : Recommended Exposure Index
Recommended Exposure Index : 400
Date/Time Original : 2013:02:03 15:48:15
Create Date : 2013:02:03 15:48:15
Shutter Speed Value : 1/320
Aperture Value : 5.6
Brightness Value : 6.7359375
Exposure Compensation : -0.3
Max Aperture Value : 4.9
Metering Mode : Multi-segment
Light Source : Unknown
Flash : Off, Did not fire
Focal Length : 37.1 mm
Color Space : sRGB
Exif Image Width : 635
Exif Image Height : 930
Scene Type : Directly photographed
Custom Rendered : Normal
Exposure Mode : Auto
White Balance : Auto
Digital Zoom Ratio : 1
Focal Length In 35mm Format : 100 mm
Scene Capture Type : Standard
Contrast : Normal
Saturation : Normal
Sharpness : Normal
Lens Info : 10.4-37.1mm f/1.8-4.9
Lens Model : 28-100mm F1.8-4.9
Creator Tool : Adobe Photoshop CS6 (Macintosh)
Lens : 28-100mm F1.8-4.9
Date Created : 2013:02:03 15:48:15
Authors Position : Owner
State : TX
City : Austin
Color Mode : RGB
ICC Profile Name : sRGB IEC61966-2.1
Format : image/jpeg
Marked : True
Location : Dewitt's house
PLUS Version : 1.2.0
Version : 7.3
Process Version : 6.7
Color Temperature : 4950
Tint : +3
Luminance Smoothing : 0
Color Noise Reduction : 25
Vignette Amount : 0
Shadow Tint : 0
Red Hue : 0
Red Saturation : 0
Green Hue : 0
Green Saturation : 0
Blue Hue : 0
Blue Saturation : 0
Gray Mixer Red : +63
Gray Mixer Orange : +31
Gray Mixer Yellow : +33
Gray Mixer Green : +13
Gray Mixer Aqua : -38
Gray Mixer Blue : -17
Gray Mixer Purple : +12
Gray Mixer Magenta : +27
Split Toning Shadow Hue : 0
Split Toning Shadow Saturation : 0
Split Toning Highlight Hue : 0
Split Toning Highlight Saturation : 0
Split Toning Balance : 0
Parametric Shadows : 0
Parametric Darks : -18
Parametric Lights : +10
Parametric Highlights : -10
Parametric Shadow Split : 25
Parametric Midtone Split : 50
Parametric Highlight Split : 75
Sharpen Radius : +1.0
Sharpen Detail : 25
Sharpen Edge Masking : 0
Post Crop Vignette Amount : 0
Grain Amount : 0
Color Noise Reduction Detail : 50
Lens Profile Enable : 0
Lens Manual Distortion Amount : 0
Perspective Vertical : 0
Perspective Horizontal : 0
Perspective Rotate : 0.0
Perspective Scale : 100
Auto Lateral CA : 0
Exposure 2012 : 0.00
Contrast 2012 : 0
Highlights 2012 : 0
Shadows 2012 : 0
Whites 2012 : 0
Blacks 2012 : 0
Clarity 2012 : +15
Convert To Grayscale : True
Tone Curve Name 2012 : Linear
Camera Profile : Adobe Standard
Lens Profile Setup : LensDefaults
Has Settings : True
Has Crop : False
Already Applied : True
Creator : Darron Spohn
Rights : © 2013 Darron Spohn
Subject : dewitt, super bowl
Title : Stretch
Usage Terms : all rights reserved
Creator Postal Code : 78681
Creator Work Telephone : 512.246.2107
Creator Region : Texas
Creator Country : USA
Creator Work Email : darron@lightcraftsman.com
Creator City : Round Rock
Creator Address : 3304 Cantera Way
Creator Work URL : http://www.lightcraftsman.com
Tone Curve PV2012 : 0, 0, 255, 255
Tone Curve PV2012 Red : 0, 0, 255, 255
Tone Curve PV2012 Green : 0, 0, 255, 255
Tone Curve PV2012 Blue : 0, 0, 255, 255
Paint Correction What : Correction
Paint Correction Amount : 1.000000
Paint Correction Active : true
Paint Correction Saturation : 0.000000
Paint Correction Sharpness : 0.000000
Paint Correction Brightness : 0.000000
Paint Correction Toning Hue : 0.000000
Paint Correction Toning Saturation : 0.000000
Paint Correction Exposure 2012 : -0.062500
Paint Correction Contrast 2012 : 0.000000
Paint Correction Highlights 2012 : -0.500000
Paint Correction Shadows 2012 : 0.000000
Paint Correction Clarity 2012 : 0.250000
Paint Correction Luminance Noise : 0.000000
Paint Correction Moire : 0.000000
Paint Correction Defringe : 0.000000
Paint Correction Temperature : 0.000000
Paint Correction Tint : 0.000000
Paint Correction Mask What : Mask/Paint
Paint Correction Mask Value : 1.000000
Paint Correction Mask Radius : 0.103643
Paint Correction Mask Flow : 1.000000
Paint Correction Mask Center Weight : 0.000000
Image Width : 205
Image Height : 300
Bits Per Sample : 8
Color Components : 1
Aperture : 5.6
Image Size : 205x300
Megapixels : 0.061
Scale Factor To 35 mm Equivalent : 2.7
Shutter Speed : 1/320
Circle Of Confusion : 0.011 mm
Field Of View : 20.4 deg
Focal Length : 37.1 mm (35 mm equivalent: 100.0 mm)
Hyperfocal Distance : 22.05 m
Light Value : 11.3
Lens ID : 28-100mm F1.8-4.9