Uber Exif Photo
By-line : Darron Spohn
By-line Title : Owner
Copyright Notice : © 2012 Darron Spohn
Copyright Flag : True
Photometric Interpretation : RGB
Make : LinoHell
Camera Model Name : TANGO Scanner
Orientation : Horizontal (normal)
Samples Per Pixel : 3
Software : Adobe Photoshop CS6 (Macintosh)
Modify Date : 2013:02:16 20:12:15
Artist : Darron Spohn
Copyright : © 2012 Darron Spohn
Create Date : 2012:12:13 09:29:40
Color Space : sRGB
Exif Image Width : 930
Exif Image Height : 839
Profile Description : sRGB IEC61966-2.1
Creator Tool : Adobe Photoshop CS6 (Macintosh)
Rating : 5
Format : image/jpeg
Authors Position : Owner
Color Mode : RGB
ICC Profile Name : sRGB IEC61966-2.1
Marked : True
Raw File Name : tunnelview_fog.dng
Version : 7.3
Process Version : 6.7
White Balance : As Shot
Incremental Temperature : 0
Incremental Tint : 0
Sharpness : 25
Luminance Smoothing : 0
Color Noise Reduction : 0
Vignette Amount : 0
Shadow Tint : 0
Red Hue : 0
Red Saturation : 0
Green Hue : 0
Green Saturation : 0
Blue Hue : 0
Blue Saturation : 0
Gray Mixer Red : -13
Gray Mixer Orange : -24
Gray Mixer Yellow : -29
Gray Mixer Green : -31
Gray Mixer Aqua : -14
Gray Mixer Blue : +26
Gray Mixer Purple : +29
Gray Mixer Magenta : +9
Split Toning Shadow Hue : 0
Split Toning Shadow Saturation : 0
Split Toning Highlight Hue : 0
Split Toning Highlight Saturation : 0
Split Toning Balance : 0
Parametric Shadows : 0
Parametric Darks : 0
Parametric Lights : 0
Parametric Highlights : 0
Parametric Shadow Split : 25
Parametric Midtone Split : 50
Parametric Highlight Split : 75
Sharpen Radius : +1.0
Sharpen Detail : 25
Sharpen Edge Masking : 0
Post Crop Vignette Amount : -10
Post Crop Vignette Midpoint : 50
Post Crop Vignette Feather : 50
Post Crop Vignette Roundness : 0
Post Crop Vignette Style : Highlight Priority
Post Crop Vignette Highlight Contrast : 0
Grain Amount : 0
Lens Profile Enable : 0
Lens Manual Distortion Amount : 0
Perspective Vertical : 0
Perspective Horizontal : 0
Perspective Rotate : 0.0
Perspective Scale : 100
Auto Lateral CA : 0
Exposure 2012 : 0.00
Contrast 2012 : +50
Highlights 2012 : -75
Shadows 2012 : 0
Whites 2012 : 0
Blacks 2012 : 0
Clarity 2012 : +25
Convert To Grayscale : True
Tone Curve Name 2012 : Linear
Camera Profile : Embedded
Lens Profile Setup : LensDefaults
Has Settings : True
Has Crop : False
Already Applied : True
Creator : Darron Spohn
Rights : © 2012 Darron Spohn
Usage Terms : all rights reserved
Tone Curve PV2012 : 0, 0, 255, 255
Tone Curve PV2012 Red : 0, 0, 255, 255
Tone Curve PV2012 Green : 0, 0, 255, 255
Tone Curve PV2012 Blue : 0, 0, 255, 255
Creator Postal Code : 78681
Creator Work Telephone : 512.246.2107
Creator Region : Texas
Creator Country : USA
Creator Work Email : darron@lightcraftsman.com
Creator City : Round Rock
Creator Address : 3304 Cantera Way
Creator Work URL : http://www.lightcraftsman.com
Image Width : 300
Image Height : 271
Bits Per Sample : 8
Color Components : 3
Image Size : 300x271
Megapixels : 0.081