Uber Exif Photo
Make : NIKON CORPORATION
Camera Model Name : NIKON D800E
Software : Capture NX 2.3.0 W
Modify Date : 2013:03:11 18:27:53
Exposure Time : 1/320
F Number : 8.0
Exposure Program : Manual
ISO : 100
Sensitivity Type : Unknown
Date/Time Original : 2012:04:09 12:59:59
Create Date : 2012:04:09 12:59:59
Shutter Speed Value : 1/320
Aperture Value : 8.0
Exposure Compensation : 0
Max Aperture Value : 2.8
Subject Distance : 0.84 m
Metering Mode : Spot
Light Source : Unknown
Focal Length : 15.0 mm
Sensing Method : One-chip color area
Scene Type : Directly photographed
Custom Rendered : Normal
Exposure Mode : Manual
White Balance : Auto
Digital Zoom Ratio : 1
Focal Length In 35mm Format : 15 mm
Scene Capture Type : Standard
Gain Control : None
Contrast : Normal
Saturation : Normal
Sharpness : Normal
Subject Distance Range : Unknown
Lens Info : 15mm f/2.8
Lens Model : 15.0 mm f/2.8
Date/Time Digitized : 2012:04:09 12:59:59.50-04:00
Exif Image Width : 1200
Exif Image Height : 1074
Creator Tool : Adobe Photoshop Lightroom
Lens : 15.0 mm f/2.8
Image Number : 1726
Approximate Focus Distance : 0.84
Version : 6.2
Process Version : 5.7
Incremental Temperature : +2
Incremental Tint : 0
Exposure : 0.00
Shadows : 2
Brightness : 0
Luminance Smoothing : 0
Color Noise Reduction : 0
Chromatic Aberration R : 0
Chromatic Aberration B : 0
Vignette Amount : 0
Shadow Tint : 0
Red Hue : 0
Red Saturation : 0
Green Hue : 0
Green Saturation : 0
Blue Hue : 0
Blue Saturation : 0
Fill Light : 0
Highlight Recovery : 9
Clarity : +5
Defringe : 0
Gray Mixer Red : -9
Gray Mixer Orange : -17
Gray Mixer Yellow : -21
Gray Mixer Green : -26
Gray Mixer Aqua : -19
Gray Mixer Blue : +8
Gray Mixer Purple : +15
Gray Mixer Magenta : +4
Split Toning Shadow Hue : 0
Split Toning Shadow Saturation : 0
Split Toning Highlight Hue : 0
Split Toning Highlight Saturation : 0
Split Toning Balance : 0
Parametric Shadows : 0
Parametric Darks : 0
Parametric Lights : 0
Parametric Highlights : 0
Parametric Shadow Split : 25
Parametric Midtone Split : 50
Parametric Highlight Split : 75
Sharpen Radius : +1.5
Sharpen Detail : 25
Sharpen Edge Masking : 0
Post Crop Vignette Amount : 0
Grain Amount : 0
Lens Profile Enable : 0
Lens Manual Distortion Amount : 0
Perspective Vertical : 0
Perspective Horizontal : 0
Perspective Rotate : 0.0
Perspective Scale : 100
Convert To Grayscale : True
Tone Curve Name : Linear
Camera Profile : Embedded
Lens Profile Setup : LensDefaults
Has Settings : True
Crop Top : 0
Crop Left : 0.1584
Crop Bottom : 1
Crop Right : 0.904
Crop Angle : 0
Crop Constrain To Warp : 0
Crop Width : 1200
Crop Height : 1074
Crop Unit : pixels
Has Crop : True
Already Applied : True
Flash Fired : False
Flash Return : No return detection
Flash Mode : Off
Flash Function : False
Flash Red Eye Mode : False
Tone Curve : 0, 0, 255, 255
Image Width : 300
Image Height : 269
Bits Per Sample : 8
Color Components : 1
Aperture : 8.0
Image Size : 300x269
Megapixels : 0.081
Scale Factor To 35 mm Equivalent : 1.0
Shutter Speed : 1/320
Create Date : 2012:04:09 12:59:59.50
Date/Time Original : 2012:04:09 12:59:59.50
Flash : Off, Did not fire
Circle Of Confusion : 0.030 mm
Depth Of Field : 6.63 m (0.45 - 7.08 m)
Field Of View : 100.4 deg
Focal Length : 15.0 mm (35 mm equivalent: 15.0 mm)
Hyperfocal Distance : 0.94 m
Light Value : 14.3
Lens ID : Unknown (98) 15mm