Uber Exif Photo
Make : Canon
Camera Model Name : Canon EOS 500D
Orientation : Horizontal (normal)
Software : Adobe Photoshop CS6 (Windows)
Modify Date : 2013:03:05 20:31:15
Exposure Time : 1/320
F Number : 5.6
Exposure Program : Aperture-priority AE
ISO : 100
Date/Time Original : 2013:03:02 14:10:12
Create Date : 2013:03:02 14:10:12
Shutter Speed Value : 1/320
Aperture Value : 5.6
Exposure Compensation : 0
Max Aperture Value : 1.4
Metering Mode : Multi-segment
Flash : Off, Did not fire
Focal Length : 35.0 mm
Color Space : Uncalibrated
Exif Image Width : 4752
Exif Image Height : 3168
Custom Rendered : Normal
Exposure Mode : Auto
White Balance : Auto
Focal Length In 35mm Format : 53 mm
Scene Capture Type : Standard
Serial Number : 330150124
Lens Info : 35mm f/1.4
Lens Model : Carl Zeiss Distagon 1.4/35 C/Y
Profile Description : Adobe RGB (1998)
Firmware : 1.0.9
Flash Compensation : 0
Image Number : 0
Lens : 50-50mm
Format : image/jpeg
Color Mode : RGB
Date Created : 2013:03:02 14:10:12.004
ICC Profile Name : Adobe RGB (1998)
Rating : 0
Already Applied : True
Auto Lateral CA : 1
Blacks 2012 : 0
Blue Hue : 0
Blue Saturation : 0
Brightness : +50
Camera Profile : Adobe Standard
Clarity : 0
Clarity 2012 : +49
Color Noise Reduction : 25
Color Noise Reduction Detail : 50
Contrast : +25
Contrast 2012 : -18
Convert To Grayscale : False
Defringe : 0
Exposure : 0.00
Exposure 2012 : -1.70
Fill Light : 0
Grain Amount : 0
Green Hue : 0
Green Saturation : 0
Has Crop : False
Has Settings : True
Highlight Recovery : 0
Highlights 2012 : -22
Hue Adjustment Aqua : 0
Hue Adjustment Blue : 0
Hue Adjustment Green : 0
Hue Adjustment Magenta : 0
Hue Adjustment Orange : 0
Hue Adjustment Purple : 0
Hue Adjustment Red : 0
Hue Adjustment Yellow : 0
Lens Manual Distortion Amount : 0
Lens Profile Enable : 0
Lens Profile Setup : LensDefaults
Luminance Adjustment Aqua : 0
Luminance Adjustment Blue : 0
Luminance Adjustment Green : 0
Luminance Adjustment Magenta : 0
Luminance Adjustment Orange : 0
Luminance Adjustment Purple : 0
Luminance Adjustment Red : 0
Luminance Adjustment Yellow : 0
Luminance Noise Reduction Contrast : 0
Luminance Noise Reduction Detail : 50
Luminance Smoothing : 50
Parametric Darks : 0
Parametric Highlight Split : 75
Parametric Highlights : 0
Parametric Lights : 0
Parametric Midtone Split : 50
Parametric Shadow Split : 25
Parametric Shadows : 0
Perspective Horizontal : 0
Perspective Rotate : 0.0
Perspective Scale : 100
Perspective Vertical : 0
Post Crop Vignette Amount : 0
Process Version : 6.7
Raw File Name : IMG_6960.CR2
Red Hue : 0
Red Saturation : 0
Saturation : 0
Saturation Adjustment Aqua : 0
Saturation Adjustment Blue : 0
Saturation Adjustment Green : 0
Saturation Adjustment Magenta : 0
Saturation Adjustment Orange : 0
Saturation Adjustment Purple : 0
Saturation Adjustment Red : 0
Saturation Adjustment Yellow : 0
Shadow Tint : 0
Shadows : 5
Shadows 2012 : +22
Sharpen Detail : 25
Sharpen Edge Masking : 100
Sharpen Radius : +1.0
Sharpness : 25
Split Toning Balance : 0
Split Toning Highlight Hue : 0
Split Toning Highlight Saturation : 0
Split Toning Shadow Hue : 0
Split Toning Shadow Saturation : 0
Color Temperature : 5600
Tint : +6
Tone Curve : 0, 0, 32, 22, 64, 56, 128, 128, 192, 196, 255, 255
Tone Curve Blue : 0, 0, 255, 255
Tone Curve Green : 0, 0, 255, 255
Tone Curve Name : Medium Contrast
Tone Curve Name 2012 : Linear
Tone Curve PV2012 : 0, 0, 255, 255
Tone Curve PV2012 Blue : 0, 0, 255, 255
Tone Curve PV2012 Green : 0, 0, 255, 255
Tone Curve PV2012 Red : 0, 0, 255, 255
Tone Curve Red : 0, 0, 255, 255
Version : 7.0
Vibrance : 0
Vignette Amount : 0
Whites 2012 : +19
Image Width : 300
Image Height : 200
Bits Per Sample : 8
Color Components : 3
Aperture : 5.6
Image Size : 300x200
Megapixels : 0.060
Scale Factor To 35 mm Equivalent : 1.5
Shutter Speed : 1/320
Create Date : 2013:03:02 14:10:12.04
Date/Time Original : 2013:03:02 14:10:12.04
Modify Date : 2013:03:05 20:31:15.04
Circle Of Confusion : 0.020 mm
Field Of View : 37.5 deg
Focal Length : 35.0 mm (35 mm equivalent: 53.0 mm)
Hyperfocal Distance : 11.02 m
Light Value : 13.3
Lens ID : Canon EF 35-80mm f/4-5.6