Uber Exif Photo
By-line : Sikko Hoekstra
Copyright Notice : Sikko Hoekstra
Photometric Interpretation : RGB
Make : Canon
Camera Model Name : Canon EOS 5D Mark III
Orientation : Horizontal (normal)
Samples Per Pixel : 3
Software : Adobe Photoshop Elements 11.0 Windows
Modify Date : 2014:01:11 01:32:04
Artist : Sikko Hoekstra
Copyright : Sikko Hoekstra
Exposure Time : 1/60
F Number : 8.0
Exposure Program : Aperture-priority AE
ISO : 400
Date/Time Original : 2014:01:09 15:40:04
Create Date : 2014:01:09 15:40:04
Shutter Speed Value : 1/60
Aperture Value : 8.0
Metering Mode : Multi-segment
Flash : Off, Did not fire
Focal Length : 21.0 mm
Color Space : Uncalibrated
Exif Image Width : 5751
Exif Image Height : 3840
Custom Rendered : Normal
Exposure Mode : Auto bracket
White Balance : Auto
Scene Capture Type : Standard
Lens Model : 21mm
Profile Description : Adobe RGB (1998)
Lens : 21mm
Lens Info : 21mm f/?
Method : Tone Compressor
Brightness : 1.7
Contrast : 1.1
White Clip : 0.000000
Black Clip : 2.000000
Color Temperature : 0.0
Saturation : 0.0
Format : image/jpeg
Creator Tool : Adobe Photoshop Elements 11.0 Windows
Date Created : 2014:01:09 15:40:04
Color Mode : RGB
ICC Profile Name : Adobe RGB (1998)
Version : 8.3
Process Version : 6.7
Auto White Version : 134348800
Incremental Temperature : 0
Incremental Tint : 0
Sharpness : 39
Luminance Smoothing : 36
Color Noise Reduction : 0
Vignette Amount : 0
Shadow Tint : 0
Red Hue : 0
Red Saturation : 0
Green Hue : 0
Green Saturation : 0
Blue Hue : 0
Blue Saturation : 0
Vibrance : 0
Hue Adjustment Red : 0
Hue Adjustment Orange : 0
Hue Adjustment Yellow : 0
Hue Adjustment Green : 0
Hue Adjustment Aqua : 0
Hue Adjustment Blue : 0
Hue Adjustment Purple : 0
Hue Adjustment Magenta : 0
Saturation Adjustment Red : 0
Saturation Adjustment Orange : 0
Saturation Adjustment Yellow : 0
Saturation Adjustment Green : 0
Saturation Adjustment Aqua : 0
Saturation Adjustment Blue : 0
Saturation Adjustment Purple : 0
Saturation Adjustment Magenta : 0
Luminance Adjustment Red : 0
Luminance Adjustment Orange : 0
Luminance Adjustment Yellow : 0
Luminance Adjustment Green : 0
Luminance Adjustment Aqua : 0
Luminance Adjustment Blue : 0
Luminance Adjustment Purple : 0
Luminance Adjustment Magenta : 0
Split Toning Shadow Hue : 0
Split Toning Shadow Saturation : 0
Split Toning Highlight Hue : 0
Split Toning Highlight Saturation : 0
Split Toning Balance : 0
Parametric Shadows : 0
Parametric Darks : 0
Parametric Lights : 0
Parametric Highlights : 0
Parametric Shadow Split : 25
Parametric Midtone Split : 50
Parametric Highlight Split : 75
Sharpen Radius : +1.0
Sharpen Detail : 25
Sharpen Edge Masking : 0
Post Crop Vignette Amount : 0
Grain Amount : 0
Luminance Noise Reduction Detail : 50
Luminance Noise Reduction Contrast : 0
Lens Profile Enable : 1
Lens Manual Distortion Amount : 0
Perspective Vertical : 0
Perspective Horizontal : 0
Perspective Rotate : -1.6
Perspective Scale : 100
Perspective Aspect : 0
Perspective Upright : Auto
Auto Lateral CA : 1
Exposure 2012 : +0.16
Contrast 2012 : +14
Highlights 2012 : +23
Shadows 2012 : +2
Whites 2012 : -52
Blacks 2012 : +20
Clarity 2012 : 0
Defringe Purple Amount : 0
Defringe Purple Hue Lo : 30
Defringe Purple Hue Hi : 70
Defringe Green Amount : 0
Defringe Green Hue Lo : 40
Defringe Green Hue Hi : 60
Convert To Grayscale : False
Tone Curve Name 2012 : Linear
Camera Profile : Embedded
Lens Profile Setup : LensDefaults
Has Settings : True
Crop Top : 0
Crop Left : 0.0071
Crop Bottom : 0.9929
Crop Right : 1
Crop Angle : 0
Crop Constrain To Warp : 1
Has Crop : True
Already Applied : True
Creator : Sikko Hoekstra
Rights : Sikko Hoekstra
Tone Curve PV2012 : 0, 0, 255, 255
Tone Curve PV2012 Red : 0, 0, 255, 255
Tone Curve PV2012 Green : 0, 0, 255, 255
Tone Curve PV2012 Blue : 0, 0, 255, 255
Image Width : 300
Image Height : 200
Bits Per Sample : 8
Color Components : 3
Aperture : 8.0
Image Size : 300x200
Megapixels : 0.060
Scale Factor To 35 mm Equivalent : 1.0
Shutter Speed : 1/60
Create Date : 2014:01:09 15:40:04.00
Date/Time Original : 2014:01:09 15:40:04.00
Circle Of Confusion : 0.031 mm
Field Of View : 82.9 deg
Focal Length : 21.0 mm (35 mm equivalent: 20.4 mm)
Hyperfocal Distance : 1.78 m
Light Value : 9.9
Lens ID : 21mm