Uber Exif Photo
By-line : Sikko Hoekstra
Copyright Notice : Sikko Hoekstra
Make : Canon
Camera Model Name : Canon EOS 7D
Modify Date : 2011:04:23 20:21:31
Artist : Sikko Hoekstra
Copyright : Sikko Hoekstra
Exposure Time : 1/500
F Number : 5.0
Exposure Program : Aperture-priority AE
ISO : 100
Date/Time Original : 2011:04:23 17:59:11
Create Date : 2011:04:23 17:59:11
Shutter Speed Value : 1/500
Aperture Value : 5.0
Exposure Compensation : -1
Max Aperture Value : 1.4
Metering Mode : Multi-segment
Focal Length : 50.0 mm
Custom Rendered : Normal
Exposure Mode : Auto
White Balance : Auto
Scene Capture Type : Standard
Profile Description : sRGB IEC61966-2.1
Date/Time Digitized : 2011:04:23 17:59:11.00+02:00
Exif Image Width : 5184
Exif Image Height : 3456
Creator Tool : Adobe Photoshop Lightroom
Serial Number : 380319934
Lens Info : 50mm f/?
Lens : 50mm
Image Number : 0
Flash Compensation : 0
Firmware : 1.2.2
Version : 6.1
Process Version : 5.7
Color Temperature : 5050
Tint : +5
Exposure : +0.50
Shadows : 12
Brightness : +50
Contrast : +25
Saturation : 0
Sharpness : 25
Luminance Smoothing : 12
Color Noise Reduction : 25
Chromatic Aberration R : 0
Chromatic Aberration B : 0
Vignette Amount : 0
Shadow Tint : 0
Red Hue : 0
Red Saturation : 0
Green Hue : 0
Green Saturation : 0
Blue Hue : 0
Blue Saturation : 0
Fill Light : 16
Vibrance : 0
Highlight Recovery : 83
Clarity : 0
Defringe : 0
Hue Adjustment Red : 0
Hue Adjustment Orange : 0
Hue Adjustment Yellow : 0
Hue Adjustment Green : 0
Hue Adjustment Aqua : 0
Hue Adjustment Blue : 0
Hue Adjustment Purple : 0
Hue Adjustment Magenta : 0
Saturation Adjustment Red : 0
Saturation Adjustment Orange : 0
Saturation Adjustment Yellow : 0
Saturation Adjustment Green : 0
Saturation Adjustment Aqua : 0
Saturation Adjustment Blue : 0
Saturation Adjustment Purple : 0
Saturation Adjustment Magenta : 0
Luminance Adjustment Red : 0
Luminance Adjustment Orange : 0
Luminance Adjustment Yellow : 0
Luminance Adjustment Green : 0
Luminance Adjustment Aqua : 0
Luminance Adjustment Blue : 0
Luminance Adjustment Purple : 0
Luminance Adjustment Magenta : 0
Split Toning Shadow Hue : 0
Split Toning Shadow Saturation : 0
Split Toning Highlight Hue : 0
Split Toning Highlight Saturation : 0
Split Toning Balance : 0
Parametric Shadows : 0
Parametric Darks : -11
Parametric Lights : 0
Parametric Highlights : 0
Parametric Shadow Split : 25
Parametric Midtone Split : 50
Parametric Highlight Split : 75
Sharpen Radius : +1.0
Sharpen Detail : 25
Sharpen Edge Masking : 0
Post Crop Vignette Amount : 0
Grain Amount : 0
Luminance Noise Reduction Detail : 50
Color Noise Reduction Detail : 50
Luminance Noise Reduction Contrast : 16
Lens Profile Enable : 1
Lens Manual Distortion Amount : 0
Perspective Vertical : 0
Perspective Horizontal : 0
Perspective Rotate : 0.0
Perspective Scale : 100
Convert To Grayscale : False
Tone Curve Name : Medium Contrast
Camera Profile : Adobe Standard
Lens Profile Setup : LensDefaults
Lens Profile Name : Adobe (Zeiss Makro-Planar T* 2/50 ZE)
Lens Profile Filename : Canon (Zeiss Makro-Planar T 50 f2 ZE).lcp
Lens Profile Distortion Scale : 100
Lens Profile Chromatic Aberration Scale : 100
Lens Profile Vignetting Scale : 100
Has Settings : True
Has Crop : False
Already Applied : True
Flash Fired : False
Flash Return : No return detection
Flash Mode : Off
Flash Function : False
Flash Red Eye Mode : False
Creator : Sikko Hoekstra
Rights : Sikko Hoekstra
Tone Curve : 0, 0, 32, 22, 64, 56, 128, 128, 192, 196, 255, 255
Image Width : 300
Image Height : 200
Bits Per Sample : 8
Color Components : 3
Aperture : 5.0
Image Size : 300x200
Megapixels : 0.060
Scale Factor To 35 mm Equivalent : 1.6
Shutter Speed : 1/500
Create Date : 2011:04:23 17:59:11.00
Date/Time Original : 2011:04:23 17:59:11.00
Flash : Off, Did not fire
Circle Of Confusion : 0.019 mm
Field Of View : 25.8 deg
Focal Length : 50.0 mm (35 mm equivalent: 78.5 mm)
Hyperfocal Distance : 26.13 m
Light Value : 13.6
Lens ID : Carl Zeiss Planar T* 50mm f/1.4 ZE