Uber Exif Photo
By-line : Perry Wong
Keywords : Asia 2012
Make : Canon
Camera Model Name : Canon EOS 5D Mark III
Orientation : Horizontal (normal)
Software : Adobe Photoshop CS4 Macintosh
Modify Date : 2012:11:07 21:45:29
Artist : Perry Wong
Exposure Time : 1/10
F Number : 4.0
Exposure Program : Aperture-priority AE
ISO : 6400
Date/Time Original : 2012:10:01 15:00:17
Create Date : 2012:10:01 15:00:17
Shutter Speed Value : 1/10
Aperture Value : 4.0
Exposure Compensation : -1/3
Max Aperture Value : 3.5
Metering Mode : Multi-segment
Focal Length : 18.0 mm
Color Space : Uncalibrated
Exif Image Width : 1440
Exif Image Height : 960
Custom Rendered : Normal
Exposure Mode : Auto
White Balance : Auto
Scene Capture Type : Standard
Rating : 0
Label : Creator Tool : Adobe Photoshop Lightroom 4.1 (Macintosh)
Format : image/jpeg
Serial Number : 053024020376
Lens Info : 18mm f/?
Lens : Zeiss Distagon T* 3.5/18 ZE
Lens Serial Number : 0000000000
Image Number : 0
Flash Compensation : 0
Owner Name : Perry Wong
Firmware : 1.1.3
Date Created : 2012:10:01
Color Mode : RGB
ICC Profile Name : ProPhoto RGB
Sensitivity Type : 2
Recommended Exposure Index : 6400
Date/Time Digitized : 2012:10:01 15:00:17.00+02:00
DNG Version : 1.3
DNG Backward Version : 1.1
Camera Raw Compatibility : 2.4
Lightroom Compatibility : 1.0
Has Mosaic Data : False
Lossy Compression : False
Floating Point : False
Has Transparency : False
Image Length : 1920
Original Image Width : 2880
Original Image Length : 1920
Preview Width : 1024
Preview Length : 683
Has Fast Load Data : True
Original Raw File Name : MK3_0186.CR2
Has Embedded Original Raw File : False
Raw File Name : MK3_0186.dng
Version : 5.0
Color Temperature : 3950
Tint : +37
Exposure : 0.00
Shadows : 5
Brightness : +50
Contrast : +25
Saturation : 0
Sharpness : 25
Luminance Smoothing : 0
Color Noise Reduction : 25
Chromatic Aberration R : 0
Chromatic Aberration B : 0
Vignette Amount : 0
Shadow Tint : 0
Red Hue : 0
Red Saturation : 0
Green Hue : 0
Green Saturation : 0
Blue Hue : 0
Blue Saturation : 0
Fill Light : 0
Vibrance : 0
Highlight Recovery : 0
Clarity : 0
Defringe : 0
Hue Adjustment Red : 0
Hue Adjustment Orange : 0
Hue Adjustment Yellow : 0
Hue Adjustment Green : 0
Hue Adjustment Aqua : 0
Hue Adjustment Blue : 0
Hue Adjustment Purple : 0
Hue Adjustment Magenta : 0
Saturation Adjustment Red : 0
Saturation Adjustment Orange : 0
Saturation Adjustment Yellow : 0
Saturation Adjustment Green : 0
Saturation Adjustment Aqua : 0
Saturation Adjustment Blue : 0
Saturation Adjustment Purple : 0
Saturation Adjustment Magenta : 0
Luminance Adjustment Red : 0
Luminance Adjustment Orange : 0
Luminance Adjustment Yellow : 0
Luminance Adjustment Green : 0
Luminance Adjustment Aqua : 0
Luminance Adjustment Blue : 0
Luminance Adjustment Purple : 0
Luminance Adjustment Magenta : 0
Split Toning Shadow Hue : 0
Split Toning Shadow Saturation : 0
Split Toning Highlight Hue : 0
Split Toning Highlight Saturation : 0
Split Toning Balance : 0
Parametric Shadows : -5
Parametric Darks : -7
Parametric Lights : -15
Parametric Highlights : 0
Parametric Shadow Split : 26
Parametric Midtone Split : 52
Parametric Highlight Split : 90
Sharpen Radius : +1.0
Sharpen Detail : 25
Sharpen Edge Masking : 0
Post Crop Vignette Amount : 0
Convert To Grayscale : False
Tone Curve Name : Medium Contrast
Camera Profile : Adobe Standard
Has Settings : True
Crop Top : 0
Crop Left : 0
Crop Bottom : 1
Crop Right : 1
Crop Angle : 0
Has Crop : True
Already Applied : True
Creator : Perry Wong
Subject : Asia 2012
Flash Fired : False
Flash Return : No return detection
Flash Mode : Off
Flash Function : False
Flash Red Eye Mode : False
Hierarchical Subject : Asia 2012
Tone Curve : 0, 0, 32, 22, 64, 56, 128, 128, 192, 196, 255, 255
Image Width : 300
Image Height : 200
Bits Per Sample : 8
Color Components : 1
Aperture : 4.0
Image Size : 300x200
Megapixels : 0.060
Scale Factor To 35 mm Equivalent : 2.0
Shutter Speed : 1/10
Create Date : 2012:10:01 15:00:17.00
Date/Time Original : 2012:10:01 15:00:17.00
Flash : Off, Did not fire
Circle Of Confusion : 0.015 mm
Field Of View : 53.1 deg
Focal Length : 18.0 mm (35 mm equivalent: 36.0 mm)
Hyperfocal Distance : 5.39 m
Light Value : 1.3
Lens ID : Carl Zeiss Distagon T* 18mm f/3.5 ZE