Uber Exif Photo
By-line : H.Hackbarth
Copyright Notice : H.Hackbarth
Photometric Interpretation : RGB
Make : NIKON CORPORATION
Camera Model Name : NIKON D800E
Orientation : Horizontal (normal)
Samples Per Pixel : 3
Software : Adobe Photoshop CS6 (Windows)
Modify Date : 2012:09:30 19:48:19
Artist : H.Hackbarth
Copyright : H.Hackbarth
Exposure Time : 2
F Number : 6.3
Exposure Program : Aperture-priority AE
ISO : 100
Sensitivity Type : Recommended Exposure Index
Date/Time Original : 2012:07:19 22:18:25
Create Date : 2012:07:19 22:18:25
Shutter Speed Value : 2
Aperture Value : 6.3
Exposure Compensation : +1/3
Max Aperture Value : 2.8
Metering Mode : Multi-segment
Light Source : Unknown
Flash : Off, Did not fire
Focal Length : 15.0 mm
Color Space : sRGB
Exif Image Width : 1920
Exif Image Height : 1280
Sensing Method : One-chip color area
Scene Type : Directly photographed
CFA Pattern : [Red,Green][Green,Blue]
Custom Rendered : Custom
Exposure Mode : Auto
White Balance : Auto
Digital Zoom Ratio : 1
Focal Length In 35mm Format : 15 mm
Scene Capture Type : Standard
Gain Control : None
Contrast : Normal
Saturation : Normal
Sharpness : Normal
Subject Distance Range : Unknown
Serial Number : 6002991
Lens Info : 15mm f/2.8
Lens Model : Zeiss Distagon T* 2.8/15 ZF.2
Profile Description : sRGB IEC61966-2.1
Format : image/jpeg
Creator Tool : Adobe Photoshop CS6 (Windows)
Rating : 0
Lens : Zeiss Distagon T* 2.8/15 ZF.2
Image Number : 2040
Date Created : 2012:07:19 22:18:25.008
Color Mode : RGB
ICC Profile Name : sRGB IEC61966-2.1
Raw File Name : DSC_1621.NEF
Version : 7.1
Process Version : 6.7
Color Temperature : 3750
Tint : +15
Luminance Smoothing : 0
Color Noise Reduction : 25
Vignette Amount : -10
Vignette Midpoint : 50
Shadow Tint : 0
Red Hue : 0
Red Saturation : 0
Green Hue : 0
Green Saturation : 0
Blue Hue : 0
Blue Saturation : 0
Vibrance : +10
Hue Adjustment Red : 0
Hue Adjustment Orange : 0
Hue Adjustment Yellow : 0
Hue Adjustment Green : 0
Hue Adjustment Aqua : 0
Hue Adjustment Blue : 0
Hue Adjustment Purple : 0
Hue Adjustment Magenta : 0
Saturation Adjustment Red : 0
Saturation Adjustment Orange : 0
Saturation Adjustment Yellow : 0
Saturation Adjustment Green : 0
Saturation Adjustment Aqua : 0
Saturation Adjustment Blue : 0
Saturation Adjustment Purple : 0
Saturation Adjustment Magenta : 0
Luminance Adjustment Red : 0
Luminance Adjustment Orange : 0
Luminance Adjustment Yellow : 0
Luminance Adjustment Green : 0
Luminance Adjustment Aqua : 0
Luminance Adjustment Blue : 0
Luminance Adjustment Purple : 0
Luminance Adjustment Magenta : 0
Split Toning Shadow Hue : 0
Split Toning Shadow Saturation : 0
Split Toning Highlight Hue : 0
Split Toning Highlight Saturation : 0
Split Toning Balance : 0
Parametric Shadows : 0
Parametric Darks : 0
Parametric Lights : 0
Parametric Highlights : 0
Parametric Shadow Split : 25
Parametric Midtone Split : 50
Parametric Highlight Split : 75
Sharpen Radius : +1.2
Sharpen Detail : 35
Sharpen Edge Masking : 0
Post Crop Vignette Amount : 0
Grain Amount : 0
Color Noise Reduction Detail : 50
Lens Profile Enable : 1
Lens Manual Distortion Amount : 0
Perspective Vertical : 0
Perspective Horizontal : 0
Perspective Rotate : 0.0
Perspective Scale : 100
Auto Lateral CA : 1
Exposure 2012 : -0.10
Contrast 2012 : +20
Highlights 2012 : -10
Shadows 2012 : +20
Whites 2012 : 0
Blacks 2012 : 0
Clarity 2012 : +20
Defringe Purple Amount : 0
Defringe Purple Hue Lo : 30
Defringe Purple Hue Hi : 70
Defringe Green Amount : 0
Defringe Green Hue Lo : 40
Defringe Green Hue Hi : 60
Convert To Grayscale : False
Tone Curve Name 2012 : Linear
Camera Profile : Adobe Standard
Lens Profile Setup : LensDefaults
Lens Profile Name : Adobe (Zeiss Distagon T* 2,8/15 ZF.2)
Lens Profile Filename : NIKON CORPORATION (Zeiss Distagon T 2.8-15 ZF.2) - RAW.lcp
Lens Profile Distortion Scale : 100
Lens Profile Chromatic Aberration Scale : 100
Lens Profile Vignetting Scale : 100
Has Settings : True
Has Crop : False
Already Applied : True
Creator : H.Hackbarth
Rights : H.Hackbarth
Tone Curve PV2012 : 0, 0, 255, 255
Tone Curve PV2012 Red : 0, 0, 255, 255
Tone Curve PV2012 Green : 0, 0, 255, 255
Tone Curve PV2012 Blue : 0, 0, 255, 255
Image Width : 300
Image Height : 200
Bits Per Sample : 8
Color Components : 3
Aperture : 6.3
Image Size : 300x200
Megapixels : 0.060
Scale Factor To 35 mm Equivalent : 1.0
Shutter Speed : 2
Create Date : 2012:07:19 22:18:25.80
Date/Time Original : 2012:07:19 22:18:25.80
Modify Date : 2012:09:30 19:48:19.80
Circle Of Confusion : 0.030 mm
Field Of View : 100.4 deg
Focal Length : 15.0 mm (35 mm equivalent: 15.0 mm)
Hyperfocal Distance : 1.19 m
Light Value : 4.3