Uber Exif Photo
By-line : Ivan
Copyright Notice : tccin3D
Make : Canon
Camera Model Name : Canon EOS 60D
Orientation : Horizontal (normal)
Software : Adobe Photoshop CS6 (Windows)
Modify Date : 2013:12:20 23:34:00
Artist : Ivan
Copyright : tccin3D
Exposure Time : 1/400
F Number : 2.2
Exposure Program : Aperture-priority AE
ISO : 100
Sensitivity Type : Recommended Exposure Index
Recommended Exposure Index : 100
Date/Time Original : 2013:02:09 03:02:08
Create Date : 2013:02:09 03:02:08
Shutter Speed Value : 1/400
Aperture Value : 2.2
Exposure Compensation : 0
Max Aperture Value : 2.0
Metering Mode : Spot
Flash : Off, Did not fire
Focal Length : 100.0 mm
Color Space : sRGB
Exif Image Width : 1377
Exif Image Height : 1550
Custom Rendered : Normal
Exposure Mode : Auto
White Balance : Auto
Scene Capture Type : Standard
Serial Number : 0780401362
Lens Info : 100mm f/?
Lens Model : Zeiss Makro-Planar T* 2/100 ZE
Lens Serial Number : 0000000000
Profile Description : sRGB IEC61966-2.1
Rating : 0
Format : image/jpeg
Lens : Zeiss Makro-Planar T* 2/100 ZE
Image Number : 0
Flash Compensation : 0
Firmware : 1.1.1
Date Created : 2013:02:09 03:02:08.052
Color Mode : RGB
ICC Profile Name : sRGB IEC61966-2.1
Raw File Name : newtown moo guy.CR2
Version : 8.3
Process Version : 6.7
Auto White Version : 134348800
Color Temperature : 5300
Tint : +8
Saturation : -88
Sharpness : 19
Luminance Smoothing : 0
Color Noise Reduction : 0
Vignette Amount : -68
Vignette Midpoint : 50
Shadow Tint : 0
Red Hue : 0
Red Saturation : 0
Green Hue : 0
Green Saturation : 0
Blue Hue : 0
Blue Saturation : 0
Vibrance : +66
Hue Adjustment Red : 0
Hue Adjustment Orange : 0
Hue Adjustment Yellow : 0
Hue Adjustment Green : 0
Hue Adjustment Aqua : 0
Hue Adjustment Blue : 0
Hue Adjustment Purple : 0
Hue Adjustment Magenta : 0
Saturation Adjustment Red : +73
Saturation Adjustment Orange : +100
Saturation Adjustment Yellow : +23
Saturation Adjustment Green : -6
Saturation Adjustment Aqua : 0
Saturation Adjustment Blue : +2
Saturation Adjustment Purple : +2
Saturation Adjustment Magenta : +2
Luminance Adjustment Red : 0
Luminance Adjustment Orange : 0
Luminance Adjustment Yellow : 0
Luminance Adjustment Green : 0
Luminance Adjustment Aqua : 0
Luminance Adjustment Blue : 0
Luminance Adjustment Purple : 0
Luminance Adjustment Magenta : 0
Split Toning Shadow Hue : 222
Split Toning Shadow Saturation : 8
Split Toning Highlight Hue : 69
Split Toning Highlight Saturation : 38
Split Toning Balance : -88
Parametric Shadows : 0
Parametric Darks : 0
Parametric Lights : 0
Parametric Highlights : 0
Parametric Shadow Split : 25
Parametric Midtone Split : 50
Parametric Highlight Split : 75
Sharpen Radius : +1.0
Sharpen Detail : 25
Sharpen Edge Masking : 0
Post Crop Vignette Amount : -55
Post Crop Vignette Midpoint : 14
Post Crop Vignette Feather : 100
Post Crop Vignette Roundness : -83
Post Crop Vignette Style : Highlight Priority
Post Crop Vignette Highlight Contrast : 8
Grain Amount : 7
Grain Size : 25
Grain Frequency : 50
Lens Profile Enable : 1
Lens Manual Distortion Amount : 0
Perspective Vertical : 0
Perspective Horizontal : 0
Perspective Rotate : 0.0
Perspective Scale : 100
Perspective Aspect : 0
Perspective Upright : Off
Auto Lateral CA : 0
Exposure 2012 : +4.55
Contrast 2012 : -54
Highlights 2012 : +100
Shadows 2012 : -1
Whites 2012 : -100
Blacks 2012 : -73
Clarity 2012 : +78
Defringe Purple Amount : 0
Defringe Purple Hue Lo : 30
Defringe Purple Hue Hi : 70
Defringe Green Amount : 0
Defringe Green Hue Lo : 40
Defringe Green Hue Hi : 60
Convert To Grayscale : False
Tone Curve Name 2012 : Custom
Camera Profile : Adobe Standard
Lens Profile Setup : Custom
Lens Profile Name : Adobe (Zeiss Makro-Planar T* 2/100 ZE)
Lens Profile Filename : Canon (Zeiss Makro-Planar T 100 f2 ZE).lcp
Lens Profile Distortion Scale : 100
Lens Profile Chromatic Aberration Scale : 100
Lens Profile Vignetting Scale : 0
Has Settings : True
Crop Top : 0.026834
Crop Left : 0.06913
Crop Bottom : 1
Crop Right : 0.970203
Crop Angle : 0
Crop Constrain To Warp : 1
Has Crop : True
Already Applied : True
Creator : Ivan
Rights : tccin3D
Tone Curve PV2012 : 39, 34, 59, 54, 129, 168, 190, 218, 255, 255
Tone Curve PV2012 Red : 0, 0, 51, 46, 157, 154, 207, 208, 255, 255
Tone Curve PV2012 Green : 0, 0, 37, 33, 147, 146, 203, 209, 255, 255
Tone Curve PV2012 Blue : 0, 0, 30, 27, 153, 146, 217, 216, 255, 255
Image Width : 266
Image Height : 300
Bits Per Sample : 8
Color Components : 3
Aperture : 2.2
Image Size : 266x300
Megapixels : 0.080
Scale Factor To 35 mm Equivalent : 1.6
Shutter Speed : 1/400
Create Date : 2013:02:09 03:02:08.52
Date/Time Original : 2013:02:09 03:02:08.52
Modify Date : 2013:12:20 23:34:00.52
Circle Of Confusion : 0.019 mm
Field Of View : 13.1 deg
Focal Length : 100.0 mm (35 mm equivalent: 157.3 mm)
Hyperfocal Distance : 237.93 m
Light Value : 10.9
Lens ID : Carl Zeiss Makro-Planar T* 100mm f/2 ZE