Uber Exif Photo
By-line : Ivan Ana Rankovic
Copyright Notice : Copyright (C) Ivan&Ana Rankovic
Make : Canon
Camera Model Name : Canon EOS 60D
Software : Adobe Photoshop Lightroom 3.5 (Windows)
Modify Date : 2012:02:10 23:06:55
Artist : Ivan Ana Rankovic
Copyright : Copyright (C) Ivan&Ana Rankovic
Exposure Time : 1/200
F Number : 3.5
Exposure Program : Manual
ISO : 320
Sensitivity Type : Recommended Exposure Index
Recommended Exposure Index : 320
Date/Time Original : 2012:02:09 23:28:26
Create Date : 2012:02:09 23:28:26
Shutter Speed Value : 1/200
Aperture Value : 3.5
Exposure Compensation : 0
Max Aperture Value : 2.0
Metering Mode : Spot
Flash : Off, Did not fire
Focal Length : 100.0 mm
Custom Rendered : Normal
Exposure Mode : Manual
White Balance : Auto
Scene Capture Type : Standard
Serial Number : 0780401362
Lens Info : 100mm f/?
Lens Model : Zeiss Makro-Planar T* 2/100 ZE
Lens Serial Number : 0000000000
Profile Description : sRGB IEC61966-2.1
Creator Tool : Adobe Photoshop Lightroom 3.5 (Windows)
Lens : Zeiss Makro-Planar T* 2/100 ZE
Image Number : 0
Flash Compensation : 0
Firmware : 1.0.9
Date Created : 2012:02:09 23:28:26.00
Version : 6.5
Process Version : 5.7
Color Temperature : 4650
Tint : +4
Exposure : +0.69
Shadows : 9
Brightness : +50
Contrast : +19
Saturation : 0
Sharpness : 59
Luminance Smoothing : 24
Color Noise Reduction : 20
Chromatic Aberration R : 0
Chromatic Aberration B : 0
Vignette Amount : 0
Shadow Tint : 0
Red Hue : 0
Red Saturation : 0
Green Hue : 0
Green Saturation : 0
Blue Hue : 0
Blue Saturation : 0
Fill Light : 0
Vibrance : 0
Highlight Recovery : 3
Clarity : +3
Defringe : 0
Hue Adjustment Red : 0
Hue Adjustment Orange : 0
Hue Adjustment Yellow : 0
Hue Adjustment Green : 0
Hue Adjustment Aqua : 0
Hue Adjustment Blue : 0
Hue Adjustment Purple : 0
Hue Adjustment Magenta : 0
Saturation Adjustment Red : 0
Saturation Adjustment Orange : 0
Saturation Adjustment Yellow : 0
Saturation Adjustment Green : 0
Saturation Adjustment Aqua : 0
Saturation Adjustment Blue : 0
Saturation Adjustment Purple : 0
Saturation Adjustment Magenta : 0
Luminance Adjustment Red : 0
Luminance Adjustment Orange : 0
Luminance Adjustment Yellow : 0
Luminance Adjustment Green : 0
Luminance Adjustment Aqua : 0
Luminance Adjustment Blue : 0
Luminance Adjustment Purple : 0
Luminance Adjustment Magenta : 0
Split Toning Shadow Hue : 145
Split Toning Shadow Saturation : 1
Split Toning Highlight Hue : 145
Split Toning Highlight Saturation : 2
Split Toning Balance : -72
Parametric Shadows : 0
Parametric Darks : 0
Parametric Lights : 0
Parametric Highlights : 0
Parametric Shadow Split : 25
Parametric Midtone Split : 50
Parametric Highlight Split : 75
Sharpen Radius : +1.0
Sharpen Detail : 32
Sharpen Edge Masking : 25
Post Crop Vignette Amount : 0
Grain Amount : 0
Luminance Noise Reduction Detail : 41
Color Noise Reduction Detail : 50
Luminance Noise Reduction Contrast : 17
Lens Profile Enable : 1
Lens Manual Distortion Amount : 0
Perspective Vertical : 0
Perspective Horizontal : 0
Perspective Rotate : 0.0
Perspective Scale : 100
Convert To Grayscale : False
Tone Curve Name : Medium Contrast
Camera Profile : Adobe Standard
Lens Profile Setup : LensDefaults
Lens Profile Name : Adobe (Zeiss Makro-Planar T* 2/100 ZE)
Lens Profile Filename : Canon (Zeiss Makro-Planar T 100 f2 ZE).lcp
Lens Profile Distortion Scale : 100
Lens Profile Chromatic Aberration Scale : 100
Lens Profile Vignetting Scale : 100
Has Settings : True
Crop Top : 0.091911
Crop Left : 0.000055
Crop Bottom : 0.994155
Crop Right : 0.957669
Crop Angle : -0.233756
Crop Constrain To Warp : 0
Crop Width : 1024
Crop Height : 649
Crop Unit : pixels
Has Crop : True
Already Applied : True
Creator : Ivan Ana Rankovic
Rights : Copyright (C) Ivan&Ana Rankovic
Tone Curve : 0, 0, 32, 22, 64, 56, 128, 128, 192, 196, 255, 255
Gradient Based Corr What : Correction
Gradient Based Corr Amount : 1.000000
Gradient Based Corr Active : true
Gradient Based Corr Exposure : -0.097500
Gradient Based Corr Saturation : 0.658540
Gradient Based Corr Contrast : -0.024390
Gradient Based Corr Clarity : 0.000000
Gradient Based Corr Sharpness : 0.000000
Gradient Based Corr Brightness : -0.048780
Gradient Based Corr Toning Hue : 0.000000
Gradient Based Corr Toning Saturation : 0.000000
Gradient Based Corr Mask What : Mask/Gradient
Gradient Based Corr Mask Value : 1.000000
Gradient Based Corr Mask Zero X : 0.106957
Gradient Based Corr Mask Zero Y : 0.271949
Gradient Based Corr Mask Full X : 0.006282
Gradient Based Corr Mask Full Y : 0.095875
Image Width : 300
Image Height : 190
Bits Per Sample : 8
Color Components : 3
Aperture : 3.5
Image Size : 300x190
Megapixels : 0.057
Scale Factor To 35 mm Equivalent : 1.6
Shutter Speed : 1/200
Create Date : 2012:02:09 23:28:26.00
Date/Time Original : 2012:02:09 23:28:26.00
Circle Of Confusion : 0.019 mm
Field Of View : 13.1 deg
Focal Length : 100.0 mm (35 mm equivalent: 157.3 mm)
Hyperfocal Distance : 149.56 m
Light Value : 9.6
Lens ID : Carl Zeiss Makro-Planar T* 100mm f/2 ZE