Uber Exif Photo
By-line : Ivan Ana Rankovic
Copyright Notice : Copyright (C) Ivan&Ana Rankovic
Make : Canon
Camera Model Name : Canon EOS 60D
Software : Adobe Photoshop Lightroom 3.5 (Windows)
Modify Date : 2012:01:01 01:41:25
Artist : Ivan Ana Rankovic
Copyright : Copyright (C) Ivan&Ana Rankovic
Exposure Time : 1/60
F Number : 1.4
Exposure Program : Manual
ISO : 800
Sensitivity Type : Recommended Exposure Index
Recommended Exposure Index : 800
Date/Time Original : 2011:12:31 11:08:49
Create Date : 2011:12:31 11:08:49
Shutter Speed Value : 1/60
Aperture Value : 1.4
Exposure Compensation : 0
Max Aperture Value : 1.4
Metering Mode : Multi-segment
Flash : Off, Did not fire
Focal Length : 50.0 mm
Custom Rendered : Normal
Exposure Mode : Manual
White Balance : Auto
Scene Capture Type : Standard
Serial Number : 0780401362
Lens Info : 50mm f/?
Lens Model : 50-50mm
Lens Serial Number : 0000000000
Profile Description : sRGB IEC61966-2.1
Creator Tool : Adobe Photoshop Lightroom 3.5 (Windows)
Lens : 50-50mm
Image Number : 0
Flash Compensation : 0
Firmware : 1.0.9
Date Created : 2011:12:31 11:08:49.40
Version : 6.5
Process Version : 5.7
Color Temperature : 3150
Tint : -2
Exposure : -0.05
Shadows : 8
Brightness : +50
Contrast : +26
Saturation : 0
Sharpness : 59
Luminance Smoothing : 36
Color Noise Reduction : 25
Chromatic Aberration R : 0
Chromatic Aberration B : 0
Vignette Amount : 0
Shadow Tint : 0
Red Hue : 0
Red Saturation : 0
Green Hue : 0
Green Saturation : 0
Blue Hue : 0
Blue Saturation : 0
Fill Light : 3
Vibrance : 0
Highlight Recovery : 0
Clarity : -8
Defringe : 0
Hue Adjustment Red : 0
Hue Adjustment Orange : 0
Hue Adjustment Yellow : 0
Hue Adjustment Green : 0
Hue Adjustment Aqua : 0
Hue Adjustment Blue : 0
Hue Adjustment Purple : 0
Hue Adjustment Magenta : 0
Saturation Adjustment Red : 0
Saturation Adjustment Orange : 0
Saturation Adjustment Yellow : 0
Saturation Adjustment Green : 0
Saturation Adjustment Aqua : 0
Saturation Adjustment Blue : 0
Saturation Adjustment Purple : 0
Saturation Adjustment Magenta : 0
Luminance Adjustment Red : 0
Luminance Adjustment Orange : 0
Luminance Adjustment Yellow : 0
Luminance Adjustment Green : 0
Luminance Adjustment Aqua : 0
Luminance Adjustment Blue : 0
Luminance Adjustment Purple : 0
Luminance Adjustment Magenta : 0
Split Toning Shadow Hue : 0
Split Toning Shadow Saturation : 0
Split Toning Highlight Hue : 0
Split Toning Highlight Saturation : 0
Split Toning Balance : 0
Parametric Shadows : 0
Parametric Darks : 0
Parametric Lights : 0
Parametric Highlights : 0
Parametric Shadow Split : 25
Parametric Midtone Split : 50
Parametric Highlight Split : 75
Sharpen Radius : +1.0
Sharpen Detail : 11
Sharpen Edge Masking : 9
Post Crop Vignette Amount : 0
Grain Amount : 0
Luminance Noise Reduction Detail : 33
Color Noise Reduction Detail : 50
Luminance Noise Reduction Contrast : 9
Lens Profile Enable : 0
Lens Manual Distortion Amount : 0
Perspective Vertical : 0
Perspective Horizontal : 0
Perspective Rotate : 0.0
Perspective Scale : 100
Convert To Grayscale : False
Tone Curve Name : Custom
Camera Profile : Adobe Standard
Lens Profile Setup : LensDefaults
Has Settings : True
Crop Top : 0.007293
Crop Left : 0.020975
Crop Bottom : 0.992707
Crop Right : 0.979025
Crop Angle : 1.38288
Crop Constrain To Warp : 0
Crop Width : 1024
Crop Height : 666
Crop Unit : pixels
Has Crop : True
Already Applied : True
Creator : Ivan Ana Rankovic
Rights : Copyright (C) Ivan&Ana Rankovic
Tone Curve : 11, 0, 63, 57, 128, 128, 192, 196, 255, 255
Image Width : 195
Image Height : 300
Bits Per Sample : 8
Color Components : 3
Aperture : 1.4
Image Size : 195x300
Megapixels : 0.059
Scale Factor To 35 mm Equivalent : 1.6
Shutter Speed : 1/60
Create Date : 2011:12:31 11:08:49.40
Date/Time Original : 2011:12:31 11:08:49.40
Circle Of Confusion : 0.019 mm
Field Of View : 25.8 deg
Focal Length : 50.0 mm (35 mm equivalent: 78.6 mm)
Hyperfocal Distance : 93.47 m
Light Value : 3.9
Lens ID : Canon EF 35-80mm f/4-5.6