Uber Exif Photo
Make : SONY
Camera Model Name : SLT-A99
Software : Adobe Photoshop Lightroom 5.3 (Windows)
Modify Date : 2014:01:19 00:36:21
Exposure Time : 1/800
F Number : 4.0
Exposure Program : Aperture-priority AE
ISO : 100
Sensitivity Type : Recommended Exposure Index
Recommended Exposure Index : 100
Date/Time Original : 2013:11:02 16:59:40
Create Date : 2013:11:02 16:59:40
Shutter Speed Value : 1/800
Aperture Value : 4.0
Brightness Value : 9.43515625
Exposure Compensation : 0
Max Aperture Value : 1.4
Metering Mode : Center-weighted average
Light Source : Unknown
Flash : Off, Did not fire
Focal Length : 50.0 mm
Color Space : sRGB
Scene Type : Directly photographed
Custom Rendered : Normal
Exposure Mode : Auto
White Balance : Auto
Digital Zoom Ratio : 1
Focal Length In 35mm Format : 50 mm
Scene Capture Type : Standard
Contrast : Low
Saturation : Normal
Sharpness : Soft
Lens Info : 50mm f/1.4
Lens Model : 50mm F1.4 ZA SSM
Creator Tool : Adobe Photoshop Lightroom 5.3 (Windows)
Lens : 50mm F1.4 ZA SSM
Lens Distort Info : 33006/32768 -24257164/1073741824 -4414544/1073741824 2010183/1073741824
Date Created : 2013:11:02 16:59:40
Version : 8.3
Process Version : 6.7
Auto White Version : 134348800
Color Temperature : 5292
Tint : -99
Luminance Smoothing : 0
Color Noise Reduction : 10
Vignette Amount : -65
Vignette Midpoint : 49
Shadow Tint : 0
Red Hue : 0
Red Saturation : 0
Green Hue : 0
Green Saturation : 0
Blue Hue : 0
Blue Saturation : 0
Gray Mixer Red : +40
Gray Mixer Orange : +36
Gray Mixer Yellow : +36
Gray Mixer Green : +13
Gray Mixer Aqua : -15
Gray Mixer Blue : 0
Gray Mixer Purple : +12
Gray Mixer Magenta : +25
Split Toning Shadow Hue : 0
Split Toning Shadow Saturation : 0
Split Toning Highlight Hue : 0
Split Toning Highlight Saturation : 0
Split Toning Balance : 0
Parametric Shadows : +33
Parametric Darks : -24
Parametric Lights : -3
Parametric Highlights : +49
Parametric Shadow Split : 25
Parametric Midtone Split : 50
Parametric Highlight Split : 75
Sharpen Radius : +1.0
Sharpen Detail : 25
Sharpen Edge Masking : 0
Post Crop Vignette Amount : +11
Post Crop Vignette Midpoint : 51
Post Crop Vignette Feather : 50
Post Crop Vignette Roundness : 0
Post Crop Vignette Style : Highlight Priority
Grain Amount : 0
Color Noise Reduction Detail : 50
Color Noise Reduction Smoothness : 50
Lens Profile Enable : 0
Lens Manual Distortion Amount : 0
Perspective Vertical : 0
Perspective Horizontal : 0
Perspective Rotate : 0.0
Perspective Scale : 100
Perspective Aspect : 0
Perspective Upright : Off
Auto Lateral CA : 0
Exposure 2012 : +0.16
Contrast 2012 : +32
Highlights 2012 : 0
Shadows 2012 : 0
Whites 2012 : 0
Blacks 2012 : 0
Clarity 2012 : 0
Convert To Grayscale : True
Tone Curve Name 2012 : Custom
Camera Profile : Adobe Standard
Lens Profile Setup : LensDefaults
Has Settings : True
Has Crop : False
Already Applied : True
Format : image/jpeg
Tone Curve PV2012 : 0, 0, 56, 53, 162, 177, 255, 255
Tone Curve PV2012 Red : 0, 0, 255, 255
Tone Curve PV2012 Green : 0, 0, 255, 255
Tone Curve PV2012 Blue : 0, 0, 255, 255
Gradient Based Corr What : Correction
Gradient Based Corr Amount : 1.000000
Gradient Based Corr Active : true
Gradient Based Corr Saturation : 0.000000
Gradient Based Corr Sharpness : 0.000000
Gradient Based Corr Brightness : 0.000000
Gradient Based Corr Toning Hue : 20.000000
Gradient Based Corr Toning Saturation : 0.000000
Gradient Based Corr Exposure 2012 : -0.285000
Gradient Based Corr Contrast 2012 : 0.000000
Gradient Based Corr Highlights 2012 : 0.000000
Gradient Based Corr Shadows 2012 : 0.000000
Gradient Based Corr Clarity 2012 : 0.000000
Gradient Based Corr Luminance Noise : 0.000000
Gradient Based Corr Moire : 0.000000
Gradient Based Corr Defringe : 0.000000
Gradient Based Corr Temperature : 0.000000
Gradient Based Corr Tint : 0.000000
Gradient Based Corr Mask What : Mask/Gradient
Gradient Based Corr Mask Value : 1.000000
Gradient Based Corr Mask Zero X : 0.603667
Gradient Based Corr Mask Zero Y : 0.649736
Gradient Based Corr Mask Full X : 0.590973
Gradient Based Corr Mask Full Y : 0.031746
Image Width : 300
Image Height : 200
Bits Per Sample : 8
Color Components : 1
Aperture : 4.0
Image Size : 300x200
Megapixels : 0.060
Scale Factor To 35 mm Equivalent : 1.0
Shutter Speed : 1/800
Circle Of Confusion : 0.030 mm
Field Of View : 39.6 deg
Focal Length : 50.0 mm (35 mm equivalent: 50.0 mm)
Hyperfocal Distance : 20.80 m
Light Value : 13.6
Lens ID : Carl Zeiss Planar T* 50mm F1.4 ZA SSM (SAL50F14Z)