Uber Exif Photo
Make : SONY
Camera Model Name : SLT-A99
Software : Adobe Photoshop Lightroom 5.0 (Windows)
Modify Date : 2013:12:12 01:36:17
Exposure Time : 1/60
F Number : 2.0
Exposure Program : Aperture-priority AE
ISO : 1000
Sensitivity Type : Recommended Exposure Index
Recommended Exposure Index : 1000
Date/Time Original : 2013:12:11 16:19:40
Create Date : 2013:12:11 16:19:40
Shutter Speed Value : 1/60
Aperture Value : 2.0
Brightness Value : 0.04453125
Exposure Compensation : 0
Max Aperture Value : 2.0
Metering Mode : Center-weighted average
Light Source : Unknown
Flash : Off, Did not fire
Focal Length : 24.0 mm
Color Space : sRGB
Scene Type : Directly photographed
Custom Rendered : Normal
Exposure Mode : Auto
White Balance : Auto
Digital Zoom Ratio : 1
Focal Length In 35mm Format : 24 mm
Scene Capture Type : Standard
Contrast : Normal
Saturation : Normal
Sharpness : Normal
Lens Info : 24mm f/2
Lens Model : 24mm F2 ZA SSM
Profile Description : sRGB IEC61966-2.1
Creator Tool : Adobe Photoshop Lightroom 5.0 (Windows)
Lens : 24mm F2 ZA SSM
Date Created : 2013:12:11 16:19:40
Format : image/jpeg
Version : 8.3
Process Version : 6.7
Auto White Version : 134348800
Color Temperature : 6386
Tint : +1
Luminance Smoothing : 0
Color Noise Reduction : 25
Vignette Amount : 0
Shadow Tint : 0
Red Hue : 0
Red Saturation : 0
Green Hue : 0
Green Saturation : 0
Blue Hue : 0
Blue Saturation : +38
Gray Mixer Red : +25
Gray Mixer Orange : +30
Gray Mixer Yellow : 0
Gray Mixer Green : -30
Gray Mixer Aqua : -19
Gray Mixer Blue : +15
Gray Mixer Purple : +35
Gray Mixer Magenta : +30
Split Toning Shadow Hue : 38
Split Toning Shadow Saturation : 3
Split Toning Highlight Hue : 38
Split Toning Highlight Saturation : 3
Split Toning Balance : 0
Parametric Shadows : 0
Parametric Darks : -25
Parametric Lights : +15
Parametric Highlights : -10
Parametric Shadow Split : 12
Parametric Midtone Split : 30
Parametric Highlight Split : 75
Sharpen Radius : +0.8
Sharpen Detail : 25
Sharpen Edge Masking : 0
Post Crop Vignette Amount : -11
Post Crop Vignette Midpoint : 50
Post Crop Vignette Feather : 50
Post Crop Vignette Roundness : 0
Post Crop Vignette Style : Highlight Priority
Post Crop Vignette Highlight Contrast : 0
Grain Amount : 20
Grain Size : 26
Grain Frequency : 35
Color Noise Reduction Detail : 50
Color Noise Reduction Smoothness : 50
Lens Profile Enable : 0
Lens Manual Distortion Amount : 0
Perspective Vertical : 0
Perspective Horizontal : 0
Perspective Rotate : 0.0
Perspective Scale : 100
Perspective Aspect : 0
Perspective Upright : Off
Auto Lateral CA : 0
Exposure 2012 : +0.15
Contrast 2012 : +10
Highlights 2012 : -47
Shadows 2012 : +42
Whites 2012 : +17
Blacks 2012 : -11
Clarity 2012 : +4
Convert To Grayscale : True
Tone Curve Name 2012 : Custom
Camera Profile : Adobe Standard
Lens Profile Setup : LensDefaults
Has Settings : True
Crop Top : 0.010605
Crop Left : 0.021182
Crop Bottom : 0.989395
Crop Right : 0.978344
Crop Angle : 0.593352
Crop Constrain To Warp : 0
Has Crop : True
Already Applied : True
Tone Curve PV2012 : 0, 25, 39, 42, 109, 109, 216, 221, 255, 250
Tone Curve PV2012 Red : 0, 0, 255, 255
Tone Curve PV2012 Green : 0, 0, 255, 255
Tone Curve PV2012 Blue : 0, 0, 255, 255
Image Width : 300
Image Height : 200
Bits Per Sample : 8
Color Components : 3
Aperture : 2.0
Image Size : 300x200
Megapixels : 0.060
Scale Factor To 35 mm Equivalent : 1.0
Shutter Speed : 1/60
Circle Of Confusion : 0.030 mm
Field Of View : 73.7 deg
Focal Length : 24.0 mm (35 mm equivalent: 24.0 mm)
Hyperfocal Distance : 9.59 m
Light Value : 4.6
Lens ID : Carl Zeiss Distagon T* 24mm F2 ZA SSM (SAL24F20Z)