Uber Exif Photo
Make : SONY
Camera Model Name : DSLR-A850
Software : Adobe Photoshop Lightroom 4.4 (Windows)
Modify Date : 2013:07:05 16:20:40
Exposure Time : 1/320
F Number : 1.4
Exposure Program : Manual
ISO : 100
Date/Time Original : 2013:02:14 15:23:15
Create Date : 2013:02:14 15:23:15
Shutter Speed Value : 1/320
Aperture Value : 1.4
Brightness Value : 4.87
Exposure Compensation : 0
Max Aperture Value : 1.4
Metering Mode : Center-weighted average
Light Source : Unknown
Flash : Off, Did not fire
Focal Length : 85.0 mm
Scene Type : Directly photographed
Custom Rendered : Normal
Exposure Mode : Manual
White Balance : Manual
Focal Length In 35mm Format : 85 mm
Scene Capture Type : Standard
Contrast : Normal
Saturation : Normal
Sharpness : Normal
Lens Info : 85mm f/1.4
Lens Model : 85mm F1.4 ZA
Profile Description : sRGB IEC61966-2.1
Date Created : 2013:02:14 15:23:15+02:00
Creator Tool : Adobe Photoshop Lightroom 4.4 (Windows)
Rating : 1
Lens : 85mm F1.4 ZA
Version : 7.4
Process Version : 6.7
Color Temperature : 5801
Tint : +15
Luminance Smoothing : 0
Color Noise Reduction : 25
Vignette Amount : 0
Shadow Tint : -10
Red Hue : -4
Red Saturation : 0
Green Hue : 0
Green Saturation : 0
Blue Hue : 0
Blue Saturation : +32
Vibrance : -9
Hue Adjustment Red : +4
Hue Adjustment Orange : +7
Hue Adjustment Yellow : 0
Hue Adjustment Green : 0
Hue Adjustment Aqua : 0
Hue Adjustment Blue : -3
Hue Adjustment Purple : 0
Hue Adjustment Magenta : 0
Saturation Adjustment Red : -28
Saturation Adjustment Orange : -16
Saturation Adjustment Yellow : -14
Saturation Adjustment Green : -16
Saturation Adjustment Aqua : 0
Saturation Adjustment Blue : -5
Saturation Adjustment Purple : 0
Saturation Adjustment Magenta : 0
Luminance Adjustment Red : +11
Luminance Adjustment Orange : +15
Luminance Adjustment Yellow : 0
Luminance Adjustment Green : 0
Luminance Adjustment Aqua : 0
Luminance Adjustment Blue : 0
Luminance Adjustment Purple : 0
Luminance Adjustment Magenta : 0
Split Toning Shadow Hue : 217
Split Toning Shadow Saturation : 10
Split Toning Highlight Hue : 62
Split Toning Highlight Saturation : 25
Split Toning Balance : +19
Parametric Shadows : -32
Parametric Darks : +13
Parametric Lights : +3
Parametric Highlights : -10
Parametric Shadow Split : 10
Parametric Midtone Split : 54
Parametric Highlight Split : 90
Sharpen Radius : +1.5
Sharpen Detail : 18
Sharpen Edge Masking : 0
Post Crop Vignette Amount : -10
Post Crop Vignette Midpoint : 50
Post Crop Vignette Feather : 50
Post Crop Vignette Roundness : 0
Post Crop Vignette Style : Highlight Priority
Post Crop Vignette Highlight Contrast : 0
Grain Amount : 20
Grain Size : 29
Grain Frequency : 47
Color Noise Reduction Detail : 50
Lens Profile Enable : 0
Lens Manual Distortion Amount : 0
Perspective Vertical : 0
Perspective Horizontal : 0
Perspective Rotate : 0.0
Perspective Scale : 100
Auto Lateral CA : 1
Exposure 2012 : +0.09
Contrast 2012 : +5
Highlights 2012 : -35
Shadows 2012 : +18
Whites 2012 : +11
Blacks 2012 : +9
Clarity 2012 : +10
Defringe Purple Amount : 14
Defringe Purple Hue Lo : 49
Defringe Purple Hue Hi : 67
Defringe Green Amount : 5
Defringe Green Hue Lo : 41
Defringe Green Hue Hi : 58
Convert To Grayscale : False
Tone Curve Name 2012 : Custom
Camera Profile : Adobe Standard
Lens Profile Setup : LensDefaults
Has Settings : True
Crop Top : 0.121331
Crop Left : 0
Crop Bottom : 0.966969
Crop Right : 0.862281
Crop Angle : -0.513435
Crop Constrain To Warp : 0
Crop Width : 1000
Crop Height : 667
Crop Unit : pixels
Has Crop : True
Already Applied : True
Format : image/jpeg
Tone Curve PV2012 : 0, 44, 53, 55, 140, 151, 255, 241
Tone Curve PV2012 Red : 0, 0, 255, 255
Tone Curve PV2012 Green : 0, 0, 255, 255
Tone Curve PV2012 Blue : 0, 0, 255, 255
Paint Correction What : Correction
Paint Correction Amount : 1.000000
Paint Correction Active : true
Paint Correction Saturation : 0.150000
Paint Correction Sharpness : 0.040000
Paint Correction Brightness : 0.050000
Paint Correction Toning Hue : 46.000000
Paint Correction Toning Saturation : 0.000000
Paint Correction Exposure 2012 : 0.062500
Paint Correction Contrast 2012 : 0.030000
Paint Correction Highlights 2012 : 0.000000
Paint Correction Shadows 2012 : 0.000000
Paint Correction Clarity 2012 : 0.082930
Paint Correction Luminance Noise : 0.000000
Paint Correction Moire : 0.000000
Paint Correction Defringe : 0.000000
Paint Correction Temperature : 0.000000
Paint Correction Tint : 0.000000
Paint Correction Mask What : Mask/Paint
Paint Correction Mask Value : 1.000000
Paint Correction Mask Radius : 0.140688
Paint Correction Mask Flow : 1.000000
Paint Correction Mask Center Weight : 0.000000
Image Width : 300
Image Height : 200
Bits Per Sample : 8
Color Components : 3
Aperture : 1.4
Image Size : 300x200
Megapixels : 0.060
Scale Factor To 35 mm Equivalent : 1.0
Shutter Speed : 1/320
Circle Of Confusion : 0.030 mm
Field Of View : 23.9 deg
Focal Length : 85.0 mm (35 mm equivalent: 85.0 mm)
Hyperfocal Distance : 171.76 m
Light Value : 9.3
Lens ID : Carl Zeiss Planar T* 85mm F1.4 ZA (SAL85F14Z)