Uber Exif Photo
Make : SONY
Camera Model Name : DSLR-A850
Software : Adobe Photoshop Lightroom 4.4 (Windows)
Modify Date : 2013:07:06 01:39:06
Exposure Time : 1/250
F Number : 1.4
Exposure Program : Manual
ISO : 200
Date/Time Original : 2013:02:07 11:54:35
Create Date : 2013:02:07 11:54:35
Shutter Speed Value : 1/250
Aperture Value : 1.4
Brightness Value : 2.37
Exposure Compensation : 0
Max Aperture Value : 1.4
Metering Mode : Center-weighted average
Light Source : Unknown
Flash : Off, Did not fire
Focal Length : 85.0 mm
Scene Type : Directly photographed
Custom Rendered : Normal
Exposure Mode : Manual
White Balance : Manual
Focal Length In 35mm Format : 85 mm
Scene Capture Type : Standard
Contrast : Normal
Saturation : Normal
Sharpness : Normal
Lens Info : 85mm f/1.4
Lens Model : 85mm F1.4 ZA
Date Created : 2013:02:07 11:54:35+02:00
Creator Tool : Adobe Photoshop Lightroom 4.4 (Windows)
Rating : 1
Lens : 85mm F1.4 ZA
Version : 7.4
Process Version : 6.7
Color Temperature : 6550
Tint : +26
Luminance Smoothing : 0
Color Noise Reduction : 25
Vignette Amount : 0
Shadow Tint : +2
Red Hue : 0
Red Saturation : 0
Green Hue : 0
Green Saturation : 0
Blue Hue : 0
Blue Saturation : 0
Gray Mixer Red : -10
Gray Mixer Orange : -2
Gray Mixer Yellow : 0
Gray Mixer Green : -20
Gray Mixer Aqua : +25
Gray Mixer Blue : +5
Gray Mixer Purple : +30
Gray Mixer Magenta : +30
Split Toning Shadow Hue : 0
Split Toning Shadow Saturation : 0
Split Toning Highlight Hue : 0
Split Toning Highlight Saturation : 0
Split Toning Balance : 0
Parametric Shadows : +40
Parametric Darks : -59
Parametric Lights : +47
Parametric Highlights : -49
Parametric Shadow Split : 13
Parametric Midtone Split : 41
Parametric Highlight Split : 75
Sharpen Radius : +1.5
Sharpen Detail : 25
Sharpen Edge Masking : 0
Post Crop Vignette Amount : -4
Post Crop Vignette Midpoint : 50
Post Crop Vignette Feather : 50
Post Crop Vignette Roundness : 0
Post Crop Vignette Style : Highlight Priority
Post Crop Vignette Highlight Contrast : 0
Grain Amount : 55
Grain Size : 20
Grain Frequency : 45
Color Noise Reduction Detail : 50
Lens Profile Enable : 0
Lens Manual Distortion Amount : 0
Perspective Vertical : 0
Perspective Horizontal : 0
Perspective Rotate : 0.0
Perspective Scale : 100
Auto Lateral CA : 0
Exposure 2012 : 0.00
Contrast 2012 : +10
Highlights 2012 : -61
Shadows 2012 : +35
Whites 2012 : +20
Blacks 2012 : 0
Clarity 2012 : +6
Convert To Grayscale : True
Tone Curve Name 2012 : curve1
Camera Profile : Adobe Standard
Lens Profile Setup : LensDefaults
Has Settings : True
Crop Top : 0.03564
Crop Left : 0.016256
Crop Bottom : 0.96436
Crop Right : 0.996456
Crop Angle : -1.41137
Crop Constrain To Warp : 0
Crop Width : 1000
Crop Height : 667
Crop Unit : pixels
Has Crop : True
Already Applied : True
Format : image/jpeg
Tone Curve PV2012 : 0, 17, 32, 35, 64, 56, 130, 128, 197, 203, 255, 245
Tone Curve PV2012 Red : 0, 0, 255, 255
Tone Curve PV2012 Green : 0, 0, 255, 255
Tone Curve PV2012 Blue : 0, 0, 255, 255
Paint Correction What : Correction
Paint Correction Amount : 1.000000
Paint Correction Active : true
Paint Correction Saturation : -0.057780
Paint Correction Sharpness : 0.000000
Paint Correction Brightness : 0.031110
Paint Correction Toning Hue : 46.000000
Paint Correction Toning Saturation : 0.000000
Paint Correction Exposure 2012 : -0.052750
Paint Correction Contrast 2012 : 0.128890
Paint Correction Highlights 2012 : -0.520470
Paint Correction Shadows 2012 : 0.000000
Paint Correction Clarity 2012 : 0.000000
Paint Correction Luminance Noise : 0.000000
Paint Correction Moire : 0.000000
Paint Correction Defringe : 0.000000
Paint Correction Temperature : 0.000000
Paint Correction Tint : 0.000000
Paint Correction Mask What : Mask/Paint
Paint Correction Mask Value : 1.000000
Paint Correction Mask Radius : 0.014099
Paint Correction Mask Flow : 1.000000
Paint Correction Mask Center Weight : 0.000000
Image Width : 300
Image Height : 200
Bits Per Sample : 8
Color Components : 1
Aperture : 1.4
Image Size : 300x200
Megapixels : 0.060
Scale Factor To 35 mm Equivalent : 1.0
Shutter Speed : 1/250
Circle Of Confusion : 0.030 mm
Field Of View : 23.9 deg
Focal Length : 85.0 mm (35 mm equivalent: 85.0 mm)
Hyperfocal Distance : 171.76 m
Light Value : 7.9
Lens ID : Carl Zeiss Planar T* 85mm F1.4 ZA (SAL85F14Z)