Uber Exif Photo
Make : FUJIFILM
Camera Model Name : X-E1
Software : Adobe Photoshop Lightroom 4.4 (Macintosh)
Modify Date : 2013:05:26 04:38:09
Exposure Time : 1/340
F Number : 1.0
Exposure Program : Aperture-priority AE
ISO : 2000
Sensitivity Type : Standard Output Sensitivity
Date/Time Original : 2013:05:09 09:52:01
Create Date : 2013:05:09 09:52:01
Shutter Speed Value : 1/340
Aperture Value : 1.0
Brightness Value : -1.55
Exposure Compensation : -0.67
Metering Mode : Average
Light Source : Unknown
Flash : Off, Did not fire
Focal Length : 85.0 mm
Sensing Method : One-chip color area
Scene Type : Directly photographed
Custom Rendered : Normal
Exposure Mode : Auto
White Balance : Auto
Focal Length In 35mm Format : 128 mm
Scene Capture Type : Standard
Sharpness : Normal
Subject Distance Range : Unknown
Lens Info : 85mm f/?
Lens Model : 85.0 mm
Creator Tool : Adobe Photoshop Lightroom 4.4 (Macintosh)
Lens : 85.0 mm
Date Created : 2013:05:09 09:52:01
Format : image/jpeg
Version : 7.4
Process Version : 6.7
Incremental Temperature : 0
Incremental Tint : 0
Luminance Smoothing : 0
Color Noise Reduction : 25
Vignette Amount : 0
Shadow Tint : 0
Red Hue : 0
Red Saturation : 0
Green Hue : 0
Green Saturation : 0
Blue Hue : 0
Blue Saturation : 0
Gray Mixer Red : 0
Gray Mixer Orange : 0
Gray Mixer Yellow : 0
Gray Mixer Green : 0
Gray Mixer Aqua : 0
Gray Mixer Blue : 0
Gray Mixer Purple : 0
Gray Mixer Magenta : 0
Split Toning Shadow Hue : 0
Split Toning Shadow Saturation : 0
Split Toning Highlight Hue : 0
Split Toning Highlight Saturation : 0
Split Toning Balance : 0
Parametric Shadows : 0
Parametric Darks : 0
Parametric Lights : 0
Parametric Highlights : 0
Parametric Shadow Split : 25
Parametric Midtone Split : 50
Parametric Highlight Split : 75
Sharpen Radius : +1.0
Sharpen Detail : 25
Sharpen Edge Masking : 0
Post Crop Vignette Amount : -15
Post Crop Vignette Midpoint : 50
Post Crop Vignette Feather : 50
Post Crop Vignette Roundness : 0
Post Crop Vignette Style : Highlight Priority
Post Crop Vignette Highlight Contrast : 0
Grain Amount : 56
Grain Size : 38
Grain Frequency : 39
Color Noise Reduction Detail : 50
Lens Profile Enable : 0
Lens Manual Distortion Amount : 0
Perspective Vertical : 0
Perspective Horizontal : 0
Perspective Rotate : 0.0
Perspective Scale : 100
Auto Lateral CA : 0
Exposure 2012 : 0.00
Contrast 2012 : 0
Highlights 2012 : -50
Shadows 2012 : 0
Whites 2012 : 0
Blacks 2012 : 0
Clarity 2012 : 0
Convert To Grayscale : True
Tone Curve Name 2012 : Linear
Camera Profile : Embedded
Lens Profile Setup : LensDefaults
Has Settings : True
Crop Top : 0.032552
Crop Left : 0.078043
Crop Bottom : 0.650379
Crop Right : 0.74358
Crop Angle : 0
Crop Constrain To Warp : 0
Crop Width : 3258
Crop Height : 2017
Crop Unit : pixels
Has Crop : True
Already Applied : True
Tone Curve PV2012 : 0, 0, 255, 255
Tone Curve PV2012 Red : 0, 0, 255, 255
Tone Curve PV2012 Green : 0, 0, 255, 255
Tone Curve PV2012 Blue : 0, 0, 255, 255
Image Width : 186
Image Height : 300
Bits Per Sample : 8
Color Components : 1
Aperture : 1.0
Image Size : 186x300
Megapixels : 0.056
Scale Factor To 35 mm Equivalent : 1.5
Shutter Speed : 1/340
Circle Of Confusion : 0.020 mm
Field Of View : 16.0 deg
Focal Length : 85.0 mm (35 mm equivalent: 128.0 mm)
Hyperfocal Distance : 362.11 m
Light Value : 4.1
Lens ID : 85.0mm