Uber Exif Photo
Make : Canon
Camera Model Name : Canon EOS 5D Mark II
Orientation : Horizontal (normal)
Software : Adobe Photoshop CS6 (Windows)
Modify Date : 2012:09:05 20:40:09
Exposure Time : 1/200
F Number : 8.0
Exposure Program : Aperture-priority AE
ISO : 100
Date/Time Original : 2012:09:05 12:14:33
Create Date : 2012:09:05 12:14:33
Shutter Speed Value : 1/200
Aperture Value : 8.0
Exposure Compensation : -1
Max Aperture Value : 2.0
Metering Mode : Spot
Flash : Off, Did not fire
Focal Length : 35.0 mm
Color Space : Uncalibrated
Exif Image Width : 4830
Exif Image Height : 3622
Custom Rendered : Normal
Exposure Mode : Auto
White Balance : Manual
Scene Capture Type : Standard
Serial Number : 4061918517
Lens Info : 35mm f/?
Lens Model : Zeiss Distagon T* 2/35 ZE
Profile Description : Adobe RGB (1998)
Lens : Zeiss Distagon T* 2/35 ZE
Image Number : 0
Flash Compensation : 0
Firmware : 2.1.2
Rating : 0
Date Created : 2012:09:05 12:14:33.019
Color Mode : RGB
ICC Profile Name : Adobe RGB (1998)
Format : image/jpeg
Raw File Name : IMG_3313.CR2
Version : 7.1
Process Version : 6.7
Color Temperature : 6250
Tint : -1
Saturation : 0
Sharpness : 25
Luminance Smoothing : 0
Color Noise Reduction : 25
Vignette Amount : 0
Shadow Tint : 0
Red Hue : 0
Red Saturation : 0
Green Hue : 0
Green Saturation : 0
Blue Hue : 0
Blue Saturation : 0
Vibrance : +18
Hue Adjustment Red : 0
Hue Adjustment Orange : 0
Hue Adjustment Yellow : 0
Hue Adjustment Green : 0
Hue Adjustment Aqua : 0
Hue Adjustment Blue : 0
Hue Adjustment Purple : 0
Hue Adjustment Magenta : 0
Saturation Adjustment Red : 0
Saturation Adjustment Orange : 0
Saturation Adjustment Yellow : 0
Saturation Adjustment Green : 0
Saturation Adjustment Aqua : 0
Saturation Adjustment Blue : 0
Saturation Adjustment Purple : 0
Saturation Adjustment Magenta : 0
Luminance Adjustment Red : 0
Luminance Adjustment Orange : 0
Luminance Adjustment Yellow : 0
Luminance Adjustment Green : 0
Luminance Adjustment Aqua : 0
Luminance Adjustment Blue : 0
Luminance Adjustment Purple : 0
Luminance Adjustment Magenta : 0
Split Toning Shadow Hue : 0
Split Toning Shadow Saturation : 0
Split Toning Highlight Hue : 0
Split Toning Highlight Saturation : 0
Split Toning Balance : 0
Parametric Shadows : 0
Parametric Darks : 0
Parametric Lights : 0
Parametric Highlights : 0
Parametric Shadow Split : 25
Parametric Midtone Split : 50
Parametric Highlight Split : 75
Sharpen Radius : +1.0
Sharpen Detail : 25
Sharpen Edge Masking : 0
Post Crop Vignette Amount : 0
Grain Amount : 0
Color Noise Reduction Detail : 50
Lens Profile Enable : 0
Lens Manual Distortion Amount : 0
Perspective Vertical : 0
Perspective Horizontal : 0
Perspective Rotate : 0.0
Perspective Scale : 100
Auto Lateral CA : 0
Exposure 2012 : +0.25
Contrast 2012 : -23
Highlights 2012 : +13
Shadows 2012 : +2
Whites 2012 : +23
Blacks 2012 : +13
Clarity 2012 : +27
Defringe Purple Amount : 0
Defringe Purple Hue Lo : 30
Defringe Purple Hue Hi : 70
Defringe Green Amount : 0
Defringe Green Hue Lo : 40
Defringe Green Hue Hi : 60
Convert To Grayscale : False
Tone Curve Name 2012 : Linear
Camera Profile : Adobe Standard
Lens Profile Setup : LensDefaults
Has Settings : True
Crop Top : 0.032479
Crop Left : 0
Crop Bottom : 1
Crop Right : 0.860018
Crop Angle : 0
Crop Constrain To Warp : 1
Crop Width : 3
Crop Height : 4
Crop Unit : Unknown (3)
Has Crop : True
Already Applied : True
Tone Curve PV2012 : 0, 0, 255, 255
Tone Curve PV2012 Red : 0, 0, 255, 255
Tone Curve PV2012 Green : 0, 0, 255, 255
Tone Curve PV2012 Blue : 0, 0, 255, 255
Gradient Based Corr What : Correction
Gradient Based Corr Amount : 1.000000
Gradient Based Corr Active : true
Gradient Based Corr Exposure : 0.000000
Gradient Based Corr Saturation : 0.180000
Gradient Based Corr Contrast : 0.000000
Gradient Based Corr Clarity : 0.000000
Gradient Based Corr Sharpness : -0.660000
Gradient Based Corr Brightness : 0.000000
Gradient Based Corr Toning Hue : 0.000000
Gradient Based Corr Toning Saturation : 0.000000
Gradient Based Corr Exposure 2012 : 0.175000
Gradient Based Corr Contrast 2012 : -0.430000
Gradient Based Corr Highlights 2012 : -0.710000
Gradient Based Corr Shadows 2012 : 0.440000
Gradient Based Corr Clarity 2012 : 0.530000
Gradient Based Corr Luminance Noise : 0.900000
Gradient Based Corr Moire : 0.000000
Gradient Based Corr Defringe : 0.000000
Gradient Based Corr Temperature : -0.140000
Gradient Based Corr Tint : 0.350000
Gradient Based Corr Mask What : Mask/Gradient
Gradient Based Corr Mask Value : 1.000000
Gradient Based Corr Mask Zero X : 0.250697
Gradient Based Corr Mask Zero Y : 0.530612
Gradient Based Corr Mask Full X : 0.259389
Gradient Based Corr Mask Full Y : 0.387392
Image Width : 300
Image Height : 225
Bits Per Sample : 8
Color Components : 3
Aperture : 8.0
Image Size : 300x225
Megapixels : 0.068
Scale Factor To 35 mm Equivalent : 1.0
Shutter Speed : 1/200
Create Date : 2012:09:05 12:14:33.19
Date/Time Original : 2012:09:05 12:14:33.19
Modify Date : 2012:09:05 20:40:09.19
Circle Of Confusion : 0.031 mm
Field Of View : 55.6 deg
Focal Length : 35.0 mm (35 mm equivalent: 34.2 mm)
Hyperfocal Distance : 4.97 m
Light Value : 13.6
Lens ID : Carl Zeiss Distagon T* 35mm f/2 ZE