Uber Exif Photo
Sub-location : Dzveli Tbilisi
Province-State : Tbilisi
Country-Primary Location Name : Georgia
Photometric Interpretation : RGB
Make : SONY
Camera Model Name : SLT-A77V
Orientation : Horizontal (normal)
Samples Per Pixel : 3
Software : Adobe Photoshop CS6 (Windows)
Modify Date : 2012:10:07 21:37:03
Exposure Time : 1/60
F Number : 6.3
Exposure Program : Aperture-priority AE
ISO : 200
Sensitivity Type : Recommended Exposure Index
Recommended Exposure Index : 200
Date/Time Original : 2012:09:16 17:59:48
Create Date : 2012:09:16 17:59:48
Shutter Speed Value : 1/60
Aperture Value : 6.3
Brightness Value : 5.3921875
Exposure Compensation : +0.3
Max Aperture Value : 2.0
Metering Mode : Multi-segment
Light Source : Unknown
Flash : Off, Did not fire
Focal Length : 24.0 mm
Color Space : sRGB
Exif Image Width : 2500
Exif Image Height : 1667
Scene Type : Directly photographed
Custom Rendered : Normal
Exposure Mode : Auto
White Balance : Auto
Focal Length In 35mm Format : 36 mm
Scene Capture Type : Standard
Contrast : Low
Saturation : Normal
Sharpness : Hard
Lens Info : 24mm f/2
Lens Model : 24mm F2 ZA SSM
GPS Version ID : 2.3.0.0
GPS Latitude Ref : North
GPS Longitude Ref : East
GPS Altitude Ref : Above Sea Level
GPS Time Stamp : 14:01:42
GPS Status : Measurement Active
GPS Measure Mode : 3-Dimensional Measurement
GPS Dilution Of Precision : 2.0175
GPS Speed Ref : km/h
GPS Speed : 0.724
GPS Track Ref : True North
GPS Track : 209.9
GPS Map Datum : WGS-84
GPS Date Stamp : 2012:09:16
GPS Differential : No Correction
Creator Tool : Adobe Photoshop Lightroom 4.2 (Windows)
Lens : 24mm F2 ZA SSM
Date Created : 2012:09:16 17:59:48
City : Tbilisi
State : Tbilisi
Country : Georgia
Color Mode : RGB
ICC Profile Name : sRGB IEC61966-2.1
Location : Dzveli Tbilisi
Version : 7.2
Process Version : 6.7
Color Temperature : 6250
Tint : +3
Luminance Smoothing : 0
Color Noise Reduction : 25
Vignette Amount : 0
Shadow Tint : 0
Red Hue : 0
Red Saturation : 0
Green Hue : 0
Green Saturation : 0
Blue Hue : 0
Blue Saturation : 0
Gray Mixer Red : -9
Gray Mixer Orange : -19
Gray Mixer Yellow : -23
Gray Mixer Green : -27
Gray Mixer Aqua : -19
Gray Mixer Blue : +9
Gray Mixer Purple : +15
Gray Mixer Magenta : +4
Split Toning Shadow Hue : 0
Split Toning Shadow Saturation : 0
Split Toning Highlight Hue : 0
Split Toning Highlight Saturation : 0
Split Toning Balance : 0
Parametric Shadows : 0
Parametric Darks : 0
Parametric Lights : 0
Parametric Highlights : 0
Parametric Shadow Split : 25
Parametric Midtone Split : 50
Parametric Highlight Split : 75
Sharpen Radius : +1.0
Sharpen Detail : 25
Sharpen Edge Masking : 0
Post Crop Vignette Amount : 0
Grain Amount : 0
Color Noise Reduction Detail : 50
Lens Profile Enable : 0
Lens Manual Distortion Amount : 0
Perspective Vertical : 0
Perspective Horizontal : 0
Perspective Rotate : 0.0
Perspective Scale : 100
Auto Lateral CA : 1
Exposure 2012 : -0.50
Contrast 2012 : +5
Highlights 2012 : -45
Shadows 2012 : +55
Whites 2012 : 0
Blacks 2012 : +26
Clarity 2012 : +15
Convert To Grayscale : True
Tone Curve Name 2012 : Linear
Camera Profile : Adobe Standard
Lens Profile Setup : LensDefaults
Has Settings : True
Crop Top : 0
Crop Left : 0.031571
Crop Bottom : 1
Crop Right : 0.968429
Crop Angle : 1.74552
Crop Constrain To Warp : 0
Crop Width : 5741
Crop Height : 3827
Crop Unit : pixels
Has Crop : True
Already Applied : True
Format : image/jpeg
Tone Curve PV2012 : 0, 0, 255, 255
Tone Curve PV2012 Red : 0, 0, 255, 255
Tone Curve PV2012 Green : 0, 0, 255, 255
Tone Curve PV2012 Blue : 0, 0, 255, 255
Image Width : 300
Image Height : 200
Bits Per Sample : 8
Color Components : 1
Aperture : 6.3
Image Size : 300x200
Megapixels : 0.060
Scale Factor To 35 mm Equivalent : 1.5
Shutter Speed : 1/60
GPS Altitude : 392.3 m Above Sea Level
GPS Date/Time : 2012:09:16 14:01:42Z
GPS Latitude : 41 deg 41' 43.49" N
GPS Longitude : 44 deg 48' 23.93" E
Circle Of Confusion : 0.020 mm
Field Of View : 53.1 deg
Focal Length : 24.0 mm (35 mm equivalent: 36.0 mm)
GPS Position : 41 deg 41' 43.49" N, 44 deg 48' 23.93" E
Hyperfocal Distance : 4.56 m
Light Value : 10.2
Lens ID : Carl Zeiss Distagon T* 24mm F2 ZA SSM (SAL24F20Z)