Uber Exif Photo
Photometric Interpretation : RGB
Make : SONY
Camera Model Name : SLT-A77V
Orientation : Horizontal (normal)
Samples Per Pixel : 3
Software : Adobe Photoshop CS6 (Windows)
Modify Date : 2012:09:02 17:26:07
Exposure Time : 1/200
F Number : 5.6
Exposure Program : Aperture-priority AE
ISO : 50
Sensitivity Type : Recommended Exposure Index
Recommended Exposure Index : 50
Date/Time Original : 2012:08:18 18:09:44
Create Date : 2012:08:18 18:09:44
Shutter Speed Value : 1/200
Aperture Value : 5.6
Brightness Value : 9.36875
Exposure Compensation : +0.3
Max Aperture Value : 2.0
Metering Mode : Multi-segment
Light Source : Unknown
Flash : Off, Did not fire
Focal Length : 24.0 mm
Color Space : Uncalibrated
Exif Image Width : 2500
Exif Image Height : 1682
Scene Type : Directly photographed
Custom Rendered : Normal
Exposure Mode : Auto
White Balance : Auto
Focal Length In 35mm Format : 36 mm
Scene Capture Type : Standard
Contrast : Low
Saturation : Normal
Sharpness : Hard
Lens Info : 24mm f/2
Lens Model : 24mm F2 ZA SSM
GPS Version ID : 2.3.0.0
GPS Latitude Ref : North
GPS Longitude Ref : East
GPS Altitude Ref : Above Sea Level
GPS Time Stamp : 14:11:29
GPS Status : Measurement Active
GPS Measure Mode : 3-Dimensional Measurement
GPS Dilution Of Precision : 1.375
GPS Speed Ref : km/h
GPS Speed : 0.499
GPS Track Ref : True North
GPS Track : 106.95
GPS Map Datum : WGS-84
GPS Date Stamp : 2012:08:18
GPS Differential : No Correction
Creator Tool : Adobe Photoshop Lightroom 4.1 (Windows)
Lens : 24mm F2 ZA SSM
Date Created : 2012:08:18 18:09:44
Color Mode : Grayscale
ICC Profile Name : Dot Gain 20%
Version : 7.1
Process Version : 6.7
Color Temperature : 4550
Tint : +4
Luminance Smoothing : 0
Color Noise Reduction : 25
Vignette Amount : 0
Shadow Tint : 0
Red Hue : 0
Red Saturation : 0
Green Hue : 0
Green Saturation : 0
Blue Hue : 0
Blue Saturation : 0
Vibrance : +10
Hue Adjustment Red : 0
Hue Adjustment Orange : 0
Hue Adjustment Yellow : 0
Hue Adjustment Green : 0
Hue Adjustment Aqua : 0
Hue Adjustment Blue : 0
Hue Adjustment Purple : 0
Hue Adjustment Magenta : 0
Saturation Adjustment Red : +9
Saturation Adjustment Orange : +7
Saturation Adjustment Yellow : -11
Saturation Adjustment Green : 0
Saturation Adjustment Aqua : 0
Saturation Adjustment Blue : 0
Saturation Adjustment Purple : 0
Saturation Adjustment Magenta : 0
Luminance Adjustment Red : 0
Luminance Adjustment Orange : 0
Luminance Adjustment Yellow : 0
Luminance Adjustment Green : 0
Luminance Adjustment Aqua : 0
Luminance Adjustment Blue : 0
Luminance Adjustment Purple : 0
Luminance Adjustment Magenta : 0
Split Toning Shadow Hue : 0
Split Toning Shadow Saturation : 0
Split Toning Highlight Hue : 0
Split Toning Highlight Saturation : 0
Split Toning Balance : 0
Parametric Shadows : 0
Parametric Darks : 0
Parametric Lights : 0
Parametric Highlights : 0
Parametric Shadow Split : 25
Parametric Midtone Split : 50
Parametric Highlight Split : 75
Sharpen Radius : +1.0
Sharpen Detail : 25
Sharpen Edge Masking : 0
Post Crop Vignette Amount : 0
Grain Amount : 0
Color Noise Reduction Detail : 50
Lens Profile Enable : 0
Lens Manual Distortion Amount : 0
Perspective Vertical : 0
Perspective Horizontal : 0
Perspective Rotate : 0.0
Perspective Scale : 100
Auto Lateral CA : 1
Exposure 2012 : -0.20
Contrast 2012 : +5
Highlights 2012 : -26
Shadows 2012 : +45
Whites 2012 : +27
Blacks 2012 : -15
Clarity 2012 : +15
Defringe Purple Amount : 0
Defringe Purple Hue Lo : 30
Defringe Purple Hue Hi : 70
Defringe Green Amount : 0
Defringe Green Hue Lo : 40
Defringe Green Hue Hi : 60
Convert To Grayscale : False
Tone Curve Name 2012 : Linear
Camera Profile : Adobe Standard
Lens Profile Setup : LensDefaults
Has Settings : True
Crop Top : 0.044593
Crop Left : 0
Crop Bottom : 0.962096
Crop Right : 0.909361
Crop Angle : 0
Crop Constrain To Warp : 0
Crop Width : 5456
Crop Height : 3670
Crop Unit : pixels
Has Crop : True
Already Applied : True
Format : image/jpeg
Tone Curve PV2012 : 0, 0, 255, 255
Tone Curve PV2012 Red : 0, 0, 255, 255
Tone Curve PV2012 Green : 0, 0, 255, 255
Tone Curve PV2012 Blue : 0, 0, 255, 255
Image Width : 300
Image Height : 202
Bits Per Sample : 8
Color Components : 1
Aperture : 5.6
Image Size : 300x202
Megapixels : 0.061
Scale Factor To 35 mm Equivalent : 1.5
Shutter Speed : 1/200
GPS Altitude : 1586.8 m Above Sea Level
GPS Date/Time : 2012:08:18 14:11:29Z
GPS Latitude : 40 deg 11' 39.15" N
GPS Longitude : 44 deg 38' 36.07" E
Circle Of Confusion : 0.020 mm
Field Of View : 53.1 deg
Focal Length : 24.0 mm (35 mm equivalent: 36.0 mm)
GPS Position : 40 deg 11' 39.15" N, 44 deg 38' 36.07" E
Hyperfocal Distance : 5.13 m
Light Value : 13.6
Lens ID : Carl Zeiss Distagon T* 24mm F2 ZA SSM (SAL24F20Z)