Uber Exif Photo
Caption-Abstract : SONY DSC
By-line : Dr. Harout V. Tanielian
By-line Title : Dermatologist
Object Name : Dermatologist
Province-State : Yerevan
Country-Primary Location Name : Armenia
Country-Primary Location Code : AM
Copyright Notice : © Dr. Harout V. Tanielian
Copyright Flag : True
Photometric Interpretation : RGB
Image Description : SONY DSC
Make : SONY
Camera Model Name : DSLR-A700
Orientation : Horizontal (normal)
Samples Per Pixel : 3
Software : Adobe Photoshop CS5 Windows
Modify Date : 2010:09:21 15:58:35
Artist : Dr. Harout V. Tanielian
Copyright : © Dr. Harout V. Tanielian
Exposure Time : 1/125
F Number : 1.7
Exposure Program : Aperture-priority AE
ISO : 1250
Sensitivity Type : Unknown
Date/Time Original : 2010:09:20 12:44:01
Create Date : 2010:09:20 12:44:01
Shutter Speed Value : 1/125
Aperture Value : 1.7
Brightness Value : 0.25
Exposure Compensation : +0.3
Max Aperture Value : 1.7
Metering Mode : Center-weighted average
Light Source : Shade
Flash : Off, Did not fire
Focal Length : 50.0 mm
Color Space : sRGB
Exif Image Width : 1376
Exif Image Height : 2000
Scene Type : Directly photographed
Custom Rendered : Normal
Exposure Mode : Auto
White Balance : Manual
Digital Zoom Ratio : 0
Focal Length In 35mm Format : 75 mm
Scene Capture Type : Standard
Contrast : Normal
Saturation : Normal
Sharpness : Normal
Lens Info : 50mm f/1.7
Lens Model : 50mm F1.7
Profile Description : sRGB IEC61966-2.1
Creator Tool : DSLR-A700 v04
Lens : 50mm F1.7
Version : 6.2
Process Version : 5.7
Color Temperature : 5000
Tint : +5
Exposure : -0.30
Shadows : 5
Brightness : 0
Luminance Smoothing : 0
Color Noise Reduction : 25
Chromatic Aberration R : 0
Chromatic Aberration B : 0
Vignette Amount : 0
Shadow Tint : 0
Red Hue : 0
Red Saturation : 0
Green Hue : 0
Green Saturation : 0
Blue Hue : 0
Blue Saturation : 0
Fill Light : 0
Vibrance : +10
Highlight Recovery : 5
Clarity : +25
Defringe : 0
Hue Adjustment Red : 0
Hue Adjustment Orange : 0
Hue Adjustment Yellow : 0
Hue Adjustment Green : 0
Hue Adjustment Aqua : 0
Hue Adjustment Blue : 0
Hue Adjustment Purple : 0
Hue Adjustment Magenta : 0
Saturation Adjustment Red : 0
Saturation Adjustment Orange : 0
Saturation Adjustment Yellow : 0
Saturation Adjustment Green : 0
Saturation Adjustment Aqua : 0
Saturation Adjustment Blue : 0
Saturation Adjustment Purple : 0
Saturation Adjustment Magenta : 0
Luminance Adjustment Red : 0
Luminance Adjustment Orange : 0
Luminance Adjustment Yellow : 0
Luminance Adjustment Green : 0
Luminance Adjustment Aqua : 0
Luminance Adjustment Blue : 0
Luminance Adjustment Purple : 0
Luminance Adjustment Magenta : 0
Split Toning Shadow Hue : 0
Split Toning Shadow Saturation : 0
Split Toning Highlight Hue : 0
Split Toning Highlight Saturation : 0
Split Toning Balance : 0
Parametric Shadows : 0
Parametric Darks : 0
Parametric Lights : 0
Parametric Highlights : 0
Parametric Shadow Split : 25
Parametric Midtone Split : 50
Parametric Highlight Split : 75
Sharpen Radius : +1.0
Sharpen Detail : 25
Sharpen Edge Masking : 0
Post Crop Vignette Amount : 0
Grain Amount : 0
Color Noise Reduction Detail : 50
Lens Profile Enable : 0
Lens Manual Distortion Amount : 0
Perspective Vertical : 0
Perspective Horizontal : 0
Perspective Rotate : 0.0
Perspective Scale : 100
Convert To Grayscale : False
Tone Curve Name : Strong Contrast
Camera Profile : Adobe Standard
Lens Profile Setup : LensDefaults
Has Settings : True
Has Crop : False
Already Applied : True
Color Mode : RGB
ICC Profile Name : sRGB IEC61966-2.1
Date Created : 2010:08:01 10:19:28
Country : Armenia
Authors Position : Dermatologist
State : Yerevan
Format : image/jpeg
Country Code : AM
Marked : True
Tone Curve : 0, 0, 32, 16, 64, 50, 128, 128, 192, 202, 255, 255
Description : SONY DSC
Title : Dermatologist
Creator : Dr. Harout V. Tanielian
Rights : © Dr. Harout V. Tanielian
Creator Country : Armenia
Image Width : 206
Image Height : 300
Bits Per Sample : 8
Color Components : 3
Aperture : 1.7
Image Size : 206x300
Megapixels : 0.062
Scale Factor To 35 mm Equivalent : 1.5
Shutter Speed : 1/125
Circle Of Confusion : 0.020 mm
Field Of View : 27.0 deg
Focal Length : 50.0 mm (35 mm equivalent: 75.0 mm)
Hyperfocal Distance : 73.42 m
Light Value : 4.9
Lens ID : Minolta AF 50mm F1.7