Uber Exif Photo
By-line : Mircea Bunea
Copyright Notice : mibu@urmascapaturma.ro
Photometric Interpretation : RGB
Make : Canon
Camera Model Name : Canon EOS 5D Mark II
Orientation : Horizontal (normal)
Samples Per Pixel : 3
Planar Configuration : Chunky
Software : Adobe Photoshop CS6 (Windows)
Modify Date : 2013:10:29 18:29:22
Artist : Mircea Bunea
Copyright : mibu@urmascapaturma.ro
Exposure Time : 1/125
F Number : 5.0
Exposure Program : Manual
ISO : 400
Date/Time Original : 2013:09:09 18:02:46
Create Date : 2013:09:09 18:02:46
Shutter Speed Value : 1/125
Aperture Value : 5.0
Exposure Compensation : 0
Max Aperture Value : 1.4
Metering Mode : Spot
Flash : Off, Did not fire
Focal Length : 50.0 mm
Color Space : sRGB
Exif Image Width : 600
Exif Image Height : 900
Custom Rendered : Normal
Exposure Mode : Manual
White Balance : Auto
Scene Capture Type : Standard
Owner Name : mircea bunea
Serial Number : 1230705297
Lens Info : 50mm f/?
Lens Model : Zeiss Planar T* 1.4/50 ZE
Profile Description : sRGB IEC61966-2.1
Format : image/jpeg
Lens : Zeiss Planar T* 1.4/50 ZE
Image Number : 0
Flash Compensation : 0
Firmware : 2.1.2
Creator Tool : Adobe Photoshop Lightroom 5.0 (Windows)
Property Release Status : Unknown (nil)
PLUS Version : 1.2.0
Minor Model Age Disclosure : Unknown (nil)
Model Release Status : Unknown (nil)
Digital Source Type : nil
Version : 8.2
Process Version : 6.7
Auto White Version : 134348800
Color Temperature : 6405
Tint : -50
Sharpness : 25
Luminance Smoothing : 0
Color Noise Reduction : 25
Vignette Amount : -80
Vignette Midpoint : 0
Shadow Tint : +17
Red Hue : +48
Red Saturation : +45
Green Hue : -100
Green Saturation : +2
Blue Hue : -100
Blue Saturation : -81
Gray Mixer Red : +34
Gray Mixer Orange : +8
Gray Mixer Yellow : -17
Gray Mixer Green : -69
Gray Mixer Aqua : +2
Gray Mixer Blue : -100
Gray Mixer Purple : +25
Gray Mixer Magenta : 0
Split Toning Shadow Hue : 231
Split Toning Shadow Saturation : 5
Split Toning Highlight Hue : 240
Split Toning Highlight Saturation : 1
Split Toning Balance : 0
Parametric Shadows : -33
Parametric Darks : +62
Parametric Lights : +7
Parametric Highlights : +10
Parametric Shadow Split : 25
Parametric Midtone Split : 50
Parametric Highlight Split : 75
Sharpen Radius : +1.0
Sharpen Detail : 25
Sharpen Edge Masking : 0
Post Crop Vignette Amount : -14
Post Crop Vignette Midpoint : 50
Post Crop Vignette Feather : 50
Post Crop Vignette Roundness : 0
Post Crop Vignette Style : Highlight Priority
Post Crop Vignette Highlight Contrast : 0
Grain Amount : 0
Color Noise Reduction Detail : 50
Color Noise Reduction Smoothness : 50
Lens Profile Enable : 1
Lens Manual Distortion Amount : 0
Perspective Vertical : 0
Perspective Horizontal : 0
Perspective Rotate : 0.0
Perspective Scale : 100
Perspective Aspect : 0
Perspective Upright : Off
Auto Lateral CA : 0
Exposure 2012 : 0.00
Contrast 2012 : +19
Highlights 2012 : -29
Shadows 2012 : +36
Whites 2012 : +50
Blacks 2012 : +2
Clarity 2012 : +50
Convert To Grayscale : True
Tone Curve Name 2012 : Linear
Camera Profile : ACR 2.4
Lens Profile Setup : Custom
Lens Profile Name : Adobe (Zeiss Distagon T* 2,8/15 ZE)
Lens Profile Filename : Canon (Zeiss Distagon T 15 f28 ZE) - RAW.lcp
Lens Profile Distortion Scale : 100
Lens Profile Chromatic Aberration Scale : 100
Lens Profile Vignetting Scale : 100
Has Settings : True
Has Crop : False
Already Applied : True
Date Created : 2013:09:09 18:02:46.069
Color Mode : RGB
ICC Profile Name : sRGB IEC61966-2.1
Creator : Mircea Bunea
Rights : mibu@urmascapaturma.ro
Event : Tone Curve PV2012 : 0, 0, 255, 255
Tone Curve PV2012 Red : 0, 0, 255, 255
Tone Curve PV2012 Green : 0, 0, 255, 255
Tone Curve PV2012 Blue : 0, 0, 255, 255
Image Width : 200
Image Height : 300
Bits Per Sample : 8
Color Components : 3
Aperture : 5.0
Image Size : 200x300
Megapixels : 0.060
Scale Factor To 35 mm Equivalent : 1.0
Shutter Speed : 1/125
Create Date : 2013:09:09 18:02:46.69
Date/Time Original : 2013:09:09 18:02:46.69
Circle Of Confusion : 0.031 mm
Field Of View : 40.5 deg
Focal Length : 50.0 mm (35 mm equivalent: 48.8 mm)
Hyperfocal Distance : 16.24 m
Light Value : 9.6
Lens ID : Carl Zeiss Planar T* 50mm f/1.4 ZE