Uber Exif Photo
By-line : Mircea Bunea
Copyright Notice : mibu@urmascapaturma.ro
Make : Canon
Camera Model Name : Canon EOS 5D Mark II
Software : Adobe Photoshop Lightroom 4.4 (Windows)
Modify Date : 2013:06:27 18:04:05
Artist : Mircea Bunea
Copyright : mibu@urmascapaturma.ro
Exposure Time : 1/100
F Number : 11.0
Exposure Program : Manual
ISO : 100
Date/Time Original : 2013:06:24 09:00:13
Create Date : 2013:06:24 09:00:13
Shutter Speed Value : 1/100
Aperture Value : 11.0
Exposure Compensation : 0
Max Aperture Value : 1.4
Metering Mode : Spot
Flash : Off, Did not fire
Focal Length : 50.0 mm
Custom Rendered : Normal
Exposure Mode : Manual
White Balance : Auto
Scene Capture Type : Standard
Owner Name : mircea bunea
Serial Number : 1230705297
Lens Info : 50mm f/?
Lens Model : Zeiss Planar T* 1.4/50 ZE
Profile Description : sRGB IEC61966-2.1
Format : image/jpeg
Lens : Zeiss Planar T* 1.4/50 ZE
Image Number : 0
Flash Compensation : 0
Firmware : 2.1.2
Creator Tool : Adobe Photoshop Lightroom 4.4 (Windows)
Property Release Status : Unknown (nil)
PLUS Version : 1.2.0
Minor Model Age Disclosure : Unknown (nil)
Model Release Status : Unknown (nil)
Digital Source Type : nil
Version : 7.4
Process Version : 6.7
Color Temperature : 5691
Tint : +118
Saturation : -71
Sharpness : 107
Luminance Smoothing : 0
Color Noise Reduction : 15
Vignette Amount : -75
Vignette Midpoint : 0
Shadow Tint : -100
Red Hue : -100
Red Saturation : +100
Green Hue : +100
Green Saturation : +50
Blue Hue : +31
Blue Saturation : +24
Vibrance : +95
Hue Adjustment Red : 0
Hue Adjustment Orange : -5
Hue Adjustment Yellow : +27
Hue Adjustment Green : -100
Hue Adjustment Aqua : -16
Hue Adjustment Blue : -33
Hue Adjustment Purple : -52
Hue Adjustment Magenta : 0
Saturation Adjustment Red : 0
Saturation Adjustment Orange : +93
Saturation Adjustment Yellow : +53
Saturation Adjustment Green : +29
Saturation Adjustment Aqua : +14
Saturation Adjustment Blue : +100
Saturation Adjustment Purple : -93
Saturation Adjustment Magenta : -100
Luminance Adjustment Red : 0
Luminance Adjustment Orange : +19
Luminance Adjustment Yellow : +100
Luminance Adjustment Green : +100
Luminance Adjustment Aqua : +100
Luminance Adjustment Blue : -100
Luminance Adjustment Purple : +48
Luminance Adjustment Magenta : 0
Split Toning Shadow Hue : 64
Split Toning Shadow Saturation : 27
Split Toning Highlight Hue : 34
Split Toning Highlight Saturation : 63
Split Toning Balance : 0
Parametric Shadows : +13
Parametric Darks : 0
Parametric Lights : +57
Parametric Highlights : +9
Parametric Shadow Split : 25
Parametric Midtone Split : 50
Parametric Highlight Split : 75
Sharpen Radius : +1.0
Sharpen Detail : 25
Sharpen Edge Masking : 80
Post Crop Vignette Amount : 0
Grain Amount : 0
Color Noise Reduction Detail : 50
Lens Profile Enable : 1
Lens Manual Distortion Amount : 0
Perspective Vertical : 0
Perspective Horizontal : 0
Perspective Rotate : 0.0
Perspective Scale : 100
Auto Lateral CA : 0
Exposure 2012 : -0.60
Contrast 2012 : +38
Highlights 2012 : -100
Shadows 2012 : +76
Whites 2012 : +24
Blacks 2012 : 0
Clarity 2012 : +81
Defringe Purple Amount : 0
Defringe Purple Hue Lo : 30
Defringe Purple Hue Hi : 70
Defringe Green Amount : 0
Defringe Green Hue Lo : 40
Defringe Green Hue Hi : 60
Convert To Grayscale : False
Tone Curve Name 2012 : Linear
Camera Profile : ACR 2.4
Lens Profile Setup : Custom
Lens Profile Name : Adobe (Zeiss Planar T* 1,4/50 ZE)
Lens Profile Filename : Canon (Zeiss Planar T 50 f14 ZE).lcp
Lens Profile Distortion Scale : 100
Lens Profile Chromatic Aberration Scale : 100
Lens Profile Vignetting Scale : 100
Has Settings : True
Has Crop : False
Already Applied : True
Date Created : 2013:06:24 09:00:13.45
Creator : Mircea Bunea
Rights : mibu@urmascapaturma.ro
Event : Tone Curve PV2012 : 0, 0, 255, 255
Tone Curve PV2012 Red : 0, 0, 255, 255
Tone Curve PV2012 Green : 0, 0, 255, 255
Tone Curve PV2012 Blue : 0, 0, 255, 255
Image Width : 200
Image Height : 300
Bits Per Sample : 8
Color Components : 3
Aperture : 11.0
Image Size : 200x300
Megapixels : 0.060
Scale Factor To 35 mm Equivalent : 1.0
Shutter Speed : 1/100
Create Date : 2013:06:24 09:00:13.45
Date/Time Original : 2013:06:24 09:00:13.45
Circle Of Confusion : 0.031 mm
Field Of View : 40.5 deg
Focal Length : 50.0 mm (35 mm equivalent: 48.8 mm)
Hyperfocal Distance : 7.38 m
Light Value : 13.6
Lens ID : Carl Zeiss Planar T* 50mm f/1.4 ZE