Uber Exif Photo
By-line : Mircea Bunea
Copyright Notice : mibu@urmascapaturma.ro
Copyright Flag : False
Make : Canon
Camera Model Name : Canon EOS 7D
Orientation : Horizontal (normal)
Software : Adobe Photoshop CS2 Windows
Modify Date : 2012:09:25 09:12:48
Artist : Mircea Bunea
Copyright : mibu@urmascapaturma.ro
Exposure Time : 1/320
F Number : 5.0
Exposure Program : Manual
ISO : 100
Sensitivity Type : Recommended Exposure Index
Recommended Exposure Index : 100
Date/Time Original : 2012:09:22 14:24:20
Create Date : 2012:09:22 14:24:20
Shutter Speed Value : 1/320
Aperture Value : 5.0
Exposure Compensation : 0
Max Aperture Value : 2.8
Metering Mode : Spot
Focal Length : 70.0 mm
Color Space : sRGB
Exif Image Width : 1200
Exif Image Height : 606
Custom Rendered : Normal
Exposure Mode : Manual
White Balance : Auto
Scene Capture Type : Standard
Serial Number : 2381202741
Lens Info : 70mm f/?
Lens Model : 70mm
Profile Description : sRGB IEC61966-2.1
Label : Red
Creator Tool : Adobe Photoshop CS2 Windows
Format : image/jpeg
Creator : Mircea Bunea
Rights : mibu@urmascapaturma.ro
Lens : 70mm
Image Number : 0
Approximate Focus Distance : 1.9
Flash Compensation : 0
Firmware : 2.0.3
Property Release Status : Unknown (nil)
PLUS Version : 1.2.0
Minor Model Age Disclosure : Unknown (nil)
Model Release Status : Unknown (nil)
Digital Source Type : nil
Event : Version : 7.1
Process Version : 6.7
Color Temperature : 5370
Tint : +10
Saturation : +7
Sharpness : 25
Luminance Smoothing : 13
Color Noise Reduction : 25
Vignette Amount : 0
Shadow Tint : 0
Red Hue : 0
Red Saturation : 0
Green Hue : 0
Green Saturation : 0
Blue Hue : 0
Blue Saturation : 0
Vibrance : +21
Hue Adjustment Red : 0
Hue Adjustment Orange : 0
Hue Adjustment Yellow : 0
Hue Adjustment Green : 0
Hue Adjustment Aqua : 0
Hue Adjustment Blue : 0
Hue Adjustment Purple : 0
Hue Adjustment Magenta : 0
Saturation Adjustment Red : +14
Saturation Adjustment Orange : +8
Saturation Adjustment Yellow : +8
Saturation Adjustment Green : +3
Saturation Adjustment Aqua : 0
Saturation Adjustment Blue : 0
Saturation Adjustment Purple : 0
Saturation Adjustment Magenta : 0
Luminance Adjustment Red : -16
Luminance Adjustment Orange : +10
Luminance Adjustment Yellow : +4
Luminance Adjustment Green : +10
Luminance Adjustment Aqua : 0
Luminance Adjustment Blue : 0
Luminance Adjustment Purple : 0
Luminance Adjustment Magenta : 0
Split Toning Shadow Hue : 0
Split Toning Shadow Saturation : 0
Split Toning Highlight Hue : 43
Split Toning Highlight Saturation : 18
Split Toning Balance : 0
Parametric Shadows : 0
Parametric Darks : 0
Parametric Lights : +13
Parametric Highlights : 0
Parametric Shadow Split : 25
Parametric Midtone Split : 50
Parametric Highlight Split : 75
Sharpen Radius : +1.0
Sharpen Detail : 25
Sharpen Edge Masking : 0
Post Crop Vignette Amount : -9
Post Crop Vignette Midpoint : 42
Post Crop Vignette Feather : 65
Post Crop Vignette Roundness : 0
Post Crop Vignette Style : Highlight Priority
Post Crop Vignette Highlight Contrast : 0
Grain Amount : 0
Luminance Noise Reduction Detail : 50
Color Noise Reduction Detail : 50
Luminance Noise Reduction Contrast : 0
Lens Profile Enable : 1
Lens Manual Distortion Amount : 0
Perspective Vertical : 0
Perspective Horizontal : 0
Perspective Rotate : 0.0
Perspective Scale : 100
Auto Lateral CA : 1
Exposure 2012 : +0.24
Contrast 2012 : +5
Highlights 2012 : -76
Shadows 2012 : +19
Whites 2012 : +38
Blacks 2012 : 0
Clarity 2012 : +69
Defringe Purple Amount : 0
Defringe Purple Hue Lo : 30
Defringe Purple Hue Hi : 70
Defringe Green Amount : 0
Defringe Green Hue Lo : 40
Defringe Green Hue Hi : 60
Convert To Grayscale : False
Tone Curve Name 2012 : Linear
Camera Profile : Adobe Standard
Lens Profile Setup : Auto
Lens Profile Name : Adobe (SIGMA MACRO 70mm F2.8 EX DG, Canon)
Lens Profile Filename : Canon (Sigma_70mm_F2.8_MACRO_EX_DG ) - RAW.lcp
Lens Profile Distortion Scale : 100
Lens Profile Chromatic Aberration Scale : 100
Lens Profile Vignetting Scale : 100
Has Settings : True
Crop Top : 0
Crop Left : 0
Crop Bottom : 0.758007
Crop Right : 1
Crop Angle : 0
Crop Constrain To Warp : 0
Crop Width : 1200
Crop Height : 606
Crop Unit : pixels
Has Crop : True
Already Applied : True
Tone Curve PV2012 : 0, 0, 255, 255
Tone Curve PV2012 Red : 0, 0, 255, 255
Tone Curve PV2012 Green : 0, 0, 255, 255
Tone Curve PV2012 Blue : 0, 0, 255, 255
Date Created : 2012:09:22
Color Mode : RGB
ICC Profile Name : sRGB IEC61966-2.1
Date/Time Digitized : 2012:09:22 14:24:20+03:00
Flash Fired : False
Flash Return : No return detection
Flash Mode : Off
Flash Function : False
Flash Red Eye Mode : False
Image Width : 300
Image Height : 152
Bits Per Sample : 8
Color Components : 3
Aperture : 5.0
Image Size : 300x152
Megapixels : 0.046
Scale Factor To 35 mm Equivalent : 1.6
Shutter Speed : 1/320
Create Date : 2012:09:22 14:24:20.00
Date/Time Original : 2012:09:22 14:24:20.00
Flash : Off, Did not fire
Circle Of Confusion : 0.019 mm
Depth Of Field : 0.14 m (1.83 - 1.97 m)
Field Of View : 18.6 deg
Focal Length : 70.0 mm (35 mm equivalent: 109.9 mm)
Hyperfocal Distance : 51.22 m
Light Value : 13.0
Lens ID : Sigma 70mm f/2.8 Macro EX DG