Uber Exif Photo
By-line : Mircea Bunea
Copyright Notice : mibu@urmascapaturma.ro
Make : Canon
Camera Model Name : Canon EOS 5D Mark II
Software : Adobe Photoshop Lightroom 4.1 (Windows)
Modify Date : 2012:09:17 17:32:24
Artist : Mircea Bunea
Copyright : mibu@urmascapaturma.ro
Exposure Time : 1/200
F Number : 8.0
Exposure Program : Manual
ISO : 400
Date/Time Original : 2012:08:26 16:46:43
Create Date : 2012:08:26 16:46:43
Shutter Speed Value : 1/200
Aperture Value : 8.0
Exposure Compensation : 0
Max Aperture Value : 1.4
Metering Mode : Spot
Flash : On, Fired
Focal Length : 50.0 mm
Custom Rendered : Normal
Exposure Mode : Manual
White Balance : Auto
Scene Capture Type : Standard
Owner Name : mircea bunea
Serial Number : 1230705297
Lens Info : 50mm f/?
Lens Model : Zeiss Planar T* 1.4/50 ZE
Profile Description : sRGB IEC61966-2.1
Format : image/jpeg
Lens : Zeiss Planar T* 1.4/50 ZE
Image Number : 0
Flash Compensation : -2
Firmware : 2.1.2
Creator Tool : Adobe Photoshop Lightroom 4.1 (Windows)
Property Release Status : Unknown (nil)
PLUS Version : 1.2.0
Minor Model Age Disclosure : Unknown (nil)
Model Release Status : Unknown (nil)
Digital Source Type : nil
Version : 7.1
Process Version : 6.7
Color Temperature : 5333
Tint : +11
Saturation : 0
Sharpness : 25
Luminance Smoothing : 23
Color Noise Reduction : 100
Vignette Amount : 0
Shadow Tint : 0
Red Hue : 0
Red Saturation : 0
Green Hue : 0
Green Saturation : 0
Blue Hue : 0
Blue Saturation : 0
Vibrance : +19
Hue Adjustment Red : 0
Hue Adjustment Orange : 0
Hue Adjustment Yellow : 0
Hue Adjustment Green : 0
Hue Adjustment Aqua : 0
Hue Adjustment Blue : 0
Hue Adjustment Purple : 0
Hue Adjustment Magenta : 0
Saturation Adjustment Red : 0
Saturation Adjustment Orange : 0
Saturation Adjustment Yellow : 0
Saturation Adjustment Green : 0
Saturation Adjustment Aqua : 0
Saturation Adjustment Blue : 0
Saturation Adjustment Purple : 0
Saturation Adjustment Magenta : 0
Luminance Adjustment Red : 0
Luminance Adjustment Orange : 0
Luminance Adjustment Yellow : 0
Luminance Adjustment Green : 0
Luminance Adjustment Aqua : 0
Luminance Adjustment Blue : 0
Luminance Adjustment Purple : 0
Luminance Adjustment Magenta : 0
Split Toning Shadow Hue : 0
Split Toning Shadow Saturation : 0
Split Toning Highlight Hue : 0
Split Toning Highlight Saturation : 0
Split Toning Balance : 0
Parametric Shadows : -7
Parametric Darks : +7
Parametric Lights : 0
Parametric Highlights : 0
Parametric Shadow Split : 25
Parametric Midtone Split : 50
Parametric Highlight Split : 75
Sharpen Radius : +1.0
Sharpen Detail : 25
Sharpen Edge Masking : 0
Post Crop Vignette Amount : 0
Grain Amount : 0
Luminance Noise Reduction Detail : 50
Color Noise Reduction Detail : 93
Luminance Noise Reduction Contrast : 0
Lens Profile Enable : 1
Lens Manual Distortion Amount : 0
Perspective Vertical : 0
Perspective Horizontal : 0
Perspective Rotate : 0.0
Perspective Scale : 100
Auto Lateral CA : 1
Exposure 2012 : 0.00
Contrast 2012 : 0
Highlights 2012 : -64
Shadows 2012 : +19
Whites 2012 : 0
Blacks 2012 : 0
Clarity 2012 : +12
Defringe Purple Amount : 0
Defringe Purple Hue Lo : 30
Defringe Purple Hue Hi : 70
Defringe Green Amount : 0
Defringe Green Hue Lo : 40
Defringe Green Hue Hi : 60
Convert To Grayscale : False
Tone Curve Name 2012 : Linear
Camera Profile : Adobe Standard
Lens Profile Setup : Custom
Lens Profile Name : Adobe (Zeiss Planar T* 1,4/50 ZE)
Lens Profile Filename : Canon (Zeiss Planar T 50 f14 ZE).lcp
Lens Profile Distortion Scale : 100
Lens Profile Chromatic Aberration Scale : 100
Lens Profile Vignetting Scale : 100
Has Settings : True
Has Crop : False
Already Applied : True
Date Created : 2012:08:26 16:46:43.87
Creator : Mircea Bunea
Rights : mibu@urmascapaturma.ro
Event : Tone Curve PV2012 : 0, 0, 255, 255
Tone Curve PV2012 Red : 0, 0, 255, 255
Tone Curve PV2012 Green : 0, 0, 255, 255
Tone Curve PV2012 Blue : 0, 0, 255, 255
Image Width : 300
Image Height : 200
Bits Per Sample : 8
Color Components : 3
Aperture : 8.0
Image Size : 300x200
Megapixels : 0.060
Scale Factor To 35 mm Equivalent : 1.0
Shutter Speed : 1/200
Create Date : 2012:08:26 16:46:43.87
Date/Time Original : 2012:08:26 16:46:43.87
Circle Of Confusion : 0.031 mm
Field Of View : 40.5 deg
Focal Length : 50.0 mm (35 mm equivalent: 48.8 mm)
Hyperfocal Distance : 10.15 m
Light Value : 11.6
Lens ID : Carl Zeiss Planar T* 50mm f/1.4 ZE