Uber Exif Photo
By-line : SAMUEL FOWLER
Object Name : Sunrise Lighthouse Beach
Keywords : Canon 60D, Carl Zeiss, Distagon T* 2/35
Copyright Notice : SAM FOWLER PHOTOGRAPHY
Photometric Interpretation : RGB
Make : Canon
Camera Model Name : Canon EOS 60D
Orientation : Horizontal (normal)
Samples Per Pixel : 3
Software : Adobe Photoshop CS5 Macintosh
Modify Date : 2012:02:11 22:15:28
Artist : SAMUEL FOWLER
Copyright : SAM FOWLER PHOTOGRAPHY
F Number : 9.0
Exposure Program : Manual
ISO : 100
Date/Time Original : 2012:01:29 08:04:29
Aperture Value : 9.0
Exposure Compensation : 0
Max Aperture Value : 2.0
Metering Mode : Multi-segment
Flash : On, Did not fire
Focal Length : 35.0 mm
Color Space : sRGB
Exif Image Width : 4000
Exif Image Height : 2667
Exposure Mode : Manual
White Balance : Auto
Scene Capture Type : Standard
Serial Number : 1270602606
Lens Info : 35mm f/?
Lens Model : Zeiss Distagon T* 2/35 ZE
Lens Serial Number : 0000000000
Profile Description : sRGB IEC61966-2.1
Firmware : 1.1.0
Flash Compensation : 0
Image Number : 0
Lens : Zeiss Distagon T* 2/35 ZE
Creator Tool : Adobe Photoshop Lightroom 3.5 (Macintosh)
Create Date : 2012:01:29 08:04:29
Date Created : 2012:01:29 08:04:29
Color Mode : RGB
ICC Profile Name : sRGB IEC61966-2.1
Version : 6.5
Process Version : 5.7
Incremental Temperature : 0
Incremental Tint : 0
Exposure : 0.00
Shadows : 0
Brightness : 0
Contrast : 0
Saturation : 0
Sharpness : 31
Luminance Smoothing : 42
Color Noise Reduction : 0
Chromatic Aberration R : 0
Chromatic Aberration B : 0
Vignette Amount : 0
Shadow Tint : 0
Red Hue : 0
Red Saturation : 0
Green Hue : 0
Green Saturation : 0
Blue Hue : 0
Blue Saturation : 0
Fill Light : 0
Vibrance : +26
Highlight Recovery : 0
Clarity : +53
Defringe : 0
Hue Adjustment Red : 0
Hue Adjustment Orange : 0
Hue Adjustment Yellow : 0
Hue Adjustment Green : 0
Hue Adjustment Aqua : 0
Hue Adjustment Blue : 0
Hue Adjustment Purple : 0
Hue Adjustment Magenta : 0
Saturation Adjustment Red : 0
Saturation Adjustment Orange : 0
Saturation Adjustment Yellow : 0
Saturation Adjustment Green : 0
Saturation Adjustment Aqua : 0
Saturation Adjustment Blue : 0
Saturation Adjustment Purple : 0
Saturation Adjustment Magenta : 0
Luminance Adjustment Red : 0
Luminance Adjustment Orange : 0
Luminance Adjustment Yellow : 0
Luminance Adjustment Green : 0
Luminance Adjustment Aqua : 0
Luminance Adjustment Blue : 0
Luminance Adjustment Purple : 0
Luminance Adjustment Magenta : 0
Split Toning Shadow Hue : 0
Split Toning Shadow Saturation : 0
Split Toning Highlight Hue : 0
Split Toning Highlight Saturation : 0
Split Toning Balance : 0
Parametric Shadows : 0
Parametric Darks : 0
Parametric Lights : 0
Parametric Highlights : 0
Parametric Shadow Split : 25
Parametric Midtone Split : 50
Parametric Highlight Split : 75
Sharpen Radius : +1.9
Sharpen Detail : 25
Sharpen Edge Masking : 34
Post Crop Vignette Amount : 0
Grain Amount : 0
Luminance Noise Reduction Detail : 50
Luminance Noise Reduction Contrast : 0
Lens Profile Enable : 0
Lens Manual Distortion Amount : 0
Perspective Vertical : 0
Perspective Horizontal : 0
Perspective Rotate : 0.0
Perspective Scale : 100
Convert To Grayscale : False
Tone Curve Name : Linear
Camera Profile : Embedded
Lens Profile Setup : LensDefaults
Has Settings : True
Has Crop : False
Already Applied : True
Format : image/jpeg
Tone Curve : 0, 0, 255, 255
Creator : SAMUEL FOWLER
Title : Sunrise Lighthouse Beach
Rights : SAM FOWLER PHOTOGRAPHY
Subject : Canon 60D, Carl Zeiss, Distagon T* 2/35
Image Width : 300
Image Height : 200
Bits Per Sample : 8
Color Components : 3
Aperture : 9.0
Image Size : 300x200
Megapixels : 0.060
Scale Factor To 35 mm Equivalent : 1.6
Circle Of Confusion : 0.019 mm
Field Of View : 36.2 deg
Focal Length : 35.0 mm (35 mm equivalent: 55.0 mm)
Hyperfocal Distance : 7.12 m
Lens ID : Carl Zeiss Distagon T* 35mm f/2 ZE