Uber Exif Photo
Keywords : Léo, alencastre, apresentação, cello, dezembro, richieri, rodrigo, suzuki, violoncelo
By-line : guga_millet
Make : SONY
Camera Model Name : ILCE-7RM2
Software : Adobe Photoshop Lightroom 6.13 (Macintosh)
Modify Date : 2017:12:12 21:08:12
Artist : guga_millet
Exposure Time : 1/100
Exposure Program : Manual
ISO : 1600
Sensitivity Type : Recommended Exposure Index
Recommended Exposure Index : 1600
Date/Time Original : 2017:12:10 15:48:03
Create Date : 2017:12:10 15:48:03
Shutter Speed Value : 1/100
Brightness Value : -3.2484375
Exposure Compensation : 0
Max Aperture Value : 1.0
Metering Mode : Multi-segment
Light Source : Unknown
Flash : Off, Did not fire
Color Space : sRGB
Scene Type : Directly photographed
Custom Rendered : Normal
Exposure Mode : Manual
White Balance : Manual
Digital Zoom Ratio : 1
Scene Capture Type : Standard
Contrast : Normal
Saturation : Normal
Sharpness : Normal
Lens Model : ----
Profile Description : sRGB IEC61966-2.1
Format : image/jpeg
Creator Tool : Adobe Photoshop Lightroom 6.13 (Macintosh)
Rating : 5
Lens : ----
Date Created : 2017:12:10 15:48:03
Version : 10.0
Process Version : 6.7
Auto White Version : 134348800
Color Temperature : 4900
Tint : +7
Luminance Smoothing : 0
Color Noise Reduction : 25
Vignette Amount : 0
Shadow Tint : 0
Red Hue : 0
Red Saturation : 0
Green Hue : 0
Green Saturation : 0
Blue Hue : 0
Blue Saturation : 0
Gray Mixer Red : -6
Gray Mixer Orange : -15
Gray Mixer Yellow : -19
Gray Mixer Green : -24
Gray Mixer Aqua : -19
Gray Mixer Blue : +6
Gray Mixer Purple : +13
Gray Mixer Magenta : +5
Split Toning Shadow Hue : 0
Split Toning Shadow Saturation : 0
Split Toning Highlight Hue : 0
Split Toning Highlight Saturation : 0
Split Toning Balance : 0
Parametric Shadows : 0
Parametric Darks : 0
Parametric Lights : 0
Parametric Highlights : 0
Parametric Shadow Split : 25
Parametric Midtone Split : 50
Parametric Highlight Split : 75
Sharpen Radius : +1.0
Sharpen Detail : 25
Sharpen Edge Masking : 0
Post Crop Vignette Amount : 0
Grain Amount : 0
Color Noise Reduction Detail : 50
Color Noise Reduction Smoothness : 50
Lens Profile Enable : 0
Lens Manual Distortion Amount : 0
Perspective Vertical : 0
Perspective Horizontal : 0
Perspective Rotate : 0.0
Perspective Scale : 100
Perspective Aspect : 0
Perspective Upright : Off
Perspective X : 0.00
Perspective Y : 0.00
Auto Lateral CA : 0
Exposure 2012 : 0.00
Contrast 2012 : +20
Highlights 2012 : -25
Shadows 2012 : +15
Whites 2012 : 0
Blacks 2012 : 0
Clarity 2012 : +35
Dehaze : 0
Tone Map Strength : 0
Convert To Grayscale : True
Tone Curve Name : Linear
Tone Curve Name 2012 : Linear
Camera Profile : Adobe Standard
Lens Profile Setup : LensDefaults
Has Settings : True
Has Crop : False
Already Applied : True
Subject : Léo, alencastre, apresentação, cello, dezembro, richieri, rodrigo, suzuki, violoncelo
Creator : guga_millet
Tone Curve : 0, 0, 255, 255
Tone Curve Red : 0, 0, 255, 255
Tone Curve Green : 0, 0, 255, 255
Tone Curve Blue : 0, 0, 255, 255
Tone Curve PV2012 : 0, 0, 255, 255
Tone Curve PV2012 Red : 0, 0, 255, 255
Tone Curve PV2012 Green : 0, 0, 255, 255
Tone Curve PV2012 Blue : 0, 0, 255, 255
Image Width : 308
Image Height : 208
Bits Per Sample : 8
Color Components : 3
Image Size : 308x208
Megapixels : 0.064
Scale Factor To 35 mm Equivalent : 25.2
Shutter Speed : 1/100
Circle Of Confusion : 0.001 mm