Uber Exif Photo
By-line : Guga Millet
Keywords : banheira, straight jacket
Copyright Notice : gugamillet@gmail.com
Make : NIKON CORPORATION
Camera Model Name : NIKON D800E
Orientation : Horizontal (normal)
Software : Adobe Photoshop CS5 Macintosh
Modify Date : 2013:05:22 01:26:14
Artist : Guga Millet
Copyright : gugamillet@gmail.com
Exposure Time : 1/125
F Number : 4.0
Exposure Program : Manual
ISO : 160
Sensitivity Type : Recommended Exposure Index
Date/Time Original : 2013:05:18 16:15:16
Create Date : 2013:05:18 16:15:16
Shutter Speed Value : 1/125
Aperture Value : 4.0
Exposure Compensation : 0
Max Aperture Value : 1.0
Metering Mode : Spot
Light Source : Unknown
Flash : Off, Did not fire
Focal Length : 28.0 mm
Color Space : Uncalibrated
Exif Image Width : 1200
Exif Image Height : 801
Sensing Method : One-chip color area
Scene Type : Directly photographed
CFA Pattern : [Red,Green][Green,Blue]
Custom Rendered : Custom
Exposure Mode : Manual
White Balance : Auto
Digital Zoom Ratio : 1
Focal Length In 35mm Format : 28 mm
Scene Capture Type : Standard
Gain Control : None
Contrast : Normal
Saturation : Normal
Sharpness : Normal
Subject Distance Range : Unknown
Serial Number : 3010962
Lens Info : 0mm f/0
Lens Model : 0.0 mm f/0.0
Format : image/jpeg
Creator Tool : Adobe Photoshop CS5 Macintosh
Rating : 4
Lens : 0.0 mm f/0.0
Image Number : 2056
Date Created : 2013:05:18 16:15:16
Color Mode : Grayscale
Version : 7.4
Process Version : 6.7
Color Temperature : 4700
Tint : +1
Luminance Smoothing : 0
Color Noise Reduction : 25
Vignette Amount : 0
Shadow Tint : 0
Red Hue : 0
Red Saturation : 0
Green Hue : 0
Green Saturation : 0
Blue Hue : 0
Blue Saturation : 0
Gray Mixer Red : -9
Gray Mixer Orange : -18
Gray Mixer Yellow : -22
Gray Mixer Green : -26
Gray Mixer Aqua : -19
Gray Mixer Blue : +8
Gray Mixer Purple : +15
Gray Mixer Magenta : +4
Split Toning Shadow Hue : 0
Split Toning Shadow Saturation : 0
Split Toning Highlight Hue : 0
Split Toning Highlight Saturation : 0
Split Toning Balance : 0
Parametric Shadows : 0
Parametric Darks : 0
Parametric Lights : 0
Parametric Highlights : 0
Parametric Shadow Split : 25
Parametric Midtone Split : 50
Parametric Highlight Split : 75
Sharpen Radius : +1.0
Sharpen Detail : 25
Sharpen Edge Masking : 0
Post Crop Vignette Amount : 0
Grain Amount : 0
Color Noise Reduction Detail : 50
Lens Profile Enable : 0
Lens Manual Distortion Amount : 0
Perspective Vertical : 0
Perspective Horizontal : 0
Perspective Rotate : 0.0
Perspective Scale : 100
Auto Lateral CA : 0
Exposure 2012 : +0.95
Contrast 2012 : +23
Highlights 2012 : +32
Shadows 2012 : 0
Whites 2012 : -65
Blacks 2012 : +63
Clarity 2012 : 0
Convert To Grayscale : True
Tone Curve Name 2012 : Linear
Camera Profile : Adobe Standard
Lens Profile Setup : LensDefaults
Has Settings : True
Has Crop : False
Already Applied : True
Creator : Guga Millet
Rights : gugamillet@gmail.com
Subject : banheira, straight jacket
Tone Curve PV2012 : 0, 0, 255, 255
Tone Curve PV2012 Red : 0, 0, 255, 255
Tone Curve PV2012 Green : 0, 0, 255, 255
Tone Curve PV2012 Blue : 0, 0, 255, 255
Image Width : 300
Image Height : 200
Bits Per Sample : 8
Color Components : 1
Aperture : 4.0
Image Size : 300x200
Megapixels : 0.060
Scale Factor To 35 mm Equivalent : 1.0
Shutter Speed : 1/125
Create Date : 2013:05:18 16:15:16.00
Date/Time Original : 2013:05:18 16:15:16.00
Circle Of Confusion : 0.030 mm
Field Of View : 65.5 deg
Focal Length : 28.0 mm (35 mm equivalent: 28.0 mm)
Hyperfocal Distance : 6.52 m
Light Value : 10.3
Lens ID : 0.0mm f/0.0