Uber Exif Photo
By-line : Studio Photo Alain DOUMONT
Photometric Interpretation : RGB
Camera Model Name : Canon EOS 5D
Orientation : Horizontal (normal)
Samples Per Pixel : 3
Planar Configuration : Chunky
Software : Adobe Photoshop CS4 Macintosh
Modify Date : 2012:01:21 14:25:35
Artist : Studio Photo Alain DOUMONT
Exposure Time : 1/40
F Number : 11.0
ISO : 100
Date/Time Original : 2010:11:10 14:20:28
Focal Length : 21.0 mm
Color Space : sRGB
Exif Image Width : 1456
Exif Image Height : 966
Profile Description : sRGB IEC61966-2.1
Method : Details Enhancer
Strength : 79.0
Color Saturation : 56.0
Luminosity : 0.4
White Clip : 1.884350
Black Clip : 0.161250
Smoothing Mode : Light
Smoothing : Very High
Microcontrast : 7.9
Microsmoothing : 25.2
Gamma : 1.07
Highlights Smoothing : 100.0
Shadows Smoothing : 0.0
Shadows Clipping : 58.0
Saturation Highlights : 3.9
Saturation Shadows : -3.9
Is Pano 360 : No
Create Date : 2010:11:10 14:20:28+01:00
Rating : 0
Creator Tool : DxO Optics Pro 6.6 build 86
Format : image/jpeg
Serial Number : 2331203715
Lens Info : 21mm f/?
Lens : 21.0 mm
Image Number : 6
Flash Compensation : 0
Owner Name : Studio Photo Alain DOUMONT
Firmware : 1.1.0
Raw File Name : _MG_3345.CR2
Version : 5.7
Process Version : 5.0
White Balance : Custom
Color Temperature : 4950
Tint : 0
Exposure : -1.00
Shadows : 0
Brightness : +75
Contrast : +70
Saturation : 0
Sharpness : 85
Luminance Smoothing : 0
Color Noise Reduction : 25
Chromatic Aberration R : 0
Chromatic Aberration B : 0
Vignette Amount : +32
Vignette Midpoint : 53
Shadow Tint : 0
Red Hue : 0
Red Saturation : 0
Green Hue : 0
Green Saturation : 0
Blue Hue : 0
Blue Saturation : 0
Fill Light : 0
Vibrance : +40
Highlight Recovery : 21
Clarity : +76
Defringe : 2
Hue Adjustment Red : 0
Hue Adjustment Orange : 0
Hue Adjustment Yellow : 0
Hue Adjustment Green : 0
Hue Adjustment Aqua : 0
Hue Adjustment Blue : 0
Hue Adjustment Purple : 0
Hue Adjustment Magenta : 0
Saturation Adjustment Red : 0
Saturation Adjustment Orange : 0
Saturation Adjustment Yellow : 0
Saturation Adjustment Green : 0
Saturation Adjustment Aqua : 0
Saturation Adjustment Blue : 0
Saturation Adjustment Purple : 0
Saturation Adjustment Magenta : 0
Luminance Adjustment Red : 0
Luminance Adjustment Orange : 0
Luminance Adjustment Yellow : 0
Luminance Adjustment Green : 0
Luminance Adjustment Aqua : 0
Luminance Adjustment Blue : 0
Luminance Adjustment Purple : 0
Luminance Adjustment Magenta : 0
Split Toning Shadow Hue : 0
Split Toning Shadow Saturation : 0
Split Toning Highlight Hue : 0
Split Toning Highlight Saturation : 0
Split Toning Balance : 0
Parametric Shadows : +11
Parametric Darks : +14
Parametric Lights : +18
Parametric Highlights : +25
Parametric Shadow Split : 25
Parametric Midtone Split : 50
Parametric Highlight Split : 75
Sharpen Radius : +1.6
Sharpen Detail : 35
Sharpen Edge Masking : 18
Post Crop Vignette Amount : 0
Grain Amount : 0
Convert To Grayscale : False
Tone Curve Name : Medium Contrast
Camera Profile : ACR 3.3
Has Settings : True
Has Crop : False
Already Applied : True
Sidecar For Extension : CR2
Color Mode : RGB
ICC Profile Name : sRGB IEC61966-2.1
Creator : Studio Photo Alain DOUMONT
Tone Curve : 0, 0, 32, 22, 64, 56, 128, 128, 192, 196, 255, 255
Image Width : 300
Image Height : 199
Bits Per Sample : 8
Color Components : 3
Aperture : 11.0
Image Size : 300x199
Megapixels : 0.060
Shutter Speed : 1/40
Light Value : 12.2
Lens ID : 21.0mm