Uber Exif Photo
By-line : Studio Photo Alain DOUMONT
By-line Title : artiste photographe
Keywords : 2011, GRECE, HALKIDIKI
Copyright Notice : © ADphotography.be
Copyright Flag : True
URL : adphotography.be
Photometric Interpretation : RGB
Make : Canon
Camera Model Name : Canon EOS 5D
Orientation : Horizontal (normal)
Samples Per Pixel : 3
Planar Configuration : Chunky
Software : Adobe Photoshop CS4 Macintosh
Modify Date : 2011:11:16 17:58:04
Artist : Studio Photo Alain DOUMONT
Copyright : © ADphotography.be
Exposure Time : 1/200
F Number : 8.0
Exposure Program : Manual
ISO : 250
Date/Time Original : 2011:05:09 11:27:38
Create Date : 2011:05:09 11:27:38
Shutter Speed Value : 1/200
Aperture Value : 8.0
Exposure Compensation : 0
Max Aperture Value : 2.8
Metering Mode : Multi-segment
Focal Length : 21.0 mm
Color Space : sRGB
Exif Image Width : 1230
Exif Image Height : 923
Custom Rendered : Normal
Exposure Mode : Manual
White Balance : Auto
Scene Capture Type : Standard
Profile Description : sRGB IEC61966-2.1
Firmware : 1.1.0
Flash Compensation : 0
Image Number : 14
Lens : 21.0 mm
Lens Info : 21mm f/?
Owner Name : Studio Photo Alain DOUMONT
Serial Number : 2331203715
Already Applied : True
Blue Hue : 0
Blue Saturation : 0
Brightness : +50
Camera Profile : Adobe Standard
Chromatic Aberration B : 0
Chromatic Aberration R : 0
Clarity : +65
Color Noise Reduction : 74
Convert To Grayscale : False
Defringe : 0
Exposure : +0.95
Fill Light : 0
Green Hue : 0
Green Saturation : 0
Has Crop : False
Has Settings : True
Highlight Recovery : 0
Hue Adjustment Aqua : 0
Hue Adjustment Blue : 0
Hue Adjustment Green : 0
Hue Adjustment Magenta : 0
Hue Adjustment Orange : 0
Hue Adjustment Purple : 0
Hue Adjustment Red : 0
Hue Adjustment Yellow : 0
Luminance Adjustment Aqua : 0
Luminance Adjustment Blue : 0
Luminance Adjustment Green : 0
Luminance Adjustment Magenta : 0
Luminance Adjustment Orange : +33
Luminance Adjustment Purple : 0
Luminance Adjustment Red : +37
Luminance Adjustment Yellow : 0
Luminance Smoothing : 26
Parametric Darks : +37
Parametric Highlight Split : 75
Parametric Highlights : -100
Parametric Lights : +57
Parametric Midtone Split : 34
Parametric Shadow Split : 10
Parametric Shadows : +10
Post Crop Vignette Amount : 0
Red Hue : 0
Red Saturation : 0
Saturation Adjustment Aqua : -100
Saturation Adjustment Blue : -100
Saturation Adjustment Green : -100
Saturation Adjustment Magenta : -100
Saturation Adjustment Orange : -100
Saturation Adjustment Purple : -100
Saturation Adjustment Red : -100
Saturation Adjustment Yellow : -100
Shadow Tint : 0
Shadows : 5
Sharpen Detail : 0
Sharpen Edge Masking : 70
Sharpen Radius : +1.3
Split Toning Balance : 0
Split Toning Highlight Hue : 0
Split Toning Highlight Saturation : 0
Split Toning Shadow Hue : 0
Split Toning Shadow Saturation : 0
Color Temperature : 4900
Tint : +11
Tone Curve Name : Medium Contrast
Version : 6.4.1
Vibrance : +19
Vignette Amount : 0
Format : image/jpeg
Contrast : Normal
Saturation : High
Sharpness : Hard
Date/Time Digitized : 2011:05:09 11:27:38+02:00
Authors Position : artiste photographe
Date Created : 2011:05:09
Color Mode : RGB
ICC Profile Name : sRGB IEC61966-2.1
Creator Tool : Adobe Photoshop Lightroom 3.4.1
Rating : 3
Marked : True
Web Statement : adphotography.be
Creator City : 5060 TAMINES
Creator Country : BELGIQUE
Creator Address : 6 et 8, avenue des Français
Creator Postal Code : 5060
Creator Region : NAMUR
Creator Work Email : photoadoumont@skynet.be
Creator Work Telephone : 32 - 71 77 72 72
Creator Work URL : adphotography.be
Tone Curve : 0, 0, 32, 22, 64, 56, 128, 128, 192, 196, 255, 255
Creator : Studio Photo Alain DOUMONT
Rights : © ADphotography.be
Subject : 2011, GRECE, HALKIDIKI
Flash Fired : False
Flash Return : No return detection
Flash Mode : Off
Flash Function : False
Flash Red Eye Mode : False
Usage Terms : Tout usage et copie INTERDITS !
Image Width : 300
Image Height : 225
Bits Per Sample : 8
Color Components : 3
Aperture : 8.0
Image Size : 300x225
Megapixels : 0.068
Scale Factor To 35 mm Equivalent : 3.4
Shutter Speed : 1/200
Flash : Off, Did not fire
Circle Of Confusion : 0.009 mm
Field Of View : 28.1 deg
Focal Length : 21.0 mm (35 mm equivalent: 71.8 mm)
Hyperfocal Distance : 6.28 m
Light Value : 12.3
Lens ID : Carl Zeiss Distagon T* 21mm f/2.8 ZE