Uber Exif Photo
Copyright Notice : © ADphotography.be
Photometric Interpretation : RGB
Make : Canon
Camera Model Name : Canon EOS 5D
Orientation : Horizontal (normal)
Samples Per Pixel : 3
Planar Configuration : Chunky
Software : Adobe Photoshop CS4 Macintosh
Modify Date : 2011:11:16 17:54:54
Copyright : © ADphotography.be
Exposure Time : 1/40
F Number : 10.0
Exposure Program : Manual
ISO : 100
Date/Time Original : 2011:10:31 16:02:26
Create Date : 2011:10:31 16:02:26
Shutter Speed Value : 1/40
Aperture Value : 10.0
Exposure Compensation : 0
Max Aperture Value : 2.8
Metering Mode : Multi-segment
Light Source : Unknown
Focal Length : 21.0 mm
Color Space : sRGB
Exif Image Width : 1230
Exif Image Height : 924
Custom Rendered : Normal
Exposure Mode : Manual
White Balance : Manual
Scene Capture Type : Standard
Contrast : Normal
Saturation : Normal
Sharpness : Normal
Profile Description : sRGB IEC61966-2.1
Already Applied : True
Blue Hue : 0
Blue Saturation : 0
Brightness : +31
Camera Profile : Embedded
Chromatic Aberration B : 0
Chromatic Aberration R : 0
Clarity : -84
Color Noise Reduction : 0
Convert To Grayscale : False
Defringe : 0
Exposure : +0.20
Fill Light : 0
Green Hue : 0
Green Saturation : 0
Has Crop : False
Has Settings : True
Highlight Recovery : 0
Hue Adjustment Aqua : 0
Hue Adjustment Blue : 0
Hue Adjustment Green : 0
Hue Adjustment Magenta : 0
Hue Adjustment Orange : 0
Hue Adjustment Purple : 0
Hue Adjustment Red : 0
Hue Adjustment Yellow : 0
Incremental Temperature : 0
Incremental Tint : 0
Luminance Adjustment Aqua : 0
Luminance Adjustment Blue : 0
Luminance Adjustment Green : 0
Luminance Adjustment Magenta : 0
Luminance Adjustment Orange : 0
Luminance Adjustment Purple : 0
Luminance Adjustment Red : 0
Luminance Adjustment Yellow : 0
Luminance Smoothing : 0
Parametric Darks : -18
Parametric Highlight Split : 75
Parametric Highlights : +49
Parametric Lights : +1
Parametric Midtone Split : 50
Parametric Shadow Split : 25
Parametric Shadows : -31
Post Crop Vignette Amount : 0
Red Hue : 0
Red Saturation : 0
Saturation Adjustment Aqua : 0
Saturation Adjustment Blue : 0
Saturation Adjustment Green : 0
Saturation Adjustment Magenta : 0
Saturation Adjustment Orange : 0
Saturation Adjustment Purple : 0
Saturation Adjustment Red : 0
Saturation Adjustment Yellow : 0
Shadow Tint : 0
Shadows : 0
Sharpen Detail : 25
Sharpen Edge Masking : 0
Sharpen Radius : +1.0
Split Toning Balance : 0
Split Toning Highlight Hue : 0
Split Toning Highlight Saturation : 0
Split Toning Shadow Hue : 0
Split Toning Shadow Saturation : 0
Tone Curve Name : Linear
Version : 6.5
Vibrance : -23
Vignette Amount : 0
Format : image/jpeg
Date/Time Digitized : 2011:10:31 16:02:26+01:00
Date Created : 2011:10:31
Color Mode : RGB
ICC Profile Name : sRGB IEC61966-2.1
Creator Tool : Adobe Photoshop Lightroom 3.5 (Macintosh)
Tone Curve : 0, 0, 255, 255
Rights : © ADphotography.be
Flash Fired : False
Flash Return : No return detection
Flash Mode : Off
Flash Function : False
Flash Red Eye Mode : False
Image Width : 300
Image Height : 225
Bits Per Sample : 8
Color Components : 3
Aperture : 10.0
Image Size : 300x225
Megapixels : 0.068
Scale Factor To 35 mm Equivalent : 3.4
Shutter Speed : 1/40
Flash : Off, Did not fire
Circle Of Confusion : 0.009 mm
Field Of View : 28.1 deg
Focal Length : 21.0 mm (35 mm equivalent: 71.8 mm)
Hyperfocal Distance : 5.02 m
Light Value : 12.0