Uber Exif Photo
By-line : Studio Photo Alain DOUMONT
By-line Title : artiste photographe
Keywords : 2011, CASTELLORIZO, GRECE
Copyright Notice : © ADphotography.be
Copyright Flag : True
URL : adphotography.be
Photometric Interpretation : RGB
Make : Canon
Camera Model Name : Canon EOS 5D
Orientation : Horizontal (normal)
Samples Per Pixel : 3
Planar Configuration : Chunky
Software : Adobe Photoshop CS4 Macintosh
Modify Date : 2011:11:10 22:51:59
Artist : Studio Photo Alain DOUMONT
Copyright : © ADphotography.be
Exposure Time : 1/400
F Number : 9.0
Exposure Program : Manual
ISO : 100
Date/Time Original : 2011:09:23 12:06:47
Create Date : 2011:09:23 12:06:47
Shutter Speed Value : 1/400
Aperture Value : 9.0
Exposure Compensation : 0
Max Aperture Value : 2.0
Metering Mode : Multi-segment
Focal Length : 35.0 mm
Color Space : sRGB
Exif Image Width : 1693
Exif Image Height : 1200
Custom Rendered : Normal
Exposure Mode : Manual
White Balance : Auto
Scene Capture Type : Standard
Profile Description : sRGB IEC61966-2.1
Firmware : 1.1.0
Flash Compensation : 0
Image Number : 3
Lens : 35.0 mm
Lens Info : 35mm f/?
Owner Name : Studio Photo Alain DOUMONT
Serial Number : 2331203715
Already Applied : True
Blue Hue : 0
Blue Saturation : 0
Brightness : +50
Camera Profile : ACR 3.3
Chromatic Aberration B : 0
Chromatic Aberration R : 0
Clarity : +5
Color Noise Reduction : 25
Convert To Grayscale : False
Crop Angle : 1.96705
Crop Bottom : 1
Crop Height : 2771
Crop Left : 0.0479
Crop Right : 0.977131
Crop Top : 0
Crop Unit : pixels
Crop Width : 4156
Defringe : 0
Exposure : 0.00
Fill Light : 0
Green Hue : 0
Green Saturation : 0
Has Crop : True
Has Settings : True
Highlight Recovery : 0
Hue Adjustment Aqua : 0
Hue Adjustment Blue : 0
Hue Adjustment Green : 0
Hue Adjustment Magenta : 0
Hue Adjustment Orange : 0
Hue Adjustment Purple : 0
Hue Adjustment Red : 0
Hue Adjustment Yellow : 0
Luminance Adjustment Aqua : +100
Luminance Adjustment Blue : -100
Luminance Adjustment Green : +100
Luminance Adjustment Magenta : -100
Luminance Adjustment Orange : +100
Luminance Adjustment Purple : -100
Luminance Adjustment Red : +100
Luminance Adjustment Yellow : +77
Luminance Smoothing : 22
Parametric Darks : -15
Parametric Highlight Split : 75
Parametric Highlights : +16
Parametric Lights : +10
Parametric Midtone Split : 56
Parametric Shadow Split : 25
Parametric Shadows : -43
Post Crop Vignette Amount : -9
Post Crop Vignette Feather : 100
Post Crop Vignette Midpoint : 50
Post Crop Vignette Roundness : +100
Red Hue : 0
Red Saturation : 0
Saturation Adjustment Aqua : -100
Saturation Adjustment Blue : -100
Saturation Adjustment Green : -100
Saturation Adjustment Magenta : -100
Saturation Adjustment Orange : -100
Saturation Adjustment Purple : -100
Saturation Adjustment Red : -100
Saturation Adjustment Yellow : -100
Shadow Tint : 0
Shadows : 5
Sharpen Detail : 19
Sharpen Edge Masking : 59
Sharpen Radius : +0.6
Split Toning Balance : 0
Split Toning Highlight Hue : 0
Split Toning Highlight Saturation : 0
Split Toning Shadow Hue : 0
Split Toning Shadow Saturation : 0
Color Temperature : 6651
Tint : +14
Tone Curve Name : Medium Contrast
Version : 6.5
Vibrance : +100
Vignette Amount : 0
Format : image/jpeg
Contrast : Normal
Saturation : High
Sharpness : Hard
Date/Time Digitized : 2011:09:23 12:06:47+02:00
Authors Position : artiste photographe
Date Created : 2011:09:23
Color Mode : RGB
ICC Profile Name : sRGB IEC61966-2.1
Creator Tool : Adobe Photoshop Lightroom 3.5 (Macintosh)
Marked : True
Web Statement : adphotography.be
Tone Curve : 0, 0, 32, 22, 64, 56, 128, 128, 192, 196, 255, 255
Creator : Studio Photo Alain DOUMONT
Rights : © ADphotography.be
Subject : 2011, CASTELLORIZO, GRECE
Flash Fired : False
Flash Return : No return detection
Flash Mode : Off
Flash Function : False
Flash Red Eye Mode : False
Usage Terms : Tout usage et copie INTERDITS !
Creator City : 5060 TAMINES
Creator Country : BELGIQUE
Creator Address : 6 et 8, avenue des Français
Creator Postal Code : 5060
Creator Region : NAMUR
Creator Work Email : photoadoumont@skynet.be
Creator Work Telephone : 32 - 71 77 72 72
Creator Work URL : adphotography.be
Image Width : 300
Image Height : 213
Bits Per Sample : 8
Color Components : 3
Aperture : 9.0
Image Size : 300x213
Megapixels : 0.064
Scale Factor To 35 mm Equivalent : 2.5
Shutter Speed : 1/400
Flash : Off, Did not fire
Circle Of Confusion : 0.012 mm
Field Of View : 22.9 deg
Focal Length : 35.0 mm (35 mm equivalent: 88.7 mm)
Hyperfocal Distance : 11.48 m
Light Value : 15.0
Lens ID : Carl Zeiss Distagon T* 35mm f/2 ZE