Uber Exif Photo
By-line : Studio Photo Alain DOUMONT
By-line Title : artiste photographe
Copyright Notice : © ADphotography.be
Copyright Flag : True
URL : adphotography.be
Photometric Interpretation : RGB
Make : Canon
Camera Model Name : Canon EOS 5D
Orientation : Horizontal (normal)
Samples Per Pixel : 3
Planar Configuration : Chunky
Software : Adobe Photoshop CS4 Macintosh
Modify Date : 2011:11:02 23:05:34
Artist : Studio Photo Alain DOUMONT
Copyright : © ADphotography.be
Exposure Time : 1/60
F Number : 2.0
Exposure Program : Manual
ISO : 100
Date/Time Original : 2011:10:27 14:01:44
Create Date : 2011:10:27 14:01:44
Shutter Speed Value : 1/60
Aperture Value : 2.0
Exposure Compensation : 0
Max Aperture Value : 2.0
Metering Mode : Multi-segment
Focal Length : 35.0 mm
Color Space : sRGB
Exif Image Width : 2595
Exif Image Height : 3579
Custom Rendered : Normal
Exposure Mode : Manual
White Balance : Auto
Scene Capture Type : Standard
Profile Description : sRGB IEC61966-2.1
Firmware : 1.1.0
Flash Compensation : 0
Image Number : 4
Lens : 35.0 mm
Lens Info : 35mm f/?
Owner Name : Studio Photo Alain DOUMONT
Serial Number : 2331203715
Already Applied : True
Blue Hue : 0
Blue Saturation : 0
Brightness : +50
Camera Profile : ACR 3.3
Chromatic Aberration B : 0
Chromatic Aberration R : 0
Clarity : +47
Color Noise Reduction : 57
Convert To Grayscale : False
Defringe : 0
Exposure : 0.00
Fill Light : 0
Green Hue : 0
Green Saturation : 0
Has Crop : False
Has Settings : True
Highlight Recovery : 0
Hue Adjustment Aqua : 0
Hue Adjustment Blue : 0
Hue Adjustment Green : 0
Hue Adjustment Magenta : 0
Hue Adjustment Orange : 0
Hue Adjustment Purple : 0
Hue Adjustment Red : 0
Hue Adjustment Yellow : 0
Luminance Adjustment Aqua : 0
Luminance Adjustment Blue : +60
Luminance Adjustment Green : -63
Luminance Adjustment Magenta : -100
Luminance Adjustment Orange : -19
Luminance Adjustment Purple : -100
Luminance Adjustment Red : -84
Luminance Adjustment Yellow : -5
Luminance Smoothing : 19
Parametric Darks : -12
Parametric Highlight Split : 75
Parametric Highlights : +16
Parametric Lights : -3
Parametric Midtone Split : 63
Parametric Shadow Split : 25
Parametric Shadows : -22
Post Crop Vignette Amount : 0
Red Hue : 0
Red Saturation : 0
Saturation Adjustment Aqua : -70
Saturation Adjustment Blue : -100
Saturation Adjustment Green : -23
Saturation Adjustment Magenta : -100
Saturation Adjustment Orange : +81
Saturation Adjustment Purple : -100
Saturation Adjustment Red : 0
Saturation Adjustment Yellow : 0
Shadow Tint : 0
Shadows : 5
Sharpen Detail : 29
Sharpen Edge Masking : 17
Sharpen Radius : +0.8
Split Toning Balance : 0
Split Toning Highlight Hue : 0
Split Toning Highlight Saturation : 0
Split Toning Shadow Hue : 0
Split Toning Shadow Saturation : 0
Color Temperature : 4326
Tint : +49
Tone Curve Name : Medium Contrast
Version : 6.5
Vibrance : +56
Vignette Amount : 0
Format : image/jpeg
Contrast : Normal
Saturation : Normal
Sharpness : Hard
Date/Time Digitized : 2011:10:27 14:01:44+02:00
Authors Position : artiste photographe
Date Created : 2011:10:27
Color Mode : RGB
ICC Profile Name : sRGB IEC61966-2.1
Creator Tool : Adobe Photoshop Lightroom 3.5 (Macintosh)
Marked : True
Web Statement : adphotography.be
Creator City : 5060 TAMINES
Creator Country : BELGIQUE
Creator Address : 6 et 8, avenue des Français
Creator Postal Code : 5060
Creator Region : NAMUR
Creator Work Email : photoadoumont@skynet.be
Creator Work Telephone : 32 - 71 77 72 72
Creator Work URL : adphotography.be
Tone Curve : 0, 0, 32, 22, 64, 56, 128, 128, 192, 196, 255, 255
Creator : Studio Photo Alain DOUMONT
Rights : © ADphotography.be
Flash Fired : False
Flash Return : No return detection
Flash Mode : Off
Flash Function : False
Flash Red Eye Mode : False
Usage Terms : Tout usage et copie INTERDITS !
Image Width : 218
Image Height : 300
Bits Per Sample : 8
Color Components : 3
Aperture : 2.0
Image Size : 218x300
Megapixels : 0.065
Scale Factor To 35 mm Equivalent : 1.2
Shutter Speed : 1/60
Flash : Off, Did not fire
Circle Of Confusion : 0.025 mm
Field Of View : 46.7 deg
Focal Length : 35.0 mm (35 mm equivalent: 41.7 mm)
Hyperfocal Distance : 24.27 m
Light Value : 7.9
Lens ID : Carl Zeiss Distagon T* 35mm f/2 ZE