Uber Exif Photo
By-line : Studio Photo Alain DOUMONT
By-line Title : artiste photographe
Copyright Notice : © ADphotography.be
Copyright Flag : True
URL : adphotography.be
Photometric Interpretation : RGB
Camera Model Name : Canon EOS 5D
Orientation : Horizontal (normal)
Samples Per Pixel : 3
Planar Configuration : Chunky
Software : Adobe Photoshop CS4 Macintosh
Modify Date : 2011:11:02 19:14:18
Artist : Studio Photo Alain DOUMONT
Copyright : © ADphotography.be
Exposure Time : 1/8
F Number : 9.0
ISO : 100
Date/Time Original : 2011:11:02 15:15:22
Focal Length : 35.0 mm
Color Space : sRGB
Exif Image Width : 1541
Exif Image Height : 1066
Profile Description : sRGB IEC61966-2.1
Method : Fusion/Adjust
Accentuation : -4.1
Blending Point : -0.7
Saturation : -1.0
White Clip : 0.000000
Black Clip : 0.000000
Midtones Adjustment : -3.7
Is Pano 360 : No
Sharpness : 2.0
Firmware : 1.1.0
Flash Compensation : 0
Image Number : 4
Lens : 35.0 mm
Lens Info : 35mm f/?
Owner Name : Studio Photo Alain DOUMONT
Serial Number : 2331203715
Already Applied : True
Blue Hue : 0
Blue Saturation : 0
Brightness : +50
Camera Profile : ACR 3.3
Chromatic Aberration B : 0
Chromatic Aberration R : 0
Clarity : +37
Color Noise Reduction : 25
Convert To Grayscale : False
Defringe : 0
Exposure : 0.00
Fill Light : 0
Green Hue : 0
Green Saturation : 0
Has Crop : False
Has Settings : True
Highlight Recovery : 0
Hue Adjustment Aqua : 0
Hue Adjustment Blue : 0
Hue Adjustment Green : 0
Hue Adjustment Magenta : 0
Hue Adjustment Orange : 0
Hue Adjustment Purple : 0
Hue Adjustment Red : 0
Hue Adjustment Yellow : 0
Luminance Adjustment Aqua : 0
Luminance Adjustment Blue : 0
Luminance Adjustment Green : 0
Luminance Adjustment Magenta : 0
Luminance Adjustment Orange : 0
Luminance Adjustment Purple : 0
Luminance Adjustment Red : 0
Luminance Adjustment Yellow : 0
Luminance Smoothing : 0
Parametric Darks : -15
Parametric Highlight Split : 75
Parametric Highlights : +8
Parametric Lights : +15
Parametric Midtone Split : 57
Parametric Shadow Split : 25
Parametric Shadows : -30
Post Crop Vignette Amount : 0
Red Hue : 0
Red Saturation : 0
Saturation Adjustment Aqua : 0
Saturation Adjustment Blue : 0
Saturation Adjustment Green : 0
Saturation Adjustment Magenta : 0
Saturation Adjustment Orange : 0
Saturation Adjustment Purple : 0
Saturation Adjustment Red : 0
Saturation Adjustment Yellow : 0
Shadow Tint : 0
Shadows : 5
Sharpen Detail : 19
Sharpen Edge Masking : 17
Sharpen Radius : +0.8
Split Toning Balance : 0
Split Toning Highlight Hue : 0
Split Toning Highlight Saturation : 0
Split Toning Shadow Hue : 0
Split Toning Shadow Saturation : 0
Color Temperature : 4800
Tint : -12
Tone Curve Name : Medium Contrast
Version : 6.5
Vibrance : 0
Vignette Amount : 0
Format : image/jpeg
Contrast : Normal
Authors Position : artiste photographe
Date Created : 2011:11:02
Color Mode : RGB
ICC Profile Name : sRGB IEC61966-2.1
Create Date : 2011:11:02 15:15:10
Creator Tool : Adobe Photoshop Lightroom 3.5 (Macintosh)
Marked : True
Web Statement : adphotography.be
Creator City : 5060 TAMINES
Creator Country : BELGIQUE
Creator Address : 6 et 8, avenue des Français
Creator Postal Code : 5060
Creator Region : NAMUR
Creator Work Email : photoadoumont@skynet.be
Creator Work Telephone : 32 - 71 77 72 72
Creator Work URL : adphotography.be
Tone Curve : 0, 0, 32, 22, 64, 56, 128, 128, 192, 196, 255, 255
Creator : Studio Photo Alain DOUMONT
Rights : © ADphotography.be
Usage Terms : Tout usage et copie INTERDITS !
Image Width : 300
Image Height : 208
Bits Per Sample : 8
Color Components : 3
Aperture : 9.0
Image Size : 300x208
Megapixels : 0.062
Shutter Speed : 1/8
Light Value : 9.3
Lens ID : 35.0mm