Uber Exif Photo
Caption-Abstract : SONY DSC
Image Description : SONY DSC
Make : SONY
Camera Model Name : DSLR-A300
Software : DSLR-A300 v1.00
Modify Date : 2011:08:21 21:03:22
Exposure Time : 20
F Number : 1.7
Exposure Program : Manual
ISO : 100
Sensitivity Type : Unknown
Date/Time Original : 2010:11:02 00:41:36
Create Date : 2010:11:02 00:41:36
Shutter Speed Value : 20
Aperture Value : 1.7
Brightness Value : -4.38
Exposure Compensation : 0
Max Aperture Value : 1.7
Metering Mode : Center-weighted average
Light Source : Unknown
Focal Length : 50.0 mm
Scene Type : Directly photographed
Custom Rendered : Normal
Exposure Mode : Manual
White Balance : Auto
Focal Length In 35mm Format : 75 mm
Scene Capture Type : Standard
Contrast : Normal
Saturation : Normal
Sharpness : Normal
Lens Info : 50mm f/1.7
Lens Model : 50mm F1.7
Profile Description : sRGB IEC61966-2.1
Date/Time Digitized : 2010:11:02 00:41:36+01:00
Exif Image Width : 3611
Exif Image Height : 2442
Creator Tool : Adobe Photoshop Lightroom
Rating : 5
Lens : 50mm F1.7
Version : 6.2
Process Version : 5.7
Color Temperature : 6800
Tint : +63
Exposure : -0.41
Shadows : 8
Brightness : +12
Luminance Smoothing : 14
Color Noise Reduction : 70
Chromatic Aberration R : 0
Chromatic Aberration B : 0
Vignette Amount : -41
Vignette Midpoint : 48
Shadow Tint : 0
Red Hue : 0
Red Saturation : -34
Green Hue : 0
Green Saturation : 0
Blue Hue : 0
Blue Saturation : +63
Fill Light : 17
Highlight Recovery : 0
Clarity : 0
Defringe : 0
Gray Mixer Red : +20
Gray Mixer Orange : +6
Gray Mixer Yellow : -3
Gray Mixer Green : -19
Gray Mixer Aqua : -27
Gray Mixer Blue : -5
Gray Mixer Purple : +16
Gray Mixer Magenta : +22
Split Toning Shadow Hue : 30
Split Toning Shadow Saturation : 28
Split Toning Highlight Hue : 50
Split Toning Highlight Saturation : 66
Split Toning Balance : 0
Parametric Shadows : -20
Parametric Darks : -2
Parametric Lights : +2
Parametric Highlights : 0
Parametric Shadow Split : 25
Parametric Midtone Split : 50
Parametric Highlight Split : 75
Sharpen Radius : +0.5
Sharpen Detail : 54
Sharpen Edge Masking : 100
Post Crop Vignette Amount : 0
Grain Amount : 0
Luminance Noise Reduction Detail : 53
Color Noise Reduction Detail : 37
Luminance Noise Reduction Contrast : 100
Lens Profile Enable : 0
Lens Manual Distortion Amount : 0
Perspective Vertical : 0
Perspective Horizontal : 0
Perspective Rotate : 0.0
Perspective Scale : 100
Convert To Grayscale : True
Tone Curve Name : Linear
Camera Profile : Adobe Standard
Lens Profile Setup : LensDefaults
Has Settings : True
Crop Top : 0
Crop Left : 0.026575
Crop Bottom : 1
Crop Right : 0.931822
Crop Angle : 2.41493
Crop Constrain To Warp : 0
Crop Width : 3611
Crop Height : 2442
Crop Unit : pixels
Has Crop : True
Already Applied : True
Flash Fired : False
Flash Return : No return detection
Flash Mode : Off
Flash Function : False
Flash Red Eye Mode : False
Description : SONY DSC
Tone Curve : 0, 0, 255, 255
Image Width : 300
Image Height : 203
Bits Per Sample : 8
Color Components : 3
Aperture : 1.7
Image Size : 300x203
Megapixels : 0.061
Scale Factor To 35 mm Equivalent : 1.5
Shutter Speed : 20
Flash : Off, Did not fire
Circle Of Confusion : 0.020 mm
Field Of View : 27.0 deg
Focal Length : 50.0 mm (35 mm equivalent: 75.0 mm)
Hyperfocal Distance : 73.42 m
Light Value : -2.8
Lens ID : Minolta AF 50mm F1.7