Uber Exif Photo
By-line : unknown
Photometric Interpretation : BlackIsZero
Make : Canon
Camera Model Name : Canon EOS 20D
Orientation : Horizontal (normal)
Samples Per Pixel : 4
Software : Adobe Photoshop CS5 Macintosh
Modify Date : 2011:09:12 18:20:03
Artist : unknown
Exposure Time : 1/400
F Number : 6.3
Exposure Program : Aperture-priority AE
ISO : 400
Date/Time Original : 2011:09:10 20:52:37
Create Date : 2011:09:10 20:52:37
Shutter Speed Value : 1/400
Aperture Value : 6.3
Exposure Compensation : +5/3
Max Aperture Value : 2.0
Metering Mode : Average
Flash : Off, Did not fire
Focal Length : 100.0 mm
Color Space : Uncalibrated
Exif Image Width : 866
Exif Image Height : 693
Custom Rendered : Normal
Exposure Mode : Auto
White Balance : Auto
Scene Capture Type : Standard
Owner Name : unknown
Serial Number : 1320913116
Lens Info : 100mm f/?
Lens Model : 100.0 mm
Format : image/jpeg
Lens : 100.0 mm
Image Number : 251
Flash Compensation : 0
Firmware : 2.0.2
Rating : 3
Creator Tool : Adobe Photoshop CS5 Macintosh
Date Created : 2011:09:10 20:52:37
Color Mode : Grayscale
ICC Profile Name : Gray Gamma 2.2
Raw File Name : IMG_8187.CR2
Version : 6.4.1
Process Version : 5.7
Color Temperature : 4600
Tint : -4
Exposure : +0.25
Shadows : 46
Brightness : +23
Contrast : +79
Sharpness : 56
Luminance Smoothing : 0
Color Noise Reduction : 25
Chromatic Aberration R : 0
Chromatic Aberration B : 0
Vignette Amount : 0
Shadow Tint : 0
Red Hue : 0
Red Saturation : 0
Green Hue : 0
Green Saturation : 0
Blue Hue : 0
Blue Saturation : 0
Fill Light : 0
Highlight Recovery : 0
Clarity : +45
Defringe : 0
Gray Mixer Red : +3
Gray Mixer Orange : -15
Gray Mixer Yellow : -23
Gray Mixer Green : -29
Gray Mixer Aqua : -24
Gray Mixer Blue : +11
Gray Mixer Purple : +27
Gray Mixer Magenta : +19
Split Toning Shadow Hue : 0
Split Toning Shadow Saturation : 0
Split Toning Highlight Hue : 0
Split Toning Highlight Saturation : 0
Split Toning Balance : 0
Parametric Shadows : 0
Parametric Darks : -11
Parametric Lights : 0
Parametric Highlights : 0
Parametric Shadow Split : 25
Parametric Midtone Split : 50
Parametric Highlight Split : 75
Sharpen Radius : +1.0
Sharpen Detail : 25
Sharpen Edge Masking : 0
Post Crop Vignette Amount : 0
Grain Amount : 0
Color Noise Reduction Detail : 50
Lens Profile Enable : 0
Lens Manual Distortion Amount : 0
Perspective Vertical : 0
Perspective Horizontal : 0
Perspective Rotate : 0.0
Perspective Scale : 100
Convert To Grayscale : True
Tone Curve Name : Medium Contrast
Camera Profile : Adobe Standard
Lens Profile Setup : LensDefaults
Has Settings : True
Crop Top : 0
Crop Left : 0.157645
Crop Bottom : 1
Crop Right : 0.976042
Crop Angle : 0.506469
Crop Constrain To Warp : 1
Crop Width : 4
Crop Height : 5
Crop Unit : Unknown (3)
Has Crop : True
Already Applied : True
Creator : unknown
Tone Curve : 0, 0, 32, 22, 64, 56, 128, 128, 192, 196, 255, 255
Image Width : 300
Image Height : 240
Bits Per Sample : 8
Color Components : 1
Aperture : 6.3
Image Size : 300x240
Megapixels : 0.072
Scale Factor To 35 mm Equivalent : 1.6
Shutter Speed : 1/400
Circle Of Confusion : 0.019 mm
Field Of View : 12.8 deg
Focal Length : 100.0 mm (35 mm equivalent: 160.1 mm)
Hyperfocal Distance : 84.60 m
Light Value : 12.0
Lens ID : 100.0mm