Uber Exif Photo
Photometric Interpretation : RGB
Make : Canon
Camera Model Name : Canon EOS 6D
Orientation : Horizontal (normal)
Samples Per Pixel : 3
Planar Configuration : Chunky
Software : Adobe Photoshop CS6 (Macintosh)
Modify Date : 2013:06:27 23:01:43
Exposure Time : 6
F Number : 11.0
Exposure Program : Aperture-priority AE
ISO : 100
Sensitivity Type : Recommended Exposure Index
Recommended Exposure Index : 100
Date/Time Original : 2013:06:02 11:55:10
Create Date : 2013:06:02 11:55:10
Shutter Speed Value : 6
Aperture Value : 11.0
Exposure Compensation : 0
Max Aperture Value : 2.8
Metering Mode : Multi-segment
Flash : Off, Did not fire
Focal Length : 21.0 mm
Color Space : sRGB
Exif Image Width : 1300
Exif Image Height : 866
Custom Rendered : Normal
Exposure Mode : Auto
White Balance : Auto
Scene Capture Type : Standard
Serial Number : 023023006384
Lens Info : 21mm f/?
Lens Model : Zeiss Distagon T* 2.8/21 ZE
Lens Serial Number : 0000000000
GPS Version ID : 2.3.0.0
GPS Latitude Ref : North
GPS Longitude Ref : East
GPS Altitude Ref : Above Sea Level
GPS Time Stamp : 09:53:30
GPS Satellites : 10
GPS Status : Measurement Active
GPS Measure Mode : 3-Dimensional Measurement
GPS Dilution Of Precision : 5
GPS Map Datum : WGS-84
GPS Date Stamp : 2013:06:02
Creator Tool : Adobe Photoshop CS6 (Macintosh)
Lens : Zeiss Distagon T* 2.8/21 ZE
Image Number : 0
Flash Compensation : 0
Firmware : 1.1.3
Date Created : 2013:06:02 11:55:10.061
Color Mode : RGB
ICC Profile Name : sRGB IEC61966-2.1
Format : image/jpeg
Version : 7.4
Process Version : 6.7
Color Temperature : 8957
Tint : +53
Sharpness : 50
Luminance Smoothing : 0
Color Noise Reduction : 25
Vignette Amount : 0
Shadow Tint : 0
Red Hue : 0
Red Saturation : 0
Green Hue : 0
Green Saturation : 0
Blue Hue : 0
Blue Saturation : 0
Gray Mixer Red : -12
Gray Mixer Orange : -22
Gray Mixer Yellow : -27
Gray Mixer Green : -29
Gray Mixer Aqua : -15
Gray Mixer Blue : +20
Gray Mixer Purple : +23
Gray Mixer Magenta : +5
Split Toning Shadow Hue : 0
Split Toning Shadow Saturation : 0
Split Toning Highlight Hue : 0
Split Toning Highlight Saturation : 0
Split Toning Balance : 0
Parametric Shadows : 0
Parametric Darks : -43
Parametric Lights : +22
Parametric Highlights : 0
Parametric Shadow Split : 25
Parametric Midtone Split : 50
Parametric Highlight Split : 75
Sharpen Radius : +0.5
Sharpen Detail : 45
Sharpen Edge Masking : 21
Post Crop Vignette Amount : 0
Grain Amount : 0
Color Noise Reduction Detail : 50
Lens Profile Enable : 1
Lens Manual Distortion Amount : 0
Perspective Vertical : 0
Perspective Horizontal : 0
Perspective Rotate : 0.0
Perspective Scale : 100
Auto Lateral CA : 0
Exposure 2012 : 0.00
Contrast 2012 : 0
Highlights 2012 : -71
Shadows 2012 : +51
Whites 2012 : 0
Blacks 2012 : 0
Clarity 2012 : +14
Convert To Grayscale : True
Tone Curve Name 2012 : Linear
Camera Profile : Adobe Standard
Lens Profile Setup : LensDefaults
Lens Profile Name : Adobe (Zeiss Distagon T* 2,8/21 ZE)
Lens Profile Filename : Canon (Zeiss Distagon T 21 f28 ZE).lcp
Lens Profile Distortion Scale : 100
Lens Profile Chromatic Aberration Scale : 100
Lens Profile Vignetting Scale : 100
Has Settings : True
Crop Top : 0
Crop Left : 0.00689
Crop Bottom : 1
Crop Right : 0.984496
Crop Angle : 0.601475
Crop Constrain To Warp : 0
Crop Width : 5387
Crop Height : 3591
Crop Unit : pixels
Has Crop : True
Already Applied : True
Tone Curve PV2012 : 0, 0, 255, 255
Tone Curve PV2012 Red : 0, 0, 255, 255
Tone Curve PV2012 Green : 0, 0, 255, 255
Tone Curve PV2012 Blue : 0, 0, 255, 255
Paint Correction What : Correction
Paint Correction Amount : 1.000000
Paint Correction Active : true
Paint Correction Saturation : 0.000000
Paint Correction Sharpness : 0.000000
Paint Correction Brightness : 0.000000
Paint Correction Toning Hue : 0.000000
Paint Correction Toning Saturation : 0.000000
Paint Correction Exposure 2012 : 0.000000
Paint Correction Contrast 2012 : 0.000000
Paint Correction Highlights 2012 : 0.000000
Paint Correction Shadows 2012 : 0.614815
Paint Correction Clarity 2012 : 0.000000
Paint Correction Luminance Noise : 0.000000
Paint Correction Moire : 0.000000
Paint Correction Defringe : 0.000000
Paint Correction Temperature : 0.000000
Paint Correction Tint : 0.000000
Paint Correction Mask What : Mask/Paint
Paint Correction Mask Value : 0.752475
Paint Correction Mask Radius : 0.066256
Paint Correction Mask Flow : 1.000000
Paint Correction Mask Center Weight : 0.201922
Image Width : 300
Image Height : 200
Bits Per Sample : 8
Color Components : 1
Aperture : 11.0
Image Size : 300x200
Megapixels : 0.060
Scale Factor To 35 mm Equivalent : 4.2
Shutter Speed : 6
Create Date : 2013:06:02 11:55:10.61
Date/Time Original : 2013:06:02 11:55:10.61
GPS Altitude : 5.2 m Above Sea Level
GPS Date/Time : 2013:06:02 09:53:30Z
GPS Latitude : 36 deg 53' 49.57" N
GPS Longitude : 15 deg 8' 38.11" E
Circle Of Confusion : 0.007 mm
Field Of View : 23.0 deg
Focal Length : 21.0 mm (35 mm equivalent: 88.4 mm)
GPS Position : 36 deg 53' 49.57" N, 15 deg 8' 38.11" E
Hyperfocal Distance : 5.62 m
Light Value : 4.3
Lens ID : Carl Zeiss Distagon T* 21mm f/2.8 ZE