Uber Exif Photo
By-line : Photographer: David Aguado
Copyright Notice : Copyright: David Aguado
Make : Canon
Camera Model Name : Canon EOS 5D Mark II
Orientation : Horizontal (normal)
Software : Adobe Photoshop CS6 (Windows)
Modify Date : 2013:11:09 19:38:52
Artist : Photographer: David Aguado
Copyright : Copyright: David Aguado
Exposure Time : 60
F Number : 14.0
ISO : 50
Date/Time Original : 2013:11:09 19:00:22
Create Date : 2013:11:09 19:00:22
Shutter Speed Value : 60
Aperture Value : 14.0
Exposure Compensation : 0
Metering Mode : Multi-segment
Flash : Off, Did not fire
Focal Length : 21.0 mm
Color Space : sRGB
Exif Image Width : 1024
Exif Image Height : 682
Custom Rendered : Normal
Exposure Mode : Auto
White Balance : Auto
Scene Capture Type : Standard
Contrast : Normal
Saturation : Normal
Sharpness : Normal
Owner Name : David Aguado Martin - Forero
Serial Number : 2231320313
Lens Model : 21.0 mm
Profile Description : sRGB IEC61966-2.1
Lens : 21.0 mm
Format : image/jpeg
Creator Tool : SNS-HDR Pro v1.4.22
Rating : 0
Date Created : 2013:11:09 19:00:22
Color Mode : RGB
ICC Profile Name : sRGB IEC61966-2.1
Raw File Name : _MG_0235.tif
Version : 8.2
Process Version : 6.7
Auto White Version : 134348800
Incremental Temperature : 0
Incremental Tint : 0
Luminance Smoothing : 0
Color Noise Reduction : 0
Vignette Amount : 0
Shadow Tint : 0
Red Hue : 0
Red Saturation : 0
Green Hue : 0
Green Saturation : 0
Blue Hue : 0
Blue Saturation : 0
Vibrance : 0
Hue Adjustment Red : 0
Hue Adjustment Orange : 0
Hue Adjustment Yellow : 0
Hue Adjustment Green : 0
Hue Adjustment Aqua : 0
Hue Adjustment Blue : 0
Hue Adjustment Purple : 0
Hue Adjustment Magenta : 0
Saturation Adjustment Red : 0
Saturation Adjustment Orange : 0
Saturation Adjustment Yellow : 0
Saturation Adjustment Green : 0
Saturation Adjustment Aqua : 0
Saturation Adjustment Blue : 0
Saturation Adjustment Purple : 0
Saturation Adjustment Magenta : 0
Luminance Adjustment Red : 0
Luminance Adjustment Orange : 0
Luminance Adjustment Yellow : 0
Luminance Adjustment Green : 0
Luminance Adjustment Aqua : 0
Luminance Adjustment Blue : 0
Luminance Adjustment Purple : 0
Luminance Adjustment Magenta : 0
Split Toning Shadow Hue : 0
Split Toning Shadow Saturation : 0
Split Toning Highlight Hue : 0
Split Toning Highlight Saturation : 0
Split Toning Balance : 0
Parametric Shadows : 0
Parametric Darks : 0
Parametric Lights : 0
Parametric Highlights : 0
Parametric Shadow Split : 25
Parametric Midtone Split : 50
Parametric Highlight Split : 75
Sharpen Radius : +1.0
Sharpen Detail : 25
Sharpen Edge Masking : 0
Post Crop Vignette Amount : +6
Post Crop Vignette Midpoint : 50
Post Crop Vignette Feather : 50
Post Crop Vignette Roundness : 0
Post Crop Vignette Style : Highlight Priority
Grain Amount : 0
Lens Profile Enable : 0
Lens Manual Distortion Amount : 0
Perspective Vertical : 0
Perspective Horizontal : 0
Perspective Rotate : 0.0
Perspective Scale : 100
Perspective Aspect : 0
Perspective Upright : Off
Auto Lateral CA : 0
Exposure 2012 : 0.00
Contrast 2012 : 0
Highlights 2012 : 0
Shadows 2012 : 0
Whites 2012 : -17
Blacks 2012 : 0
Clarity 2012 : 0
Defringe Purple Amount : 0
Defringe Purple Hue Lo : 30
Defringe Purple Hue Hi : 70
Defringe Green Amount : 0
Defringe Green Hue Lo : 40
Defringe Green Hue Hi : 60
Convert To Grayscale : False
Tone Curve Name 2012 : Linear
Camera Profile : Embedded
Lens Profile Setup : LensDefaults
Has Settings : True
Has Crop : False
Already Applied : True
Creator : Photographer: David Aguado
Rights : Copyright: David Aguado
Tone Curve PV2012 : 0, 0, 255, 255
Tone Curve PV2012 Red : 0, 0, 255, 255
Tone Curve PV2012 Green : 0, 0, 255, 255
Tone Curve PV2012 Blue : 0, 0, 255, 255
Image Width : 300
Image Height : 200
Bits Per Sample : 8
Color Components : 3
Aperture : 14.0
Image Size : 300x200
Megapixels : 0.060
Scale Factor To 35 mm Equivalent : 5.4
Shutter Speed : 60
Circle Of Confusion : 0.006 mm
Field Of View : 18.2 deg
Focal Length : 21.0 mm (35 mm equivalent: 112.4 mm)
Hyperfocal Distance : 5.61 m
Light Value : 2.7
Lens ID : 21.0mm