Uber Exif Photo
By-line : Photographer: David Aguado
Copyright Notice : Copyright: David Aguado
Make : Canon
Camera Model Name : Canon EOS 5D Mark II
Orientation : Horizontal (normal)
Software : Adobe Photoshop CS6 (Windows)
Modify Date : 2013:11:08 17:34:51
Artist : Photographer: David Aguado
Copyright : Copyright: David Aguado
Exposure Time : 1/60
F Number : 3.5
Exposure Program : Manual
ISO : 400
Date/Time Original : 2011:06:02 18:19:49
Create Date : 2011:06:02 18:19:49
Shutter Speed Value : 1/60
Aperture Value : 3.5
Exposure Compensation : 0
Max Aperture Value : 2.0
Metering Mode : Spot
Flash : On, Fired
Focal Length : 50.0 mm
Color Space : sRGB
Exif Image Width : 1024
Exif Image Height : 576
Custom Rendered : Normal
Exposure Mode : Manual
White Balance : Auto
Scene Capture Type : Standard
Owner Name : David Aguado Martin - Forero
Serial Number : 2231320313
Lens Info : 50mm f/?
Lens Model : Zeiss Makro-Planar T* 2/50 ZE
Profile Description : sRGB IEC61966-2.1
Format : image/jpeg
Lens : Zeiss Makro-Planar T* 2/50 ZE
Image Number : 0
Flash Compensation : -1
Firmware : 2.0.8
Rating : 0
Creator Tool : Adobe Photoshop CS6 (Windows)
Date Created : 2011:06:02 18:19:49.079
Color Mode : RGB
ICC Profile Name : sRGB IEC61966-2.1
Raw File Name : IMG_4134.CR2
Version : 8.2
Process Version : 6.7
Auto White Version : 134348800
Color Temperature : 5900
Tint : 0
Saturation : -3
Sharpness : 37
Luminance Smoothing : 25
Color Noise Reduction : 25
Vignette Amount : 0
Shadow Tint : 0
Red Hue : 0
Red Saturation : 0
Green Hue : 0
Green Saturation : 0
Blue Hue : 0
Blue Saturation : 0
Vibrance : -3
Hue Adjustment Red : 0
Hue Adjustment Orange : 0
Hue Adjustment Yellow : 0
Hue Adjustment Green : 0
Hue Adjustment Aqua : 0
Hue Adjustment Blue : 0
Hue Adjustment Purple : 0
Hue Adjustment Magenta : 0
Saturation Adjustment Red : 0
Saturation Adjustment Orange : 0
Saturation Adjustment Yellow : 0
Saturation Adjustment Green : 0
Saturation Adjustment Aqua : 0
Saturation Adjustment Blue : 0
Saturation Adjustment Purple : 0
Saturation Adjustment Magenta : 0
Luminance Adjustment Red : 0
Luminance Adjustment Orange : 0
Luminance Adjustment Yellow : 0
Luminance Adjustment Green : 0
Luminance Adjustment Aqua : 0
Luminance Adjustment Blue : 0
Luminance Adjustment Purple : 0
Luminance Adjustment Magenta : 0
Split Toning Shadow Hue : 0
Split Toning Shadow Saturation : 0
Split Toning Highlight Hue : 0
Split Toning Highlight Saturation : 0
Split Toning Balance : 0
Parametric Shadows : 0
Parametric Darks : 0
Parametric Lights : 0
Parametric Highlights : 0
Parametric Shadow Split : 25
Parametric Midtone Split : 50
Parametric Highlight Split : 75
Sharpen Radius : +0.7
Sharpen Detail : 39
Sharpen Edge Masking : 36
Post Crop Vignette Amount : -18
Post Crop Vignette Midpoint : 50
Post Crop Vignette Feather : 50
Post Crop Vignette Roundness : 0
Post Crop Vignette Style : Highlight Priority
Post Crop Vignette Highlight Contrast : 0
Grain Amount : 0
Luminance Noise Reduction Detail : 50
Color Noise Reduction Detail : 50
Luminance Noise Reduction Contrast : 25
Color Noise Reduction Smoothness : 50
Lens Profile Enable : 1
Lens Manual Distortion Amount : 0
Perspective Vertical : 0
Perspective Horizontal : 0
Perspective Rotate : 0.0
Perspective Scale : 100
Perspective Aspect : 0
Perspective Upright : Off
Auto Lateral CA : 1
Exposure 2012 : +1.30
Contrast 2012 : +32
Highlights 2012 : 0
Shadows 2012 : 0
Whites 2012 : 0
Blacks 2012 : +26
Clarity 2012 : +32
Defringe Purple Amount : 0
Defringe Purple Hue Lo : 30
Defringe Purple Hue Hi : 70
Defringe Green Amount : 0
Defringe Green Hue Lo : 40
Defringe Green Hue Hi : 60
Convert To Grayscale : False
Tone Curve Name 2012 : Linear
Camera Profile : Adobe Standard
Lens Profile Setup : Custom
Lens Profile Name : Adobe (Zeiss Makro-Planar T* 2/50 ZE)
Lens Profile Filename : Canon (Zeiss Makro-Planar T 50 f2 ZE).lcp
Lens Profile Distortion Scale : 100
Lens Profile Chromatic Aberration Scale : 100
Lens Profile Vignetting Scale : 100
Has Settings : True
Crop Top : 0
Crop Left : 0
Crop Bottom : 0.84375
Crop Right : 1
Crop Angle : 0
Crop Constrain To Warp : 1
Crop Width : 9
Crop Height : 16
Crop Unit : Unknown (3)
Has Crop : True
Already Applied : True
Creator : Photographer: David Aguado
Rights : Copyright: David Aguado
Tone Curve PV2012 : 0, 0, 255, 255
Tone Curve PV2012 Red : 0, 0, 255, 255
Tone Curve PV2012 Green : 0, 0, 255, 255
Tone Curve PV2012 Blue : 0, 0, 255, 255
Image Width : 300
Image Height : 169
Bits Per Sample : 8
Color Components : 3
Aperture : 3.5
Image Size : 300x169
Megapixels : 0.051
Scale Factor To 35 mm Equivalent : 1.0
Shutter Speed : 1/60
Create Date : 2011:06:02 18:19:49.79
Date/Time Original : 2011:06:02 18:19:49.79
Modify Date : 2013:11:08 17:34:51.79
Circle Of Confusion : 0.031 mm
Field Of View : 40.5 deg
Focal Length : 50.0 mm (35 mm equivalent: 48.8 mm)
Hyperfocal Distance : 23.20 m
Light Value : 7.5
Lens ID : Carl Zeiss Makro-Planar T* 50mm f/2 ZE