Uber Exif Photo
By-line : Paul Marotta
By-line Title : Perfect Bokeh Photography
Copyright Notice : (C)2010 Paul Marotta, Perfect Bokeh Photography, all rights reserved
Make : NIKON CORPORATION
Camera Model Name : NIKON D700
Orientation : Horizontal (normal)
Software : Adobe Photoshop CS5 Windows
Modify Date : 2011:05:04 10:02:08
Artist : Paul Marotta
Copyright : (C)2010 Paul Marotta, Perfect Bokeh Photography, all rights reserved
Exposure Time : 1/80
F Number : 8.0
Exposure Program : Manual
ISO : 200
Sensitivity Type : Unknown
Date/Time Original : 2011:05:04 09:40:19
Create Date : 2011:05:04 09:40:19
Shutter Speed Value : 1/80
Aperture Value : 8.0
Exposure Compensation : 0
Max Aperture Value : 1.0
Metering Mode : Multi-segment
Light Source : Cloudy
Flash : No Flash
Focal Length : 50.0 mm
Color Space : Uncalibrated
Exif Image Width : 2832
Exif Image Height : 4256
Sensing Method : One-chip color area
Scene Type : Directly photographed
CFA Pattern : [Red,Green][Green,Blue]
Custom Rendered : Normal
Exposure Mode : Manual
White Balance : Manual
Digital Zoom Ratio : 1
Focal Length In 35mm Format : 50 mm
Scene Capture Type : Standard
Gain Control : None
Contrast : Normal
Saturation : Normal
Sharpness : Normal
Subject Distance Range : Unknown
Serial Number : 2371238
Profile Description : Adobe RGB (1998)
Format : image/jpeg
Authors Position : Perfect Bokeh Photography
Sidecar For Extension : NEF
Color Mode : RGB
ICC Profile Name : Adobe RGB (1998)
Date Created : 2011:05:04 09:40:19.092
Rating Percent : 0
Creator Tool : Nikon Transfer 1.1 W
Rating : 0
Image Number : 18498
Raw File Name : _DSC8460.NEF
Version : 6.3
Process Version : 5.7
Color Temperature : 5700
Tint : -8
Exposure : 0.00
Shadows : 16
Brightness : +39
Luminance Smoothing : 20
Color Noise Reduction : 25
Chromatic Aberration R : 0
Chromatic Aberration B : 0
Vignette Amount : -22
Vignette Midpoint : 43
Shadow Tint : 0
Red Hue : 0
Red Saturation : 0
Green Hue : 0
Green Saturation : 0
Blue Hue : 0
Blue Saturation : 0
Fill Light : 0
Vibrance : +9
Highlight Recovery : 23
Clarity : +9
Defringe : 0
Hue Adjustment Red : 0
Hue Adjustment Orange : 0
Hue Adjustment Yellow : 0
Hue Adjustment Green : 0
Hue Adjustment Aqua : 0
Hue Adjustment Blue : 0
Hue Adjustment Purple : 0
Hue Adjustment Magenta : 0
Saturation Adjustment Red : +37
Saturation Adjustment Orange : 0
Saturation Adjustment Yellow : 0
Saturation Adjustment Green : 0
Saturation Adjustment Aqua : 0
Saturation Adjustment Blue : 0
Saturation Adjustment Purple : 0
Saturation Adjustment Magenta : 0
Luminance Adjustment Red : -22
Luminance Adjustment Orange : 0
Luminance Adjustment Yellow : 0
Luminance Adjustment Green : -26
Luminance Adjustment Aqua : 0
Luminance Adjustment Blue : 0
Luminance Adjustment Purple : 0
Luminance Adjustment Magenta : 0
Split Toning Shadow Hue : 0
Split Toning Shadow Saturation : 0
Split Toning Highlight Hue : 0
Split Toning Highlight Saturation : 0
Split Toning Balance : 0
Parametric Shadows : -8
Parametric Darks : -8
Parametric Lights : +9
Parametric Highlights : +10
Parametric Shadow Split : 25
Parametric Midtone Split : 50
Parametric Highlight Split : 75
Sharpen Radius : +1.0
Sharpen Detail : 25
Sharpen Edge Masking : 0
Post Crop Vignette Amount : 0
Grain Amount : 0
Luminance Noise Reduction Detail : 20
Color Noise Reduction Detail : 21
Luminance Noise Reduction Contrast : 19
Lens Profile Enable : 0
Lens Manual Distortion Amount : 0
Perspective Vertical : 0
Perspective Horizontal : 0
Perspective Rotate : 0.0
Perspective Scale : 100
Convert To Grayscale : False
Tone Curve Name : Medium Contrast
Camera Profile : Adobe Standard
Lens Profile Setup : LensDefaults
Has Settings : True
Has Crop : False
Already Applied : True
Creator : Paul Marotta
Rights : (C)2010 Paul Marotta, Perfect Bokeh Photography, all rights reserved
Creator City : Arlington
Creator Country : USA
Creator Address : 51 Gardner Street
Creator Postal Code : 02474
Creator Region : MA
Creator Work Email : paulmarottacommunications@yahoo.com
Creator Work Telephone : 201-346-5399
Creator Work URL : www.perfectbokehphotography.com
Usage Terms : For consideration only, no reproduction without prior permission
Tone Curve : 0, 0, 32, 22, 64, 56, 128, 128, 192, 196, 255, 255
Paint Correction What : Correction
Paint Correction Amount : 1.000000
Paint Correction Active : true
Paint Correction Exposure : -0.050000
Paint Correction Saturation : 0.100000
Paint Correction Contrast : 0.060000
Paint Correction Clarity : 0.100000
Paint Correction Sharpness : 0.220000
Paint Correction Brightness : -0.115000
Paint Correction Toning Hue : 0.000000
Paint Correction Toning Saturation : 0.000000
Paint Correction Mask What : Mask/Paint
Paint Correction Mask Value : 0.370000
Paint Correction Mask Radius : 0.050485
Paint Correction Mask Flow : 0.951424
Paint Correction Mask Center Weight : 0.000000
Image Width : 200
Image Height : 300
Bits Per Sample : 8
Color Components : 3
Aperture : 8.0
Image Size : 200x300
Megapixels : 0.060
Scale Factor To 35 mm Equivalent : 1.0
Shutter Speed : 1/80
Create Date : 2011:05:04 09:40:19.92
Date/Time Original : 2011:05:04 09:40:19.92
Modify Date : 2011:05:04 10:02:08.92
Circle Of Confusion : 0.030 mm
Field Of View : 39.6 deg
Focal Length : 50.0 mm (35 mm equivalent: 50.0 mm)
Hyperfocal Distance : 10.40 m
Light Value : 11.3