Uber Exif Photo
By-line : Donn Anning jones
Copyright Notice : Donn Anning Jones
Caption-Abstract : Rolleiflex, Kodak film
Copyright Flag : True
Image Description : Rolleiflex, Kodak film
Make : Microtek
Camera Model Name : ScanMaker i900
Software : Adobe Photoshop Lightroom 3.6 (Macintosh)
Modify Date : 2012:12:01 17:16:32
Artist : Donn Anning jones
Copyright : Donn Anning Jones
Date/Time Original : 2011:12:01 12:00:00
Create Date : 2012:01:01 17:04:04
Profile Description : ProPhoto RGB
Format : image/jpeg
Creator Tool : Adobe Photoshop Lightroom 3.6 (Macintosh)
Rating : 1
Date Created : 2011:12:01 12:00
Marked : True
Version : 6.6
Process Version : 5.7
White Balance : As Shot
Incremental Temperature : 0
Incremental Tint : 0
Exposure : 0.00
Shadows : 0
Brightness : 0
Contrast : 0
Saturation : 0
Sharpness : 0
Luminance Smoothing : 0
Color Noise Reduction : 0
Chromatic Aberration R : 0
Chromatic Aberration B : 0
Vignette Amount : 0
Shadow Tint : 0
Red Hue : 0
Red Saturation : 0
Green Hue : 0
Green Saturation : 0
Blue Hue : 0
Blue Saturation : 0
Fill Light : 0
Vibrance : 0
Highlight Recovery : 0
Clarity : 0
Defringe : 0
Hue Adjustment Red : 0
Hue Adjustment Orange : 0
Hue Adjustment Yellow : 0
Hue Adjustment Green : 0
Hue Adjustment Aqua : 0
Hue Adjustment Blue : 0
Hue Adjustment Purple : 0
Hue Adjustment Magenta : 0
Saturation Adjustment Red : 0
Saturation Adjustment Orange : 0
Saturation Adjustment Yellow : 0
Saturation Adjustment Green : 0
Saturation Adjustment Aqua : 0
Saturation Adjustment Blue : 0
Saturation Adjustment Purple : 0
Saturation Adjustment Magenta : 0
Luminance Adjustment Red : 0
Luminance Adjustment Orange : 0
Luminance Adjustment Yellow : 0
Luminance Adjustment Green : 0
Luminance Adjustment Aqua : 0
Luminance Adjustment Blue : 0
Luminance Adjustment Purple : 0
Luminance Adjustment Magenta : 0
Split Toning Shadow Hue : 0
Split Toning Shadow Saturation : 0
Split Toning Highlight Hue : 0
Split Toning Highlight Saturation : 0
Split Toning Balance : 0
Parametric Shadows : -43
Parametric Darks : -23
Parametric Lights : -11
Parametric Highlights : +3
Parametric Shadow Split : 25
Parametric Midtone Split : 50
Parametric Highlight Split : 75
Sharpen Radius : +1.0
Sharpen Detail : 25
Sharpen Edge Masking : 0
Post Crop Vignette Amount : 0
Grain Amount : 0
Lens Profile Enable : 0
Lens Manual Distortion Amount : 0
Perspective Vertical : 0
Perspective Horizontal : 0
Perspective Rotate : 0.0
Perspective Scale : 100
Convert To Grayscale : False
Tone Curve Name : Linear
Camera Profile : Embedded
Lens Profile Setup : LensDefaults
Has Settings : True
Has Crop : False
Already Applied : True
Description : Rolleiflex, Kodak film
Creator : Donn Anning jones
Rights : Donn Anning Jones
Usage Terms : Do not use without prior written permission
Creator Region : OR
Creator City : Portland
Creator Work Email : daj@inklight.net
Tone Curve : 0, 0, 255, 255
Image Width : 282
Image Height : 300
Bits Per Sample : 8
Color Components : 3
Image Size : 282x300
Megapixels : 0.085