Uber Exif Photo
By-line : Carol How
By-line Title : Photographer
Province-State : BC
Country-Primary Location Name : Canada
Keywords : Canada, Vancouver, cityscape, lifestyle, portrait, portraiture, double exposure, scary, abstract, art, artistic, yin, yang, balance, rhythm
Copyright Notice : Copyright Carol Ann How, all rights reseved
Copyright Flag : True
Photometric Interpretation : RGB
Make : NIKON CORPORATION
Camera Model Name : NIKON D800E
Orientation : Horizontal (normal)
Samples Per Pixel : 3
Planar Configuration : Chunky
Software : Adobe Photoshop CS6 (Macintosh)
Modify Date : 2014:09:11 20:46:57
Artist : Carol How
Copyright : Copyright Carol Ann How, all rights reseved
Exposure Time : 1/200
F Number : 2.2
Exposure Program : Shutter speed priority AE
ISO : 400
Sensitivity Type : Recommended Exposure Index
Date/Time Original : 2014:09:06 16:10:16
Create Date : 2014:09:06 16:10:16
Shutter Speed Value : 1/200
Aperture Value : 2.2
Exposure Compensation : 0
Max Aperture Value : 2.0
Metering Mode : Multi-segment
Light Source : Unknown
Flash : Off, Did not fire
Focal Length : 100.0 mm
User Comment : CarolHow
Color Space : Uncalibrated
Exif Image Width : 1271
Exif Image Height : 1400
Sensing Method : One-chip color area
Scene Type : Directly photographed
CFA Pattern : [Red,Green][Green,Blue]
Custom Rendered : Normal
Exposure Mode : Auto
White Balance : Auto
Digital Zoom Ratio : 1
Focal Length In 35mm Format : 100 mm
Scene Capture Type : Standard
Gain Control : Low gain up
Contrast : Normal
Saturation : Normal
Sharpness : Normal
Subject Distance Range : Unknown
Serial Number : 5003573
Lens Info : 100mm f/2
Lens Model : Zeiss Makro-Planar T* 2/100 ZF.2
Profile Description : Adobe RGB (1998)
Creator Tool : Adobe Photoshop CS6 (Macintosh)
Rating : 0
Format : image/jpeg
Lens : Zeiss Makro-Planar T* 2/100 ZF.2
Image Number : 6956
Date Created : 2014:09:06 16:10:16.009
Color Mode : RGB
ICC Profile Name : Adobe RGB (1998)
Authors Position : Photographer
State : BC
Country : Canada
Raw File Name : _DSC6414.NEF
Version : 8.4
Process Version : 6.7
Auto White Version : 134348800
Color Temperature : 5650
Tint : -2
Luminance Smoothing : 0
Color Noise Reduction : 25
Vignette Amount : 0
Shadow Tint : 0
Red Hue : +14
Red Saturation : +7
Green Hue : 0
Green Saturation : 0
Blue Hue : -6
Blue Saturation : -6
Vibrance : 0
Hue Adjustment Red : 0
Hue Adjustment Orange : 0
Hue Adjustment Yellow : 0
Hue Adjustment Green : 0
Hue Adjustment Aqua : 0
Hue Adjustment Blue : 0
Hue Adjustment Purple : 0
Hue Adjustment Magenta : 0
Saturation Adjustment Red : 0
Saturation Adjustment Orange : 0
Saturation Adjustment Yellow : 0
Saturation Adjustment Green : 0
Saturation Adjustment Aqua : 0
Saturation Adjustment Blue : 0
Saturation Adjustment Purple : 0
Saturation Adjustment Magenta : 0
Luminance Adjustment Red : 0
Luminance Adjustment Orange : 0
Luminance Adjustment Yellow : 0
Luminance Adjustment Green : 0
Luminance Adjustment Aqua : 0
Luminance Adjustment Blue : 0
Luminance Adjustment Purple : 0
Luminance Adjustment Magenta : 0
Split Toning Shadow Hue : 0
Split Toning Shadow Saturation : 0
Split Toning Highlight Hue : 0
Split Toning Highlight Saturation : 0
Split Toning Balance : 0
Parametric Shadows : 0
Parametric Darks : 0
Parametric Lights : 0
Parametric Highlights : 0
Parametric Shadow Split : 25
Parametric Midtone Split : 50
Parametric Highlight Split : 75
Sharpen Radius : +1.0
Sharpen Detail : 25
Sharpen Edge Masking : 0
Post Crop Vignette Amount : 0
Grain Amount : 0
Color Noise Reduction Detail : 50
Color Noise Reduction Smoothness : 50
Lens Profile Enable : 1
Lens Manual Distortion Amount : 0
Perspective Vertical : 0
Perspective Horizontal : 0
Perspective Rotate : 0.0
Perspective Scale : 100
Perspective Aspect : 0
Perspective Upright : Off
Auto Lateral CA : 0
Exposure 2012 : 0.00
Contrast 2012 : +89
Highlights 2012 : -53
Shadows 2012 : +59
Whites 2012 : 0
Blacks 2012 : 0
Clarity 2012 : +48
Defringe Purple Amount : 0
Defringe Purple Hue Lo : 30
Defringe Purple Hue Hi : 70
Defringe Green Amount : 0
Defringe Green Hue Lo : 40
Defringe Green Hue Hi : 60
Convert To Grayscale : False
Tone Curve Name : Medium Contrast
Tone Curve Name 2012 : Linear
Camera Profile : Camera Landscape
Lens Profile Setup : LensDefaults
Lens Profile Name : Adobe (Zeiss Makro-Planar T* 2/100 ZF.2)
Lens Profile Filename : NIKON CORPORATION (Zeiss Makro-Planar T 2-100 ZF.2).lcp
Lens Profile Distortion Scale : 100
Lens Profile Chromatic Aberration Scale : 100
Lens Profile Vignetting Scale : 100
Has Settings : True
Crop Top : 0.017056
Crop Left : 0.019896
Crop Bottom : 0.921824
Crop Right : 0.685071
Crop Angle : 0
Crop Constrain To Warp : 1
Has Crop : True
Already Applied : True
Photographic Sensitivity : 400
Intellectual Genre : Copyright, Carol How, All rights reserved
Marked : True
Rights : Copyright Carol Ann How, all rights reseved
Creator : Carol How
Subject : Canada, Vancouver, cityscape, lifestyle, portrait, portraiture, double exposure, scary, abstract, art, artistic, yin, yang, balance, rhythm
Tone Curve : 0, 0, 32, 22, 64, 56, 128, 128, 192, 196, 255, 255
Tone Curve Red : 0, 0, 255, 255
Tone Curve Green : 0, 0, 255, 255
Tone Curve Blue : 0, 0, 255, 255
Tone Curve PV2012 : 0, 0, 255, 255
Tone Curve PV2012 Red : 0, 0, 255, 255
Tone Curve PV2012 Green : 0, 0, 255, 255
Tone Curve PV2012 Blue : 0, 0, 255, 255
Creator City : Surrey
Creator Region : BC
Creator Country : Canada
Creator Work Email : carolhow@shaw.ca; how.carol@yahoo.com
Usage Terms : all rights reserved
Location Created Sublocation : Spanish Banks
Location Created City : Vancouver
Location Created Province State : BC
Image Width : 272
Image Height : 300
Bits Per Sample : 8
Color Components : 3
Aperture : 2.2
Image Size : 272x300
Megapixels : 0.082
Scale Factor To 35 mm Equivalent : 1.0
Shutter Speed : 1/200
Date/Time Original : 2014:09:06 16:10:16.9
Circle Of Confusion : 0.030 mm
Field Of View : 20.4 deg
Focal Length : 100.0 mm (35 mm equivalent: 100.0 mm)
Hyperfocal Distance : 151.28 m
Light Value : 7.9