Uber Exif Photo
By-line : CAH
Object Name : Air Condiitoner
Keywords : air conditioning, Telus, Science World, architecture, industrial, Telus World, silver, gleam
Copyright Notice : Copyright Carol Ann How, all rights reseved
Copyright Flag : True
Make : NIKON CORPORATION
Camera Model Name : NIKON D800
Orientation : Horizontal (normal)
Software : Adobe Photoshop CS5 Macintosh
Modify Date : 2012:05:14 17:47:18
Artist : CAH
Copyright : Copyright Carol Ann How, all rights reseved
Exposure Time : 1/50
F Number : 9.0
Exposure Program : Aperture-priority AE
ISO : 100
Sensitivity Type : Recommended Exposure Index
Date/Time Original : 2012:05:05 20:53:07
Create Date : 2012:05:05 20:53:07
Shutter Speed Value : 1/50
Aperture Value : 9.0
Exposure Compensation : 0
Max Aperture Value : 1.4
Metering Mode : Center-weighted average
Light Source : Unknown
Flash : Off, Did not fire
Focal Length : 50.0 mm
Color Space : Uncalibrated
Exif Image Width : 1068
Exif Image Height : 1600
Sensing Method : One-chip color area
Scene Type : Directly photographed
CFA Pattern : [Red,Green][Green,Blue]
Custom Rendered : Normal
Exposure Mode : Auto
White Balance : Auto
Digital Zoom Ratio : 1
Focal Length In 35mm Format : 50 mm
Scene Capture Type : Standard
Gain Control : None
Contrast : Normal
Saturation : Normal
Sharpness : Normal
Subject Distance Range : Unknown
Serial Number : 5000932
Lens Info : 50mm f/1.4
Lens Model : Zeiss Planar T* 1.4/50 ZF.2
Profile Description : Adobe RGB (1998)
Format : image/jpeg
Creator Tool : Adobe Photoshop CS5 Macintosh
Rating : 0
Lens : Zeiss Planar T* 1.4/50 ZF.2
Image Number : 447
Date Created : 2012:05:05 20:53:07.007
Color Mode : RGB
ICC Profile Name : Adobe RGB (1998)
Raw File Name : _CAH1251.NEF
Version : 6.7
Process Version : 5.7
Color Temperature : 6600
Tint : +6
Exposure : 0.00
Shadows : 55
Brightness : +50
Luminance Smoothing : 35
Color Noise Reduction : 25
Vignette Amount : 0
Shadow Tint : 0
Red Hue : 0
Red Saturation : 0
Green Hue : 0
Green Saturation : 0
Blue Hue : 0
Blue Saturation : 0
Fill Light : 0
Vibrance : 0
Highlight Recovery : 100
Clarity : +40
Defringe : 0
Hue Adjustment Red : 0
Hue Adjustment Orange : 0
Hue Adjustment Yellow : 0
Hue Adjustment Green : 0
Hue Adjustment Aqua : 0
Hue Adjustment Blue : 0
Hue Adjustment Purple : 0
Hue Adjustment Magenta : 0
Saturation Adjustment Red : 0
Saturation Adjustment Orange : 0
Saturation Adjustment Yellow : 0
Saturation Adjustment Green : 0
Saturation Adjustment Aqua : 0
Saturation Adjustment Blue : 0
Saturation Adjustment Purple : 0
Saturation Adjustment Magenta : 0
Luminance Adjustment Red : 0
Luminance Adjustment Orange : 0
Luminance Adjustment Yellow : 0
Luminance Adjustment Green : 0
Luminance Adjustment Aqua : 0
Luminance Adjustment Blue : 0
Luminance Adjustment Purple : 0
Luminance Adjustment Magenta : 0
Split Toning Shadow Hue : 0
Split Toning Shadow Saturation : 0
Split Toning Highlight Hue : 0
Split Toning Highlight Saturation : 0
Split Toning Balance : 0
Parametric Shadows : 0
Parametric Darks : 0
Parametric Lights : 0
Parametric Highlights : 0
Parametric Shadow Split : 25
Parametric Midtone Split : 50
Parametric Highlight Split : 75
Sharpen Radius : +1.0
Sharpen Detail : 25
Sharpen Edge Masking : 0
Post Crop Vignette Amount : 0
Grain Amount : 0
Luminance Noise Reduction Detail : 50
Color Noise Reduction Detail : 50
Luminance Noise Reduction Contrast : 0
Lens Profile Enable : 0
Lens Manual Distortion Amount : 0
Perspective Vertical : 0
Perspective Horizontal : 0
Perspective Rotate : 0.0
Perspective Scale : 100
Auto Lateral CA : 0
Exposure 2012 : 0.00
Contrast 2012 : 0
Highlights 2012 : 0
Shadows 2012 : 0
Whites 2012 : 0
Blacks 2012 : 0
Clarity 2012 : 0
Convert To Grayscale : False
Tone Curve Name : Medium Contrast
Tone Curve Name 2012 : Linear
Camera Profile : Adobe Standard
Lens Profile Setup : LensDefaults
Has Settings : True
Has Crop : False
Already Applied : True
Marked : True
Creator : CAH
Title : Air Condiitoner
Subject : air conditioning, Telus, Science World, architecture, industrial, Telus World, silver, gleam
Rights : Copyright Carol Ann How, all rights reseved
Tone Curve : 0, 0, 32, 22, 64, 56, 128, 128, 192, 196, 255, 255
Tone Curve Red : 0, 0, 255, 255
Tone Curve Green : 0, 0, 255, 255
Tone Curve Blue : 0, 0, 255, 255
Tone Curve PV2012 : 0, 0, 255, 255
Tone Curve PV2012 Red : 0, 0, 255, 255
Tone Curve PV2012 Green : 0, 0, 255, 255
Tone Curve PV2012 Blue : 0, 0, 255, 255
Gradient Based Corr What : Correction
Gradient Based Corr Amount : 1.000000
Gradient Based Corr Active : true
Gradient Based Corr Exposure : -0.112500
Gradient Based Corr Saturation : 0.000000
Gradient Based Corr Contrast : 0.010000
Gradient Based Corr Clarity : 0.000000
Gradient Based Corr Sharpness : 0.010000
Gradient Based Corr Brightness : -0.220000
Gradient Based Corr Toning Hue : 0.000000
Gradient Based Corr Toning Saturation : 0.000000
Gradient Based Corr Exposure 2012 : 0.000000
Gradient Based Corr Contrast 2012 : 0.000000
Gradient Based Corr Highlights 2012 : 0.000000
Gradient Based Corr Shadows 2012 : 0.000000
Gradient Based Corr Clarity 2012 : 0.000000
Gradient Based Corr Luminance Noise : 0.000000
Gradient Based Corr Moire : 0.000000
Gradient Based Corr Temperature : 0.000000
Gradient Based Corr Tint : 0.000000
Gradient Based Corr Mask What : Mask/Gradient
Gradient Based Corr Mask Value : 1.000000
Gradient Based Corr Mask Zero X : 0.790924
Gradient Based Corr Mask Zero Y : 0.393204
Gradient Based Corr Mask Full X : 0.734198
Gradient Based Corr Mask Full Y : -0.038835
Image Width : 200
Image Height : 300
Bits Per Sample : 8
Color Components : 3
Aperture : 9.0
Image Size : 200x300
Megapixels : 0.060
Scale Factor To 35 mm Equivalent : 1.0
Shutter Speed : 1/50
Create Date : 2012:05:05 20:53:07.70
Date/Time Original : 2012:05:05 20:53:07.70
Modify Date : 2012:05:14 17:47:18.70
Circle Of Confusion : 0.030 mm
Field Of View : 39.6 deg
Focal Length : 50.0 mm (35 mm equivalent: 50.0 mm)
Hyperfocal Distance : 9.25 m
Light Value : 12.0