Uber Exif Photo
By-line : Carol How
By-line Title : Photographer
Object Name : Sunset Train
Keywords : Vancouver, sky train, skytrain, monorail, transportation, tracks, sunset, warm, Zeiss, ZF.2
Copyright Notice : Copyright C Ann How, all rights reseved
Copyright Flag : True
Make : NIKON CORPORATION
Camera Model Name : NIKON D300S
Orientation : Horizontal (normal)
Software : Adobe Photoshop CS5 Macintosh
Modify Date : 2012:04:29 00:50:35
Artist : Carol How
Copyright : Copyright C Ann How, all rights reseved
Exposure Time : 1/400
F Number : 8.0
Exposure Program : Aperture-priority AE
ISO : 400
Date/Time Original : 2012:04:05 19:10:09
Create Date : 2012:04:05 19:10:09
Shutter Speed Value : 1/400
Aperture Value : 8.0
Exposure Compensation : -1
Max Aperture Value : 1.4
Metering Mode : Multi-segment
Light Source : Unknown
Flash : No Flash
Focal Length : 50.0 mm
User Comment : COPYRIGHT,CAROL HOW [all rights res]
Color Space : sRGB
Exif Image Width : 1600
Exif Image Height : 1063
Sensing Method : One-chip color area
Scene Type : Directly photographed
CFA Pattern : [Red,Green][Green,Blue]
Custom Rendered : Normal
Exposure Mode : Auto
White Balance : Auto
Digital Zoom Ratio : 1
Focal Length In 35mm Format : 75 mm
Scene Capture Type : Standard
Gain Control : Low gain up
Contrast : Normal
Saturation : Normal
Sharpness : Normal
Subject Distance Range : Unknown
Profile Description : sRGB IEC61966-2.1
Creator Tool : Adobe Photoshop CS5 Macintosh
Format : image/jpeg
Serial Number : 5006253
Lens Info : 50mm f/1.4
Lens : 50.0 mm f/1.4
Image Number : 18300
Raw File Name : _CAH8316.NEF
Version : 6.0
Process Version : 5.7
Color Temperature : 6350
Tint : +8
Exposure : 0.00
Shadows : 5
Brightness : +50
Luminance Smoothing : 0
Color Noise Reduction : 25
Chromatic Aberration R : 0
Chromatic Aberration B : 0
Vignette Amount : 0
Shadow Tint : 0
Red Hue : 0
Red Saturation : 0
Green Hue : 0
Green Saturation : 0
Blue Hue : 0
Blue Saturation : 0
Fill Light : 0
Vibrance : 0
Highlight Recovery : 100
Clarity : +50
Defringe : 0
Hue Adjustment Red : 0
Hue Adjustment Orange : 0
Hue Adjustment Yellow : 0
Hue Adjustment Green : 0
Hue Adjustment Aqua : 0
Hue Adjustment Blue : 0
Hue Adjustment Purple : 0
Hue Adjustment Magenta : 0
Saturation Adjustment Red : 0
Saturation Adjustment Orange : 0
Saturation Adjustment Yellow : 0
Saturation Adjustment Green : 0
Saturation Adjustment Aqua : 0
Saturation Adjustment Blue : 0
Saturation Adjustment Purple : 0
Saturation Adjustment Magenta : 0
Luminance Adjustment Red : 0
Luminance Adjustment Orange : 0
Luminance Adjustment Yellow : 0
Luminance Adjustment Green : 0
Luminance Adjustment Aqua : 0
Luminance Adjustment Blue : 0
Luminance Adjustment Purple : 0
Luminance Adjustment Magenta : 0
Split Toning Shadow Hue : 0
Split Toning Shadow Saturation : 0
Split Toning Highlight Hue : 0
Split Toning Highlight Saturation : 0
Split Toning Balance : 0
Parametric Shadows : +50
Parametric Darks : -15
Parametric Lights : +10
Parametric Highlights : -25
Parametric Shadow Split : 25
Parametric Midtone Split : 50
Parametric Highlight Split : 75
Sharpen Radius : +1.0
Sharpen Detail : 25
Sharpen Edge Masking : 0
Post Crop Vignette Amount : 0
Grain Amount : 0
Color Noise Reduction Detail : 50
Convert To Grayscale : False
Tone Curve Name : Medium Contrast
Camera Profile : Adobe Standard
Has Settings : True
Has Crop : False
Already Applied : True
ICC Profile Name : sRGB IEC61966-2.1
Authors Position : Photographer
Color Mode : RGB
Intellectual Genre : Copyright, Carol How, All rights reserved
Marked : True
Creator : Carol How
Rights : Copyright C Ann How, all rights reseved
Title : Sunset Train
Subject : Vancouver, sky train, skytrain, monorail, transportation, tracks, sunset, warm, Zeiss, ZF.2
Tone Curve : 0, 0, 32, 22, 64, 56, 128, 128, 192, 196, 255, 255
Creator City : Surrey
Creator Region : BC
Creator Country : Canada
Creator Work Email : carolhow@shaw.ca
Creator Work URL : http://www.pbase.com/seeannimage/profile
Usage Terms : all rights reserved
Image Width : 300
Image Height : 199
Bits Per Sample : 8
Color Components : 3
Aperture : 8.0
Image Size : 300x199
Megapixels : 0.060
Scale Factor To 35 mm Equivalent : 1.5
Shutter Speed : 1/400
Create Date : 2012:04:05 19:10:09.85
Date/Time Original : 2012:04:05 19:10:09.85
Modify Date : 2012:04:29 00:50:35.85
Circle Of Confusion : 0.020 mm
Field Of View : 27.0 deg
Focal Length : 50.0 mm (35 mm equivalent: 75.0 mm)
Hyperfocal Distance : 15.60 m
Light Value : 12.6
Lens ID : 50.0mm f/1.4