Uber Exif Photo
By-line : Carol How
Object Name : Gold Notes
Keywords : Vancouver, streetscape, cityscape, street scene, night, night photography, gold golden, musician
Copyright Notice : Copyright Carol How, all rights reserved
Copyright Flag : True
Make : NIKON CORPORATION
Camera Model Name : NIKON D300S
Orientation : Horizontal (normal)
Software : Adobe Photoshop CS4 Macintosh
Modify Date : 2011:07:20 19:41:51
Artist : Carol How
Copyright : Copyright Carol How, all rights reserved
Exposure Time : 6
F Number : 10.0
Exposure Program : Aperture-priority AE
ISO : 200
Date/Time Original : 2011:07:18 21:59:19
Create Date : 2011:07:18 21:59:19
Shutter Speed Value : 6
Aperture Value : 10.0
Exposure Compensation : 0
Max Aperture Value : 1.4
Metering Mode : Multi-segment
Light Source : Unknown
Focal Length : 50.0 mm
User Comment : COPYRIGHT,CAROL HOW [all rights res]
Color Space : Uncalibrated
Exif Image Width : 1850
Exif Image Height : 1203
Sensing Method : One-chip color area
Scene Type : Directly photographed
CFA Pattern : [Red,Green][Green,Blue]
Custom Rendered : Normal
Exposure Mode : Auto
White Balance : Auto
Digital Zoom Ratio : 1
Focal Length In 35mm Format : 75 mm
Scene Capture Type : Standard
Gain Control : None
Contrast : Normal
Saturation : Normal
Sharpness : Normal
Subject Distance Range : Unknown
Profile Description : Adobe RGB (1998)
Date/Time Digitized : 2011:07:18 21:59:19.16-07:00
Creator Tool : Ver.1.01
Rating : 0
Format : image/jpeg
Serial Number : 5006253
Lens Info : 50mm f/1.4
Lens : 50.0 mm f/1.4
Image Number : 11251
Color Mode : RGB
ICC Profile Name : Adobe RGB (1998)
Raw File Name : Gold Tones.jpg
Version : 5.7
Process Version : 5.0
Incremental Temperature : 0
Incremental Tint : 0
Exposure : 0.00
Shadows : 0
Brightness : 0
Luminance Smoothing : 0
Color Noise Reduction : 0
Chromatic Aberration R : 0
Chromatic Aberration B : 0
Vignette Amount : 0
Shadow Tint : 0
Red Hue : 0
Red Saturation : 0
Green Hue : 0
Green Saturation : 0
Blue Hue : 0
Blue Saturation : 0
Fill Light : 0
Vibrance : 0
Highlight Recovery : 58
Clarity : 0
Defringe : 0
Hue Adjustment Red : 0
Hue Adjustment Orange : 0
Hue Adjustment Yellow : 0
Hue Adjustment Green : 0
Hue Adjustment Aqua : 0
Hue Adjustment Blue : 0
Hue Adjustment Purple : 0
Hue Adjustment Magenta : 0
Saturation Adjustment Red : 0
Saturation Adjustment Orange : 0
Saturation Adjustment Yellow : 0
Saturation Adjustment Green : 0
Saturation Adjustment Aqua : 0
Saturation Adjustment Blue : 0
Saturation Adjustment Purple : 0
Saturation Adjustment Magenta : 0
Luminance Adjustment Red : 0
Luminance Adjustment Orange : 0
Luminance Adjustment Yellow : 0
Luminance Adjustment Green : 0
Luminance Adjustment Aqua : 0
Luminance Adjustment Blue : 0
Luminance Adjustment Purple : 0
Luminance Adjustment Magenta : 0
Split Toning Shadow Hue : 0
Split Toning Shadow Saturation : 0
Split Toning Highlight Hue : 0
Split Toning Highlight Saturation : 0
Split Toning Balance : 0
Parametric Shadows : 0
Parametric Darks : 0
Parametric Lights : 0
Parametric Highlights : 0
Parametric Shadow Split : 25
Parametric Midtone Split : 50
Parametric Highlight Split : 75
Sharpen Radius : +1.0
Sharpen Detail : 25
Sharpen Edge Masking : 0
Post Crop Vignette Amount : 0
Grain Amount : 0
Convert To Grayscale : False
Tone Curve Name : Linear
Camera Profile : Embedded
Has Settings : True
Has Crop : False
Already Applied : True
Marked : True
Flash Fired : False
Flash Return : No return detection
Flash Mode : Unknown
Flash Function : False
Flash Red Eye Mode : False
Creator : Carol How
Rights : Copyright Carol How, all rights reserved
Title : Gold Notes
Subject : Vancouver, streetscape, cityscape, street scene, night, night photography, gold golden, musician
Tone Curve : 0, 0, 255, 255
Creator City : Surrey
Creator Region : BC
Creator Country : Canada
Creator Work Email : how.carol@yahoo.com
Image Width : 300
Image Height : 195
Bits Per Sample : 8
Color Components : 3
Aperture : 10.0
Image Size : 300x195
Megapixels : 0.059
Scale Factor To 35 mm Equivalent : 1.5
Shutter Speed : 6
Create Date : 2011:07:18 21:59:19.16
Date/Time Original : 2011:07:18 21:59:19.16
Flash : No Flash
Circle Of Confusion : 0.020 mm
Field Of View : 27.0 deg
Focal Length : 50.0 mm (35 mm equivalent: 75.0 mm)
Hyperfocal Distance : 12.48 m
Light Value : 3.1
Lens ID : 50.0mm f/1.4