Uber Exif Photo
By-line : Carol How
By-line Title : Photographer
Object Name : City Life
Keywords : Bamboo, plants, green, still life
Copyright Notice : Copyright C Ann How
Copyright Flag : True
Make : NIKON CORPORATION
Camera Model Name : NIKON D300S
Orientation : Horizontal (normal)
Software : Adobe Photoshop CS4 Macintosh
Modify Date : 2011:04:16 12:24:52
Artist : Carol How
Copyright : Copyright C Ann How
Exposure Time : 1/25
F Number : 7.1
Exposure Program : Aperture-priority AE
ISO : 200
Date/Time Original : 2011:03:02 18:36:17
Create Date : 2011:03:02 18:36:17
Shutter Speed Value : 1/25
Aperture Value : 7.1
Exposure Compensation : -1/3
Max Aperture Value : 1.4
Metering Mode : Multi-segment
Light Source : Unknown
Focal Length : 50.0 mm
Color Space : Uncalibrated
Exif Image Width : 1800
Exif Image Height : 1200
Sensing Method : One-chip color area
Scene Type : Directly photographed
CFA Pattern : [Red,Green][Green,Blue]
Custom Rendered : Normal
Exposure Mode : Auto
White Balance : Auto
Digital Zoom Ratio : 1
Focal Length In 35mm Format : 75 mm
Scene Capture Type : Standard
Gain Control : None
Contrast : Normal
Saturation : Normal
Sharpness : Normal
Subject Distance Range : Unknown
Profile Description : Adobe RGB (1998)
Date/Time Digitized : 2011:03:02 18:36:17.33-08:00
Creator Tool : Ver.1.01
Rating : 0
Serial Number : 5006253
Lens Info : 50mm f/1.4
Lens : 50.0 mm f/1.4
Image Number : 5931
Format : image/jpeg
City : Honolulu
Authors Position : Photographer
Color Mode : RGB
ICC Profile Name : Adobe RGB (1998)
Location : Pearl Harbour
Intellectual Genre : Copyright, Carol How, All rights reserved
Marked : True
Raw File Name : City Life.jpg
Version : 5.7
Process Version : 5.0
Incremental Temperature : +7
Incremental Tint : 0
Exposure : 0.00
Shadows : 0
Brightness : 0
Luminance Smoothing : 0
Color Noise Reduction : 0
Chromatic Aberration R : 0
Chromatic Aberration B : 0
Vignette Amount : 0
Shadow Tint : 0
Red Hue : 0
Red Saturation : 0
Green Hue : 0
Green Saturation : 0
Blue Hue : 0
Blue Saturation : 0
Fill Light : 0
Vibrance : -18
Highlight Recovery : 0
Clarity : +8
Defringe : 0
Hue Adjustment Red : 0
Hue Adjustment Orange : 0
Hue Adjustment Yellow : 0
Hue Adjustment Green : 0
Hue Adjustment Aqua : 0
Hue Adjustment Blue : 0
Hue Adjustment Purple : 0
Hue Adjustment Magenta : 0
Saturation Adjustment Red : 0
Saturation Adjustment Orange : 0
Saturation Adjustment Yellow : 0
Saturation Adjustment Green : 0
Saturation Adjustment Aqua : 0
Saturation Adjustment Blue : 0
Saturation Adjustment Purple : 0
Saturation Adjustment Magenta : 0
Luminance Adjustment Red : 0
Luminance Adjustment Orange : 0
Luminance Adjustment Yellow : 0
Luminance Adjustment Green : 0
Luminance Adjustment Aqua : 0
Luminance Adjustment Blue : 0
Luminance Adjustment Purple : 0
Luminance Adjustment Magenta : 0
Split Toning Shadow Hue : 0
Split Toning Shadow Saturation : 0
Split Toning Highlight Hue : 0
Split Toning Highlight Saturation : 0
Split Toning Balance : 0
Parametric Shadows : 0
Parametric Darks : 0
Parametric Lights : 0
Parametric Highlights : 0
Parametric Shadow Split : 25
Parametric Midtone Split : 50
Parametric Highlight Split : 75
Sharpen Radius : +1.0
Sharpen Detail : 25
Sharpen Edge Masking : 0
Post Crop Vignette Amount : 0
Grain Amount : 0
Convert To Grayscale : False
Tone Curve Name : Linear
Camera Profile : Embedded
Has Settings : True
Has Crop : False
Already Applied : True
Flash Fired : False
Flash Return : No return detection
Flash Mode : Unknown
Flash Function : False
Flash Red Eye Mode : False
Rights : Copyright C Ann How
Creator : Carol How
Title : City Life
Subject : Bamboo, plants, green, still life
Creator City : Surrey
Creator Region : BC
Creator Country : Canada
Creator Work Email : carolhow@shaw.ca
Creator Work URL : http://www.pbase.com/seeannimage/profile
Usage Terms : all rights reserved
Tone Curve : 0, 0, 255, 255
Image Width : 300
Image Height : 200
Bits Per Sample : 8
Color Components : 3
Aperture : 7.1
Image Size : 300x200
Megapixels : 0.060
Scale Factor To 35 mm Equivalent : 1.5
Shutter Speed : 1/25
Create Date : 2011:03:02 18:36:17.33
Date/Time Original : 2011:03:02 18:36:17.33
Flash : No Flash
Circle Of Confusion : 0.020 mm
Field Of View : 27.0 deg
Focal Length : 50.0 mm (35 mm equivalent: 75.0 mm)
Hyperfocal Distance : 17.58 m
Light Value : 9.3
Lens ID : 50.0mm f/1.4