Uber Exif Photo
By-line : Nicolas TARDIEU
Copyright Notice : Nicolas TARDIEU
Make : NIKON CORPORATION
Camera Model Name : NIKON D700
Software : Ver.1.02
Modify Date : 2011:03:29 23:32:08
Artist : Nicolas TARDIEU
Copyright : Nicolas TARDIEU
Exposure Time : 1/640
F Number : 5.6
Exposure Program : Aperture-priority AE
ISO : 200
Date/Time Original : 2011:03:29 15:58:51
Create Date : 2011:03:29 15:58:51
Shutter Speed Value : 1/640
Aperture Value : 5.6
Exposure Compensation : 0
Max Aperture Value : 1.0
Metering Mode : Multi-segment
Light Source : Unknown
Focal Length : 35.0 mm
Color Space : Uncalibrated
Sensing Method : One-chip color area
Scene Type : Directly photographed
CFA Pattern : [Red,Green][Green,Blue]
Custom Rendered : Normal
Exposure Mode : Auto
White Balance : Auto
Digital Zoom Ratio : 1
Focal Length In 35mm Format : 35 mm
Scene Capture Type : Standard
Gain Control : None
Contrast : Normal
Saturation : Normal
Sharpness : Normal
Subject Distance Range : Unknown
Image Number : 101
Lens : 0.0 mm f/0.0
Lens Info : 0mm f/0
Serial Number : 2318800
Creator : Nicolas TARDIEU
Rights : Nicolas TARDIEU
Date/Time Digitized : 2011:03:29 15:58:51.63+02:00
Flash Fired : False
Flash Function : False
Flash Mode : Unknown
Flash Red Eye Mode : False
Flash Return : No return detection
Exif Image Width : 1331
Exif Image Height : 2000
Creator Tool : Adobe Photoshop Lightroom 3.3
Already Applied : True
Blue Hue : 0
Blue Saturation : 0
Brightness : +50
Camera Profile : Adobe Standard
Chromatic Aberration B : 0
Chromatic Aberration R : 0
Clarity : +30
Color Noise Reduction : 25
Convert To Grayscale : True
Defringe : 0
Exposure : 0.00
Fill Light : 12
Gray Mixer Aqua : -65
Gray Mixer Blue : -60
Gray Mixer Green : +27
Gray Mixer Magenta : 0
Gray Mixer Orange : +54
Gray Mixer Purple : 0
Gray Mixer Red : +100
Gray Mixer Yellow : -8
Green Hue : 0
Green Saturation : 0
Has Crop : False
Has Settings : True
Highlight Recovery : 2
Luminance Smoothing : 0
Parametric Darks : -27
Parametric Highlight Split : 75
Parametric Highlights : +11
Parametric Lights : +11
Parametric Midtone Split : 50
Parametric Shadow Split : 25
Parametric Shadows : -14
Post Crop Vignette Amount : -15
Post Crop Vignette Feather : 50
Post Crop Vignette Midpoint : 50
Post Crop Vignette Roundness : 0
Red Hue : 0
Red Saturation : 0
Shadow Tint : 0
Shadows : 5
Sharpen Detail : 25
Sharpen Edge Masking : 0
Sharpen Radius : +1.0
Split Toning Balance : 0
Split Toning Highlight Hue : 0
Split Toning Highlight Saturation : 0
Split Toning Shadow Hue : 0
Split Toning Shadow Saturation : 0
Color Temperature : 4850
Tint : -5
Tone Curve : 0, 0, 32, 16, 64, 50, 128, 128, 192, 202, 255, 255
Tone Curve Name : Strong Contrast
Version : 6.3
Vignette Amount : 0
Image Width : 213
Image Height : 300
Bits Per Sample : 8
Color Components : 1
Aperture : 5.6
Image Size : 213x300
Megapixels : 0.064
Scale Factor To 35 mm Equivalent : 1.0
Shutter Speed : 1/640
Create Date : 2011:03:29 15:58:51.63
Date/Time Original : 2011:03:29 15:58:51.63
Flash : No Flash
Circle Of Confusion : 0.030 mm
Field Of View : 54.4 deg
Focal Length : 35.0 mm (35 mm equivalent: 35.0 mm)
Hyperfocal Distance : 7.28 m
Light Value : 13.3
Lens ID : 0.0mm f/0.0