Uber Exif Photo
Keywords : Zeiss Distagon T*35 f2 ZF
By-line : Nicolas TARDIEU
Copyright Notice : Nicolas TARDIEU
Make : NIKON CORPORATION
Camera Model Name : NIKON D7000
Software : Ver.1.01
Modify Date : 2011:03:16 19:07:19
Artist : Nicolas TARDIEU
Copyright : Nicolas TARDIEU
Exposure Time : 1/125
F Number : 8.0
Exposure Program : Aperture-priority AE
ISO : 100
Date/Time Original : 2011:03:13 17:09:46
Create Date : 2011:03:13 17:09:46
Shutter Speed Value : 1/125
Aperture Value : 8.0
Exposure Compensation : 0
Max Aperture Value : 1.0
Metering Mode : Multi-segment
Light Source : Unknown
Focal Length : 35.0 mm
Color Space : Uncalibrated
Sensing Method : One-chip color area
Scene Type : Directly photographed
CFA Pattern : [Red,Green][Green,Blue]
Custom Rendered : Normal
Exposure Mode : Auto
White Balance : Auto
Digital Zoom Ratio : 1
Focal Length In 35mm Format : 52 mm
Scene Capture Type : Standard
Gain Control : None
Contrast : Normal
Saturation : Normal
Sharpness : Normal
Subject Distance Range : Unknown
Profile Description : sRGB IEC61966-2.1
Image Number : 986
Lens : 0.0 mm f/0.0
Lens Info : 0mm f/0
Serial Number : 6059164
Creator : Nicolas TARDIEU
Rights : Nicolas TARDIEU
Subject : Zeiss Distagon T*35 f2 ZF
Date/Time Digitized : 2011:03:13 17:09:46.50+01:00
Flash Fired : False
Flash Function : False
Flash Mode : Off
Flash Red Eye Mode : False
Flash Return : No return detection
Exif Image Width : 2000
Exif Image Height : 1325
Creator Tool : Adobe Photoshop Lightroom 3.3
Already Applied : True
Blue Hue : 0
Blue Saturation : 0
Brightness : +50
Camera Profile : Adobe Standard
Chromatic Aberration B : 0
Chromatic Aberration R : 0
Clarity : +40
Color Noise Reduction : 25
Convert To Grayscale : False
Crop Angle : 0
Crop Bottom : 0.964912
Crop Height : 1325
Crop Left : 0
Crop Right : 0.962848
Crop Top : 0.002064
Crop Unit : pixels
Crop Width : 2000
Defringe : 0
Exposure : +0.15
Fill Light : 2
Green Hue : 0
Green Saturation : 0
Has Crop : True
Has Settings : True
Highlight Recovery : 50
Hue Adjustment Aqua : 0
Hue Adjustment Blue : 0
Hue Adjustment Green : 0
Hue Adjustment Magenta : 0
Hue Adjustment Orange : 0
Hue Adjustment Purple : 0
Hue Adjustment Red : 0
Hue Adjustment Yellow : 0
Luminance Adjustment Aqua : 0
Luminance Adjustment Blue : 0
Luminance Adjustment Green : 0
Luminance Adjustment Magenta : 0
Luminance Adjustment Orange : 0
Luminance Adjustment Purple : 0
Luminance Adjustment Red : 0
Luminance Adjustment Yellow : 0
Luminance Smoothing : 0
Parametric Darks : -18
Parametric Highlight Split : 75
Parametric Highlights : +18
Parametric Lights : +15
Parametric Midtone Split : 50
Parametric Shadow Split : 25
Parametric Shadows : -8
Post Crop Vignette Amount : -15
Post Crop Vignette Feather : 50
Post Crop Vignette Midpoint : 50
Post Crop Vignette Roundness : 0
Red Hue : 0
Red Saturation : 0
Saturation Adjustment Aqua : 0
Saturation Adjustment Blue : 0
Saturation Adjustment Green : 0
Saturation Adjustment Magenta : 0
Saturation Adjustment Orange : 0
Saturation Adjustment Purple : 0
Saturation Adjustment Red : 0
Saturation Adjustment Yellow : 0
Shadow Tint : 0
Shadows : 11
Sharpen Detail : 12
Sharpen Edge Masking : 0
Sharpen Radius : +1.0
Split Toning Balance : +32
Split Toning Highlight Hue : 52
Split Toning Highlight Saturation : 18
Split Toning Shadow Hue : 215
Split Toning Shadow Saturation : 21
Color Temperature : 6300
Tint : +10
Tone Curve : 0, 0, 32, 22, 64, 57, 128, 128, 192, 196, 255, 255
Tone Curve Name : Custom
Version : 6.3
Vibrance : +60
Vignette Amount : 0
Image Width : 300
Image Height : 212
Bits Per Sample : 8
Color Components : 3
Aperture : 8.0
Image Size : 300x212
Megapixels : 0.064
Scale Factor To 35 mm Equivalent : 1.5
Shutter Speed : 1/125
Create Date : 2011:03:13 17:09:46.50
Date/Time Original : 2011:03:13 17:09:46.50
Flash : Off, Did not fire
Circle Of Confusion : 0.020 mm
Field Of View : 38.2 deg
Focal Length : 35.0 mm (35 mm equivalent: 52.0 mm)
Hyperfocal Distance : 7.57 m
Light Value : 13.0
Lens ID : 0.0mm f/0.0