Uber Exif Photo
By-line : N.J Redman
Copyright Notice : (c) N.J. Redman 2014
Make : NIKON CORPORATION
Camera Model Name : NIKON D810
Software : Adobe Photoshop Lightroom 5.6 (Macintosh)
Modify Date : 2014:09:21 22:32:12
Artist : N.J Redman
Copyright : (c) N.J. Redman 2014
Exposure Time : 1/125
F Number : 7.1
Exposure Program : Manual
ISO : 64
Sensitivity Type : Recommended Exposure Index
Date/Time Original : 2014:09:21 20:51:58
Create Date : 2014:09:21 20:51:58
Shutter Speed Value : 1/125
Aperture Value : 7.1
Exposure Compensation : 0
Max Aperture Value : 2.0
Metering Mode : Multi-segment
Light Source : Unknown
Flash : Off, Did not fire
Focal Length : 135.0 mm
Sensing Method : One-chip color area
Scene Type : Directly photographed
CFA Pattern : [Red,Green][Green,Blue]
Custom Rendered : Normal
Exposure Mode : Manual
White Balance : Manual
Digital Zoom Ratio : 1
Focal Length In 35mm Format : 135 mm
Scene Capture Type : Standard
Gain Control : None
Contrast : Normal
Saturation : Normal
Sharpness : Soft
Subject Distance Range : Unknown
Serial Number : 6003675
Lens Info : 135mm f/2
Lens Model : Zeiss Apo Sonnar T* 2/135 ZF.2
Profile Description : sRGB IEC61966-2.1
Creator Tool : Adobe Photoshop Lightroom 5.6 (Macintosh)
Format : image/jpeg
Lens : Zeiss Apo Sonnar T* 2/135 ZF.2
Image Number : 4566
Date Created : 2014:09:21 20:51:58.033
Version : 8.6
Process Version : 6.7
Auto White Version : 134348800
Incremental Temperature : 0
Incremental Tint : 0
Luminance Smoothing : 0
Color Noise Reduction : 0
Vignette Amount : 0
Shadow Tint : 0
Red Hue : 0
Red Saturation : 0
Green Hue : 0
Green Saturation : 0
Blue Hue : 0
Blue Saturation : 0
Vibrance : 0
Hue Adjustment Red : 0
Hue Adjustment Orange : 0
Hue Adjustment Yellow : 0
Hue Adjustment Green : 0
Hue Adjustment Aqua : 0
Hue Adjustment Blue : 0
Hue Adjustment Purple : 0
Hue Adjustment Magenta : 0
Saturation Adjustment Red : 0
Saturation Adjustment Orange : 0
Saturation Adjustment Yellow : 0
Saturation Adjustment Green : 0
Saturation Adjustment Aqua : 0
Saturation Adjustment Blue : 0
Saturation Adjustment Purple : 0
Saturation Adjustment Magenta : 0
Luminance Adjustment Red : 0
Luminance Adjustment Orange : 0
Luminance Adjustment Yellow : 0
Luminance Adjustment Green : 0
Luminance Adjustment Aqua : 0
Luminance Adjustment Blue : 0
Luminance Adjustment Purple : 0
Luminance Adjustment Magenta : 0
Split Toning Shadow Hue : 0
Split Toning Shadow Saturation : 0
Split Toning Highlight Hue : 0
Split Toning Highlight Saturation : 0
Split Toning Balance : 0
Parametric Shadows : 0
Parametric Darks : 0
Parametric Lights : 0
Parametric Highlights : 0
Parametric Shadow Split : 25
Parametric Midtone Split : 50
Parametric Highlight Split : 75
Sharpen Radius : +1.0
Sharpen Detail : 25
Sharpen Edge Masking : 0
Post Crop Vignette Amount : 0
Grain Amount : 0
Lens Profile Enable : 0
Lens Manual Distortion Amount : 0
Perspective Vertical : 0
Perspective Horizontal : 0
Perspective Rotate : 0.0
Perspective Scale : 100
Perspective Aspect : 0
Perspective Upright : Off
Auto Lateral CA : 0
Exposure 2012 : 0.00
Contrast 2012 : 0
Highlights 2012 : 0
Shadows 2012 : 0
Whites 2012 : 0
Blacks 2012 : 0
Clarity 2012 : 0
Defringe Purple Amount : 0
Defringe Purple Hue Lo : 30
Defringe Purple Hue Hi : 70
Defringe Green Amount : 0
Defringe Green Hue Lo : 40
Defringe Green Hue Hi : 60
Convert To Grayscale : False
Tone Curve Name : Linear
Tone Curve Name 2012 : Linear
Camera Profile : Embedded
Lens Profile Setup : LensDefaults
Has Settings : True
Has Crop : False
Already Applied : True
Creator : N.J Redman
Rights : (c) N.J. Redman 2014
Tone Curve : 0, 0, 255, 255
Tone Curve Red : 0, 0, 255, 255
Tone Curve Green : 0, 0, 255, 255
Tone Curve Blue : 0, 0, 255, 255
Tone Curve PV2012 : 0, 0, 255, 255
Tone Curve PV2012 Red : 0, 0, 255, 255
Tone Curve PV2012 Green : 0, 0, 255, 255
Tone Curve PV2012 Blue : 0, 0, 255, 255
Circ Grad Based Corr What : Correction
Circ Grad Based Corr Amount : 1.000000
Circ Grad Based Corr Active : true
Circ Grad Based Corr Saturation : 0.000000
Circ Grad Based Corr Sharpness : 0.000000
Circ Grad Based Corr Brightness : 0.000000
Circ Grad Based Corr Toning Hue : 0.000000
Circ Grad Based Corr Toning Saturation : 0.000000
Circ Grad Based Corr Exposure 2012 : -0.368241
Circ Grad Based Corr Contrast 2012 : 0.000000
Circ Grad Based Corr Highlights 2012 : 0.000000
Circ Grad Based Corr Shadows 2012 : 0.000000
Circ Grad Based Corr Clarity 2012 : 0.000000
Circ Grad Based Corr Luminance Noise : 0.000000
Circ Grad Based Corr Moire : 0.000000
Circ Grad Based Corr Defringe : 0.000000
Circ Grad Based Corr Temperature : 0.000000
Circ Grad Based Corr Tint : 0.000000
Circ Grad Based Corr Mask What : Mask/CircularGradient
Circ Grad Based Corr Mask Value : 1.000000
Circ Grad Based Corr Mask Top : -0.055540
Circ Grad Based Corr Mask Left : 0.147160
Circ Grad Based Corr Mask Bottom : 1.051160
Circ Grad Based Corr Mask Right : 1.028470
Circ Grad Based Corr Mask Angle : 0.000000
Circ Grad Based Corr Mask Midpoint : +50
Circ Grad Based Corr Mask Roundness : 0
Circ Grad Based Corr Mask Feather : +50
Circ Grad Based Corr Mask Flipped : false
Circ Grad Based Corr Mask Version : +2
Image Width : 300
Image Height : 200
Bits Per Sample : 8
Color Components : 3
Aperture : 7.1
Image Size : 300x200
Megapixels : 0.060
Scale Factor To 35 mm Equivalent : 1.0
Shutter Speed : 1/125
Date/Time Original : 2014:09:21 20:51:58.33
Circle Of Confusion : 0.030 mm
Field Of View : 15.2 deg
Focal Length : 135.0 mm (35 mm equivalent: 135.0 mm)
Hyperfocal Distance : 85.43 m
Light Value : 13.3